Workbook

Sheet Januar
D1: Anwesenheitsliste Kindergarten | AC1: =DATE(Feiertage!$N$1,1,1) -> 46023
B3: Kiga geschlossen | AC3: =COUNTIF(D3:AB3,"X") -> 0 | AD3: Tage geschlossen
AC4: [x] Anwesend | AD4: [e] entschuldigt | AE4: [k] krank | AF4: [u] unentschuldigt | AG4: Geburtstag | AH4: Alter
B5: KW | D5: 1 | I5: =D5+1 -> 2 | N5: =I5+1 -> 3 | S5: =N5+1 -> 4 | X5: =S5+1 -> 5
D6: =D7 -> 46020 | E6: =E7 -> 46021 | F6: =F7 -> 46022 | G6: =G7 -> 46023 | H6: =H7 -> 46024 | I6: =I7 -> 46027 | J6: =J7 -> 46028 | K6: =K7 -> 46029 | ... AB6: =AB7 -> 46052
B7: Name | C7: Vorname | D7: =DATE(Feiertage!$N$1,1,1)+(D5-IF(WEEKDAY(DATE(Feiertage!$N$1,1,1),2)>4,0,1))*7+1-1+1-WEEKDAY(DATE(Feiertage!$N$1,1,1)+(D5-IF(WEEKDAY(DATE(Feiertage!$N$1,1,1),2)>4,0,1))*7,2) -> 46020 | E7: =D7+1 -> 46021 | F7: =E7+1 -> 46022 | G7: =F7+1 -> 46023 | H7: =G7+1 -> 46024 | I7: =DATE(Feiertage!$N$1,1,1)+(I5-IF(WEEKDAY(DATE(Feiertage!$N$1,1,1),2)>4,0,1))*7+1-1+1-WEEKDAY(DATE(Feiertage!$N$1,1,1)+(I5-IF(WEEKDAY(DATE(Feiertage!$N$1,1,1),2)>4,0,1))*7,2) -> 46027 | J7: =I7+1 -> 46028 | K7: =J7+1 -> 46029 | L7: =K7+1 -> 46030 | M7: =L7+1 -> 46031 | N7: =DATE(Feiertage!$N$1,1,1)+(N5-IF(WEEKDAY(DATE(Feiertage!$N$1,1,1),2)>4,0,1))*7+1-1+1-WEEKDAY(DATE(Feiertage!$N$1,1,1)+(N5-IF(WEEKDAY(DATE(Feiertage!$N$1,1,1),2)>4,0,1))*7,2) -> 46034 | O7: =N7+1 -> 46035 | P7: =O7+1 -> 46036 | Q7: =P7+1 -> 46037 | R7: =Q7+1 -> 46038 | S7: =DATE(Feiertage!$N$1,1,1)+(S5-IF(WEEKDAY(DATE(Feiertage!$N$1,1,1),2)>4,0,1))*7+1-1+1-WEEKDAY(DATE(Feiertage!$N$1,1,1)+(S5-IF(WEEKDAY(DATE(Feiertage!$N$1,1,1),2)>4,0,1))*7,2) -> 46041 | T7: =S7+1 -> 46042 | U7: =T7+1 -> 46043 | V7: =U7+1 -> 46044 | W7: =V7+1 -> 46045 | X7: =DATE(Feiertage!$N$1,1,1)+(X5-IF(WEEKDAY(DATE(Feiertage!$N$1,1,1),2)>4,0,1))*7+1-1+1-WEEKDAY(DATE(Feiertage!$N$1,1,1)+(X5-IF(WEEKDAY(DATE(Feiertage!$N$1,1,1),2)>4,0,1))*7,2) -> 46048 | Y7: =X7+1 -> 46049 | Z7: =Y7+1 -> 46050 | AA7: =Z7+1 -> 46051 | AB7: =AA7+1 -> 46052
A8: 1 | B8: Schmidt | C8: Julia | AC8: =COUNTIF(D8:AB8,"X") -> 0 | AD8: =COUNTIF(D8:AB8,"e") -> 0 | AE8: =COUNTIF(D8:AB8,"k") -> 0 | AF8: =COUNTIF(D8:AB8,"u") -> 0 | AH8: =IF(AG8="","",DATEDIF(AG8,TODAY(),"Y"))
A9: 2 | B9: Name 2 | C9: Vorname 2 | AC9: =COUNTIF(D9:AB9,"X") -> 0 | AD9: =COUNTIF(D9:AB9,"e") -> 0 | AE9: =COUNTIF(D9:AB9,"k") -> 0 | AF9: =COUNTIF(D9:AB9,"u") -> 0 | AH9: =IF(AG9="","",DATEDIF(AG9,TODAY(),"Y"))
A10: 3 | B10: Name 3 | C10: Vorname 3 | AC10: =COUNTIF(D10:AB10,"X") -> 0 | AD10: =COUNTIF(D10:AB10,"e") -> 0 | AE10: =COUNTIF(D10:AB10,"k") -> 0 | AF10: =COUNTIF(D10:AB10,"u") -> 0 | AH10: =IF(AG10="","",DATEDIF(AG10,TODAY(),"Y"))
A11: 4 | B11: Name 4 | C11: Vorname 4 | AC11: =COUNTIF(D11:AB11,"X") -> 0 | AD11: =COUNTIF(D11:AB11,"e") -> 0 | AE11: =COUNTIF(D11:AB11,"k") -> 0 | AF11: =COUNTIF(D11:AB11,"u") -> 0 | AH11: =IF(AG11="","",DATEDIF(AG11,TODAY(),"Y"))
A12: 5 | B12: Name 5 | C12: Vorname 5 | AC12: =COUNTIF(D12:AB12,"X") -> 0 | AD12: =COUNTIF(D12:AB12,"e") -> 0 | AE12: =COUNTIF(D12:AB12,"k") -> 0 | AF12: =COUNTIF(D12:AB12,"u") -> 0 | AH12: =IF(AG12="","",DATEDIF(AG12,TODAY(),"Y"))
A13: 6 | B13: Name 6 | C13: Vorname 6 | AC13: =COUNTIF(D13:AB13,"X") -> 0 | AD13: =COUNTIF(D13:AB13,"e") -> 0 | AE13: =COUNTIF(D13:AB13,"k") -> 0 | AF13: =COUNTIF(D13:AB13,"u") -> 0 | AH13: =IF(AG13="","",DATEDIF(AG13,TODAY(),"Y"))
A14: 7 | B14: Name 7 | C14: Vorname 7 | AC14: =COUNTIF(D14:AB14,"X") -> 0 | AD14: =COUNTIF(D14:AB14,"e") -> 0 | AE14: =COUNTIF(D14:AB14,"k") -> 0 | AF14: =COUNTIF(D14:AB14,"u") -> 0 | AH14: =IF(AG14="","",DATEDIF(AG14,TODAY(),"Y"))
A15: 8 | B15: Name 8 | C15: Vorname 8 | AC15: =COUNTIF(D15:AB15,"X") -> 0 | AD15: =COUNTIF(D15:AB15,"e") -> 0 | AE15: =COUNTIF(D15:AB15,"k") -> 0 | AF15: =COUNTIF(D15:AB15,"u") -> 0 | AH15: =IF(AG15="","",DATEDIF(AG15,TODAY(),"Y"))
A16: 9 | B16: Name 9 | C16: Vorname 9 | AC16: =COUNTIF(D16:AB16,"X") -> 0 | AD16: =COUNTIF(D16:AB16,"e") -> 0 | AE16: =COUNTIF(D16:AB16,"k") -> 0 | AF16: =COUNTIF(D16:AB16,"u") -> 0 | AH16: =IF(AG16="","",DATEDIF(AG16,TODAY(),"Y"))
A17: 10 | B17: Name 10 | C17: Vorname 10 | AC17: =COUNTIF(D17:AB17,"X") -> 0 | AD17: =COUNTIF(D17:AB17,"e") -> 0 | AE17: =COUNTIF(D17:AB17,"k") -> 0 | AF17: =COUNTIF(D17:AB17,"u") -> 0 | AH17: =IF(AG17="","",DATEDIF(AG17,TODAY(),"Y"))
A18: 11 | B18: Name 11 | C18: Vorname 11 | AC18: =COUNTIF(D18:AB18,"X") -> 0 | AD18: =COUNTIF(D18:AB18,"e") -> 0 | AE18: =COUNTIF(D18:AB18,"k") -> 0 | AF18: =COUNTIF(D18:AB18,"u") -> 0 | AH18: =IF(AG18="","",DATEDIF(AG18,TODAY(),"Y"))
A19: 12 | B19: Name 12 | C19: Vorname 12 | AC19: =COUNTIF(D19:AB19,"X") -> 0 | AD19: =COUNTIF(D19:AB19,"e") -> 0 | AE19: =COUNTIF(D19:AB19,"k") -> 0 | AF19: =COUNTIF(D19:AB19,"u") -> 0 | AH19: =IF(AG19="","",DATEDIF(AG19,TODAY(),"Y"))
... A42: 35 | B42: Name 35 | C42: Vorname 35 | AC42: =COUNTIF(D42:AB42,"X") -> 0 | AD42: =COUNTIF(D42:AB42,"e") -> 0 | AE42: =COUNTIF(D42:AB42,"k") -> 0 | AF42: =COUNTIF(D42:AB42,"u") -> 0 | AH42: =IF(AG42="","",DATEDIF(AG42,TODAY(),"Y"))
B43: [X] Anwesend | D43: =COUNTIF(D8:D42,"X") -> 0 | E43: =COUNTIF(E8:E42,"X") -> 0 | F43: =COUNTIF(F8:F42,"X") -> 0 | G43: =COUNTIF(G8:G42,"X") -> 0 | H43: =COUNTIF(H8:H42,"X") -> 0 | I43: =COUNTIF(I8:I42,"X") -> 0 | J43: =COUNTIF(J8:J42,"X") -> 0 | K43: =COUNTIF(K8:K42,"X") -> 0 | ... AB43: =COUNTIF(AB8:AB42,"X") -> 0
B44: [e] entschuldigt | D44: =COUNTIF(D8:D42,"e") -> 0 | E44: =COUNTIF(E8:E42,"e") -> 0 | F44: =COUNTIF(F8:F42,"e") -> 0 | G44: =COUNTIF(G8:G42,"e") -> 0 | H44: =COUNTIF(H8:H42,"e") -> 0 | I44: =COUNTIF(I8:I42,"e") -> 0 | J44: =COUNTIF(J8:J42,"e") -> 0 | K44: =COUNTIF(K8:K42,"e") -> 0 | ... AB44: =COUNTIF(AB8:AB42,"e") -> 0
B45: [k] krank | D45: =COUNTIF(D8:D42,"k") -> 0 | E45: =COUNTIF(E8:E42,"k") -> 0 | F45: =COUNTIF(F8:F42,"k") -> 0 | G45: =COUNTIF(G8:G42,"k") -> 0 | H45: =COUNTIF(H8:H42,"k") -> 0 | I45: =COUNTIF(I8:I42,"k") -> 0 | J45: =COUNTIF(J8:J42,"k") -> 0 | K45: =COUNTIF(K8:K42,"k") -> 0 | ... AB45: =COUNTIF(AB8:AB42,"k") -> 0
B46: [u] unentschuldigt | D46: =COUNTIF(D8:D42,"u") -> 0 | E46: =COUNTIF(E8:E42,"u") -> 0 | F46: =COUNTIF(F8:F42,"u") -> 0 | G46: =COUNTIF(G8:G42,"u") -> 0 | H46: =COUNTIF(H8:H42,"u") -> 0 | I46: =COUNTIF(I8:I42,"u") -> 0 | J46: =COUNTIF(J8:J42,"u") -> 0 | K46: =COUNTIF(K8:K42,"u") -> 0 | ... AB46: =COUNTIF(AB8:AB42,"u") -> 0

Sheet Februar
D1: Anwesenheitsliste Kindergarten | AC1: =DATE(Feiertage!$N$1,2,1) -> 46054
B3: Kiga geschlossen | AC3: =COUNTIF(D3:AB3,"X") -> 0 | AD3: Tage geschlossen
AC4: [x] Anwesend | AD4: [e] entschuldigt | AE4: [k] krank | AF4: [u] unentschuldigt | AG4: Geburtstag | AH4: Alter
B5: KW | D5: 6 | I5: =D5+1 -> 7 | N5: =I5+1 -> 8 | S5: =N5+1 -> 9 | X5: =S5+1 -> 10
D6: =D7 -> 46055 | E6: =E7 -> 46056 | F6: =F7 -> 46057 | G6: =G7 -> 46058 | H6: =H7 -> 46059 | I6: =I7 -> 46062 | J6: =J7 -> 46063 | K6: =K7 -> 46064 | ... AB6: =AB7 -> 46087
B7: Name | C7: Vorname | D7: =DATE(Feiertage!$N$1,1,1)+(D5-IF(WEEKDAY(DATE(Feiertage!$N$1,1,1),2)>4,0,1))*7+1-1+1-WEEKDAY(DATE(Feiertage!$N$1,1,1)+(D5-IF(WEEKDAY(DATE(Feiertage!$N$1,1,1),2)>4,0,1))*7,2) -> 46055 | E7: =D7+1 -> 46056 | F7: =E7+1 -> 46057 | G7: =F7+1 -> 46058 | H7: =G7+1 -> 46059 | I7: =DATE(Feiertage!$N$1,1,1)+(I5-IF(WEEKDAY(DATE(Feiertage!$N$1,1,1),2)>4,0,1))*7+1-1+1-WEEKDAY(DATE(Feiertage!$N$1,1,1)+(I5-IF(WEEKDAY(DATE(Feiertage!$N$1,1,1),2)>4,0,1))*7,2) -> 46062 | J7: =I7+1 -> 46063 | K7: =J7+1 -> 46064 | L7: =K7+1 -> 46065 | M7: =L7+1 -> 46066 | N7: =DATE(Feiertage!$N$1,1,1)+(N5-IF(WEEKDAY(DATE(Feiertage!$N$1,1,1),2)>4,0,1))*7+1-1+1-WEEKDAY(DATE(Feiertage!$N$1,1,1)+(N5-IF(WEEKDAY(DATE(Feiertage!$N$1,1,1),2)>4,0,1))*7,2) -> 46069 | O7: =N7+1 -> 46070 | P7: =O7+1 -> 46071 | Q7: =P7+1 -> 46072 | R7: =Q7+1 -> 46073 | S7: =DATE(Feiertage!$N$1,1,1)+(S5-IF(WEEKDAY(DATE(Feiertage!$N$1,1,1),2)>4,0,1))*7+1-1+1-WEEKDAY(DATE(Feiertage!$N$1,1,1)+(S5-IF(WEEKDAY(DATE(Feiertage!$N$1,1,1),2)>4,0,1))*7,2) -> 46076 | T7: =S7+1 -> 46077 | U7: =T7+1 -> 46078 | V7: =U7+1 -> 46079 | W7: =V7+1 -> 46080 | X7: =DATE(Feiertage!$N$1,1,1)+(X5-IF(WEEKDAY(DATE(Feiertage!$N$1,1,1),2)>4,0,1))*7+1-1+1-WEEKDAY(DATE(Feiertage!$N$1,1,1)+(X5-IF(WEEKDAY(DATE(Feiertage!$N$1,1,1),2)>4,0,1))*7,2) -> 46083 | Y7: =X7+1 -> 46084 | Z7: =Y7+1 -> 46085 | AA7: =Z7+1 -> 46086 | AB7: =AA7+1 -> 46087
A8: 1 | B8: =IF(Januar!B8="","",Januar!B8) -> Schmidt | C8: =IF(Januar!C8="","",Januar!C8) -> Julia | AC8: =COUNTIF(D8:AB8,"X") -> 0 | AD8: =COUNTIF(D8:AB8,"e") -> 0 | AE8: =COUNTIF(D8:AB8,"k") -> 0 | AF8: =COUNTIF(D8:AB8,"u") -> 0 | AG8: =IF(Januar!AG8="","",Januar!AG8) | AH8: =IF(AG8="","",DATEDIF(AG8,TODAY(),"Y"))
A9: 2 | B9: =IF(Januar!B9="","",Januar!B9) -> Name 2 | C9: =IF(Januar!C9="","",Januar!C9) -> Vorname 2 | AC9: =COUNTIF(D9:AB9,"X") -> 0 | AD9: =COUNTIF(D9:AB9,"e") -> 0 | AE9: =COUNTIF(D9:AB9,"k") -> 0 | AF9: =COUNTIF(D9:AB9,"u") -> 0 | AG9: =IF(Januar!AG9="","",Januar!AG9) | AH9: =IF(AG9="","",DATEDIF(AG9,TODAY(),"Y"))
A10: 3 | B10: =IF(Januar!B10="","",Januar!B10) -> Name 3 | C10: =IF(Januar!C10="","",Januar!C10) -> Vorname 3 | AC10: =COUNTIF(D10:AB10,"X") -> 0 | AD10: =COUNTIF(D10:AB10,"e") -> 0 | AE10: =COUNTIF(D10:AB10,"k") -> 0 | AF10: =COUNTIF(D10:AB10,"u") -> 0 | AG10: =IF(Januar!AG10="","",Januar!AG10) | AH10: =IF(AG10="","",DATEDIF(AG10,TODAY(),"Y"))
A11: 4 | B11: =IF(Januar!B11="","",Januar!B11) -> Name 4 | C11: =IF(Januar!C11="","",Januar!C11) -> Vorname 4 | AC11: =COUNTIF(D11:AB11,"X") -> 0 | AD11: =COUNTIF(D11:AB11,"e") -> 0 | AE11: =COUNTIF(D11:AB11,"k") -> 0 | AF11: =COUNTIF(D11:AB11,"u") -> 0 | AG11: =IF(Januar!AG11="","",Januar!AG11) | AH11: =IF(AG11="","",DATEDIF(AG11,TODAY(),"Y"))
A12: 5 | B12: =IF(Januar!B12="","",Januar!B12) -> Name 5 | C12: =IF(Januar!C12="","",Januar!C12) -> Vorname 5 | AC12: =COUNTIF(D12:AB12,"X") -> 0 | AD12: =COUNTIF(D12:AB12,"e") -> 0 | AE12: =COUNTIF(D12:AB12,"k") -> 0 | AF12: =COUNTIF(D12:AB12,"u") -> 0 | AG12: =IF(Januar!AG12="","",Januar!AG12) | AH12: =IF(AG12="","",DATEDIF(AG12,TODAY(),"Y"))
A13: 6 | B13: =IF(Januar!B13="","",Januar!B13) -> Name 6 | C13: =IF(Januar!C13="","",Januar!C13) -> Vorname 6 | AC13: =COUNTIF(D13:AB13,"X") -> 0 | AD13: =COUNTIF(D13:AB13,"e") -> 0 | AE13: =COUNTIF(D13:AB13,"k") -> 0 | AF13: =COUNTIF(D13:AB13,"u") -> 0 | AG13: =IF(Januar!AG13="","",Januar!AG13) | AH13: =IF(AG13="","",DATEDIF(AG13,TODAY(),"Y"))
A14: 7 | B14: =IF(Januar!B14="","",Januar!B14) -> Name 7 | C14: =IF(Januar!C14="","",Januar!C14) -> Vorname 7 | AC14: =COUNTIF(D14:AB14,"X") -> 0 | AD14: =COUNTIF(D14:AB14,"e") -> 0 | AE14: =COUNTIF(D14:AB14,"k") -> 0 | AF14: =COUNTIF(D14:AB14,"u") -> 0 | AG14: =IF(Januar!AG14="","",Januar!AG14) | AH14: =IF(AG14="","",DATEDIF(AG14,TODAY(),"Y"))
A15: 8 | B15: =IF(Januar!B15="","",Januar!B15) -> Name 8 | C15: =IF(Januar!C15="","",Januar!C15) -> Vorname 8 | AC15: =COUNTIF(D15:AB15,"X") -> 0 | AD15: =COUNTIF(D15:AB15,"e") -> 0 | AE15: =COUNTIF(D15:AB15,"k") -> 0 | AF15: =COUNTIF(D15:AB15,"u") -> 0 | AG15: =IF(Januar!AG15="","",Januar!AG15) | AH15: =IF(AG15="","",DATEDIF(AG15,TODAY(),"Y"))
A16: 9 | B16: =IF(Januar!B16="","",Januar!B16) -> Name 9 | C16: =IF(Januar!C16="","",Januar!C16) -> Vorname 9 | AC16: =COUNTIF(D16:AB16,"X") -> 0 | AD16: =COUNTIF(D16:AB16,"e") -> 0 | AE16: =COUNTIF(D16:AB16,"k") -> 0 | AF16: =COUNTIF(D16:AB16,"u") -> 0 | AG16: =IF(Januar!AG16="","",Januar!AG16) | AH16: =IF(AG16="","",DATEDIF(AG16,TODAY(),"Y"))
A17: 10 | B17: =IF(Januar!B17="","",Januar!B17) -> Name 10 | C17: =IF(Januar!C17="","",Januar!C17) -> Vorname 10 | AC17: =COUNTIF(D17:AB17,"X") -> 0 | AD17: =COUNTIF(D17:AB17,"e") -> 0 | AE17: =COUNTIF(D17:AB17,"k") -> 0 | AF17: =COUNTIF(D17:AB17,"u") -> 0 | AG17: =IF(Januar!AG17="","",Januar!AG17) | AH17: =IF(AG17="","",DATEDIF(AG17,TODAY(),"Y"))
A18: 11 | B18: =IF(Januar!B18="","",Januar!B18) -> Name 11 | C18: =IF(Januar!C18="","",Januar!C18) -> Vorname 11 | AC18: =COUNTIF(D18:AB18,"X") -> 0 | AD18: =COUNTIF(D18:AB18,"e") -> 0 | AE18: =COUNTIF(D18:AB18,"k") -> 0 | AF18: =COUNTIF(D18:AB18,"u") -> 0 | AG18: =IF(Januar!AG18="","",Januar!AG18) | AH18: =IF(AG18="","",DATEDIF(AG18,TODAY(),"Y"))
A19: 12 | B19: =IF(Januar!B19="","",Januar!B19) -> Name 12 | C19: =IF(Januar!C19="","",Januar!C19) -> Vorname 12 | AC19: =COUNTIF(D19:AB19,"X") -> 0 | AD19: =COUNTIF(D19:AB19,"e") -> 0 | AE19: =COUNTIF(D19:AB19,"k") -> 0 | AF19: =COUNTIF(D19:AB19,"u") -> 0 | AG19: =IF(Januar!AG19="","",Januar!AG19) | AH19: =IF(AG19="","",DATEDIF(AG19,TODAY(),"Y"))
... A42: 35 | B42: =IF(Januar!B42="","",Januar!B42) -> Name 35 | C42: =IF(Januar!C42="","",Januar!C42) -> Vorname 35 | AC42: =COUNTIF(D42:AB42,"X") -> 0 | AD42: =COUNTIF(D42:AB42,"e") -> 0 | AE42: =COUNTIF(D42:AB42,"k") -> 0 | AF42: =COUNTIF(D42:AB42,"u") -> 0 | AG42: =IF(Januar!AG42="","",Januar!AG42) | AH42: =IF(AG42="","",DATEDIF(AG42,TODAY(),"Y"))
B43: [X] Anwesend | D43: =COUNTIF(D8:D42,"X") -> 0 | E43: =COUNTIF(E8:E42,"X") -> 0 | F43: =COUNTIF(F8:F42,"X") -> 0 | G43: =COUNTIF(G8:G42,"X") -> 0 | H43: =COUNTIF(H8:H42,"X") -> 0 | I43: =COUNTIF(I8:I42,"X") -> 0 | J43: =COUNTIF(J8:J42,"X") -> 0 | K43: =COUNTIF(K8:K42,"X") -> 0 | ... AB43: =COUNTIF(AB8:AB42,"X") -> 0
B44: [e] entschuldigt | D44: =COUNTIF(D8:D42,"e") -> 0 | E44: =COUNTIF(E8:E42,"e") -> 0 | F44: =COUNTIF(F8:F42,"e") -> 0 | G44: =COUNTIF(G8:G42,"e") -> 0 | H44: =COUNTIF(H8:H42,"e") -> 0 | I44: =COUNTIF(I8:I42,"e") -> 0 | J44: =COUNTIF(J8:J42,"e") -> 0 | K44: =COUNTIF(K8:K42,"e") -> 0 | ... AB44: =COUNTIF(AB8:AB42,"e") -> 0
B45: [k] krank | D45: =COUNTIF(D8:D42,"k") -> 0 | E45: =COUNTIF(E8:E42,"k") -> 0 | F45: =COUNTIF(F8:F42,"k") -> 0 | G45: =COUNTIF(G8:G42,"k") -> 0 | H45: =COUNTIF(H8:H42,"k") -> 0 | I45: =COUNTIF(I8:I42,"k") -> 0 | J45: =COUNTIF(J8:J42,"k") -> 0 | K45: =COUNTIF(K8:K42,"k") -> 0 | ... AB45: =COUNTIF(AB8:AB42,"k") -> 0
B46: [u] unentschuldigt | D46: =COUNTIF(D8:D42,"u") -> 0 | E46: =COUNTIF(E8:E42,"u") -> 0 | F46: =COUNTIF(F8:F42,"u") -> 0 | G46: =COUNTIF(G8:G42,"u") -> 0 | H46: =COUNTIF(H8:H42,"u") -> 0 | I46: =COUNTIF(I8:I42,"u") -> 0 | J46: =COUNTIF(J8:J42,"u") -> 0 | K46: =COUNTIF(K8:K42,"u") -> 0 | ... AB46: =COUNTIF(AB8:AB42,"u") -> 0

Sheet März
D1: Anwesenheitsliste Kindergarten | AC1: =DATE(Feiertage!$N$1,3,1) -> 46082
B3: Kiga geschlossen | AC3: =COUNTIF(D3:AB3,"X") -> 0 | AD3: Tage geschlossen
AC4: [x] Anwesend | AD4: [e] entschuldigt | AE4: [k] krank | AF4: [u] unentschuldigt | AG4: Geburtstag | AH4: Alter
B5: KW | D5: 10 | I5: =D5+1 -> 11 | N5: =I5+1 -> 12 | S5: =N5+1 -> 13 | X5: =S5+1 -> 14
D6: =D7 -> 46083 | E6: =E7 -> 46084 | F6: =F7 -> 46085 | G6: =G7 -> 46086 | H6: =H7 -> 46087 | I6: =I7 -> 46090 | J6: =J7 -> 46091 | K6: =K7 -> 46092 | ... AB6: =AB7 -> 46115
B7: Name | C7: Vorname | D7: =DATE(Feiertage!$N$1,1,1)+(D5-IF(WEEKDAY(DATE(Feiertage!$N$1,1,1),2)>4,0,1))*7+1-1+1-WEEKDAY(DATE(Feiertage!$N$1,1,1)+(D5-IF(WEEKDAY(DATE(Feiertage!$N$1,1,1),2)>4,0,1))*7,2) -> 46083 | E7: =D7+1 -> 46084 | F7: =E7+1 -> 46085 | G7: =F7+1 -> 46086 | H7: =G7+1 -> 46087 | I7: =DATE(Feiertage!$N$1,1,1)+(I5-IF(WEEKDAY(DATE(Feiertage!$N$1,1,1),2)>4,0,1))*7+1-1+1-WEEKDAY(DATE(Feiertage!$N$1,1,1)+(I5-IF(WEEKDAY(DATE(Feiertage!$N$1,1,1),2)>4,0,1))*7,2) -> 46090 | J7: =I7+1 -> 46091 | K7: =J7+1 -> 46092 | L7: =K7+1 -> 46093 | M7: =L7+1 -> 46094 | N7: =DATE(Feiertage!$N$1,1,1)+(N5-IF(WEEKDAY(DATE(Feiertage!$N$1,1,1),2)>4,0,1))*7+1-1+1-WEEKDAY(DATE(Feiertage!$N$1,1,1)+(N5-IF(WEEKDAY(DATE(Feiertage!$N$1,1,1),2)>4,0,1))*7,2) -> 46097 | O7: =N7+1 -> 46098 | P7: =O7+1 -> 46099 | Q7: =P7+1 -> 46100 | R7: =Q7+1 -> 46101 | S7: =DATE(Feiertage!$N$1,1,1)+(S5-IF(WEEKDAY(DATE(Feiertage!$N$1,1,1),2)>4,0,1))*7+1-1+1-WEEKDAY(DATE(Feiertage!$N$1,1,1)+(S5-IF(WEEKDAY(DATE(Feiertage!$N$1,1,1),2)>4,0,1))*7,2) -> 46104 | T7: =S7+1 -> 46105 | U7: =T7+1 -> 46106 | V7: =U7+1 -> 46107 | W7: =V7+1 -> 46108 | X7: =DATE(Feiertage!$N$1,1,1)+(X5-IF(WEEKDAY(DATE(Feiertage!$N$1,1,1),2)>4,0,1))*7+1-1+1-WEEKDAY(DATE(Feiertage!$N$1,1,1)+(X5-IF(WEEKDAY(DATE(Feiertage!$N$1,1,1),2)>4,0,1))*7,2) -> 46111 | Y7: =X7+1 -> 46112 | Z7: =Y7+1 -> 46113 | AA7: =Z7+1 -> 46114 | AB7: =AA7+1 -> 46115
A8: 1 | B8: =IF(Februar!B8="","",Februar!B8) -> Schmidt | C8: =IF(Februar!C8="","",Februar!C8) -> Julia | AC8: =COUNTIF(D8:AB8,"X") -> 0 | AD8: =COUNTIF(D8:AB8,"e") -> 0 | AE8: =COUNTIF(D8:AB8,"k") -> 0 | AF8: =COUNTIF(D8:AB8,"u") -> 0 | AG8: =IF(Februar!AG8="","",Februar!AG8) | AH8: =IF(AG8="","",DATEDIF(AG8,TODAY(),"Y"))
A9: 2 | B9: =IF(Februar!B9="","",Februar!B9) -> Name 2 | C9: =IF(Februar!C9="","",Februar!C9) -> Vorname 2 | AC9: =COUNTIF(D9:AB9,"X") -> 0 | AD9: =COUNTIF(D9:AB9,"e") -> 0 | AE9: =COUNTIF(D9:AB9,"k") -> 0 | AF9: =COUNTIF(D9:AB9,"u") -> 0 | AG9: =IF(Februar!AG9="","",Februar!AG9) | AH9: =IF(AG9="","",DATEDIF(AG9,TODAY(),"Y"))
A10: 3 | B10: =IF(Februar!B10="","",Februar!B10) -> Name 3 | C10: =IF(Februar!C10="","",Februar!C10) -> Vorname 3 | AC10: =COUNTIF(D10:AB10,"X") -> 0 | AD10: =COUNTIF(D10:AB10,"e") -> 0 | AE10: =COUNTIF(D10:AB10,"k") -> 0 | AF10: =COUNTIF(D10:AB10,"u") -> 0 | AG10: =IF(Februar!AG10="","",Februar!AG10) | AH10: =IF(AG10="","",DATEDIF(AG10,TODAY(),"Y"))
A11: 4 | B11: =IF(Februar!B11="","",Februar!B11) -> Name 4 | C11: =IF(Februar!C11="","",Februar!C11) -> Vorname 4 | AC11: =COUNTIF(D11:AB11,"X") -> 0 | AD11: =COUNTIF(D11:AB11,"e") -> 0 | AE11: =COUNTIF(D11:AB11,"k") -> 0 | AF11: =COUNTIF(D11:AB11,"u") -> 0 | AG11: =IF(Februar!AG11="","",Februar!AG11) | AH11: =IF(AG11="","",DATEDIF(AG11,TODAY(),"Y"))
A12: 5 | B12: =IF(Februar!B12="","",Februar!B12) -> Name 5 | C12: =IF(Februar!C12="","",Februar!C12) -> Vorname 5 | AC12: =COUNTIF(D12:AB12,"X") -> 0 | AD12: =COUNTIF(D12:AB12,"e") -> 0 | AE12: =COUNTIF(D12:AB12,"k") -> 0 | AF12: =COUNTIF(D12:AB12,"u") -> 0 | AG12: =IF(Februar!AG12="","",Februar!AG12) | AH12: =IF(AG12="","",DATEDIF(AG12,TODAY(),"Y"))
A13: 6 | B13: =IF(Februar!B13="","",Februar!B13) -> Name 6 | C13: =IF(Februar!C13="","",Februar!C13) -> Vorname 6 | AC13: =COUNTIF(D13:AB13,"X") -> 0 | AD13: =COUNTIF(D13:AB13,"e") -> 0 | AE13: =COUNTIF(D13:AB13,"k") -> 0 | AF13: =COUNTIF(D13:AB13,"u") -> 0 | AG13: =IF(Februar!AG13="","",Februar!AG13) | AH13: =IF(AG13="","",DATEDIF(AG13,TODAY(),"Y"))
A14: 7 | B14: =IF(Februar!B14="","",Februar!B14) -> Name 7 | C14: =IF(Februar!C14="","",Februar!C14) -> Vorname 7 | AC14: =COUNTIF(D14:AB14,"X") -> 0 | AD14: =COUNTIF(D14:AB14,"e") -> 0 | AE14: =COUNTIF(D14:AB14,"k") -> 0 | AF14: =COUNTIF(D14:AB14,"u") -> 0 | AG14: =IF(Februar!AG14="","",Februar!AG14) | AH14: =IF(AG14="","",DATEDIF(AG14,TODAY(),"Y"))
A15: 8 | B15: =IF(Februar!B15="","",Februar!B15) -> Name 8 | C15: =IF(Februar!C15="","",Februar!C15) -> Vorname 8 | AC15: =COUNTIF(D15:AB15,"X") -> 0 | AD15: =COUNTIF(D15:AB15,"e") -> 0 | AE15: =COUNTIF(D15:AB15,"k") -> 0 | AF15: =COUNTIF(D15:AB15,"u") -> 0 | AG15: =IF(Februar!AG15="","",Februar!AG15) | AH15: =IF(AG15="","",DATEDIF(AG15,TODAY(),"Y"))
A16: 9 | B16: =IF(Februar!B16="","",Februar!B16) -> Name 9 | C16: =IF(Februar!C16="","",Februar!C16) -> Vorname 9 | AC16: =COUNTIF(D16:AB16,"X") -> 0 | AD16: =COUNTIF(D16:AB16,"e") -> 0 | AE16: =COUNTIF(D16:AB16,"k") -> 0 | AF16: =COUNTIF(D16:AB16,"u") -> 0 | AG16: =IF(Februar!AG16="","",Februar!AG16) | AH16: =IF(AG16="","",DATEDIF(AG16,TODAY(),"Y"))
A17: 10 | B17: =IF(Februar!B17="","",Februar!B17) -> Name 10 | C17: =IF(Februar!C17="","",Februar!C17) -> Vorname 10 | AC17: =COUNTIF(D17:AB17,"X") -> 0 | AD17: =COUNTIF(D17:AB17,"e") -> 0 | AE17: =COUNTIF(D17:AB17,"k") -> 0 | AF17: =COUNTIF(D17:AB17,"u") -> 0 | AG17: =IF(Februar!AG17="","",Februar!AG17) | AH17: =IF(AG17="","",DATEDIF(AG17,TODAY(),"Y"))
A18: 11 | B18: =IF(Februar!B18="","",Februar!B18) -> Name 11 | C18: =IF(Februar!C18="","",Februar!C18) -> Vorname 11 | AC18: =COUNTIF(D18:AB18,"X") -> 0 | AD18: =COUNTIF(D18:AB18,"e") -> 0 | AE18: =COUNTIF(D18:AB18,"k") -> 0 | AF18: =COUNTIF(D18:AB18,"u") -> 0 | AG18: =IF(Februar!AG18="","",Februar!AG18) | AH18: =IF(AG18="","",DATEDIF(AG18,TODAY(),"Y"))
A19: 12 | B19: =IF(Februar!B19="","",Februar!B19) -> Name 12 | C19: =IF(Februar!C19="","",Februar!C19) -> Vorname 12 | AC19: =COUNTIF(D19:AB19,"X") -> 0 | AD19: =COUNTIF(D19:AB19,"e") -> 0 | AE19: =COUNTIF(D19:AB19,"k") -> 0 | AF19: =COUNTIF(D19:AB19,"u") -> 0 | AG19: =IF(Februar!AG19="","",Februar!AG19) | AH19: =IF(AG19="","",DATEDIF(AG19,TODAY(),"Y"))
... A42: 35 | B42: =IF(Februar!B42="","",Februar!B42) -> Name 35 | C42: =IF(Februar!C42="","",Februar!C42) -> Vorname 35 | AC42: =COUNTIF(D42:AB42,"X") -> 0 | AD42: =COUNTIF(D42:AB42,"e") -> 0 | AE42: =COUNTIF(D42:AB42,"k") -> 0 | AF42: =COUNTIF(D42:AB42,"u") -> 0 | AG42: =IF(Februar!AG42="","",Februar!AG42) | AH42: =IF(AG42="","",DATEDIF(AG42,TODAY(),"Y"))
B43: [X] Anwesend | D43: =COUNTIF(D8:D42,"X") -> 0 | E43: =COUNTIF(E8:E42,"X") -> 0 | F43: =COUNTIF(F8:F42,"X") -> 0 | G43: =COUNTIF(G8:G42,"X") -> 0 | H43: =COUNTIF(H8:H42,"X") -> 0 | I43: =COUNTIF(I8:I42,"X") -> 0 | J43: =COUNTIF(J8:J42,"X") -> 0 | K43: =COUNTIF(K8:K42,"X") -> 0 | ... AB43: =COUNTIF(AB8:AB42,"X") -> 0
B44: [e] entschuldigt | D44: =COUNTIF(D8:D42,"e") -> 0 | E44: =COUNTIF(E8:E42,"e") -> 0 | F44: =COUNTIF(F8:F42,"e") -> 0 | G44: =COUNTIF(G8:G42,"e") -> 0 | H44: =COUNTIF(H8:H42,"e") -> 0 | I44: =COUNTIF(I8:I42,"e") -> 0 | J44: =COUNTIF(J8:J42,"e") -> 0 | K44: =COUNTIF(K8:K42,"e") -> 0 | ... AB44: =COUNTIF(AB8:AB42,"e") -> 0
B45: [k] krank | D45: =COUNTIF(D8:D42,"k") -> 0 | E45: =COUNTIF(E8:E42,"k") -> 0 | F45: =COUNTIF(F8:F42,"k") -> 0 | G45: =COUNTIF(G8:G42,"k") -> 0 | H45: =COUNTIF(H8:H42,"k") -> 0 | I45: =COUNTIF(I8:I42,"k") -> 0 | J45: =COUNTIF(J8:J42,"k") -> 0 | K45: =COUNTIF(K8:K42,"k") -> 0 | ... AB45: =COUNTIF(AB8:AB42,"k") -> 0
B46: [u] unentschuldigt | D46: =COUNTIF(D8:D42,"u") -> 0 | E46: =COUNTIF(E8:E42,"u") -> 0 | F46: =COUNTIF(F8:F42,"u") -> 0 | G46: =COUNTIF(G8:G42,"u") -> 0 | H46: =COUNTIF(H8:H42,"u") -> 0 | I46: =COUNTIF(I8:I42,"u") -> 0 | J46: =COUNTIF(J8:J42,"u") -> 0 | K46: =COUNTIF(K8:K42,"u") -> 0 | ... AB46: =COUNTIF(AB8:AB42,"u") -> 0

Sheet Feiertage
A1: Datum | B1: Jahr | C1: Tag | D1: Feiertag? | E1: Bezeichnung | F1: Land | G1: Gesetz.? | I1: So. | J1: Feiertag am Sonntag | N1: 2026 | O1: =DATE($N$1,3,28)+MOD(24-MOD($N$1,19)*10.63,29)-MOD(TRUNC($N$1*5/4)+MOD(24-MOD($N$1,19)*10.63,29)+1,7) -> 46117 | P1: =DATEVALUE("25.12."&$N$1) -> 46381 | R1: X | S1: Markierter Feiertag
A2: =DATEVALUE("01.01."&$N$1) -> 46023 | B2: =IF(D2="x",A2,"") -> 46023 | C2: =IF(D2="x",A2,"") -> 46023 | D2: x | E2: Neujahr | F2: DE / AT / CH | G2: Ja
A3: =DATEVALUE("02.01."&$N$1) -> 46024 | B3: =IF(D3="x",A3,"") | C3: =IF(D3="x",A3,"") | E3: Berchtoldstag | F3: CH | G3: Ja | I3: =IF(B3=MONTH(TODAY()),E3,"")
A4: =DATEVALUE("06.01."&$N$1) -> 46028 | B4: =IF(D4="x",A4,"") -> 46028 | C4: =IF(D4="x",A4,"") -> 46028 | D4: x | E4: Heilige Drei Könige | F4: DE / AT / CH | G4: Ja | I4: =IF(B4=MONTH(TODAY()),E4,"")
A5: =DATEVALUE("08.03."&$N$1) -> 46089 | B5: =IF(D5="x",A5,"") | C5: =IF(D5="x",A5,"") | E5: Internationaler Frauentag | F5: DE | G5: Ja | I5: =IF(B5=MONTH(TODAY()),E5,"")
A6: =DATEVALUE("19.03."&$N$1) -> 46100 | B6: =IF(D6="x",A6,"") | C6: =IF(D6="x",A6,"") | E6: St. Josef | F6: CH | G6: Ja | I6: =IF(B6=MONTH(TODAY()),E6,"")
A7: =$O$1-2 -> 46115 | B7: =IF(D7="x",A7,"") -> 46115 | C7: =IF(D7="x",A7,"") -> 46115 | D7: x | E7: Karfreitag | F7: DE / CH | G7: Ja | I7: =IF(B7=MONTH(TODAY()),E7,"")
A8: =$O$1-1 -> 46116 | B8: =IF(D8="x",A8,"") | C8: =IF(D8="x",A8,"") | E8: Karsamstag | F8: DE | G8: Nein | I8: =IF(B8=MONTH(TODAY()),E8,"")
A9: =DATE($N$1,3,28)+MOD(24-MOD($N$1,19)*10.63,29)-MOD(TRUNC($N$1*5/4)+MOD(24-MOD($N$1,19)*10.63,29)+1,7) -> 46117 | B9: =IF(D9="x",A9,"") | C9: =IF(D9="x",A9,"") | E9: Ostersonntag | F9: DE / AT / CH | G9: Ja | I9: =IF(B9=MONTH(TODAY()),E9,"")
A10: =$O$1+1 -> 46118 | B10: =IF(D10="x",A10,"") -> 46118 | C10: =IF(D10="x",A10,"") -> 46118 | D10: x | E10: Ostermontag | F10: DE / AT | G10: Ja | I10: =IF(B10=MONTH(TODAY()),E10,"")
A11: =TRUNC(((4&-$N$1)+1)/7)*7+5+(DAY($O$1-3)<8)*7 -> 46121 | B11: =IF(D11="x",A11,"") | C11: =IF(D11="x",A11,"") | E11: Näfelser Fahrt | F11: CH | G11: Ja | I11: =IF(B11=MONTH(TODAY()),E11,"")
A12: =DATE($N$1,4,25)+1-WEEKDAY(DATE($N$1,4,25),2) -> 46132 | B12: =IF(D12="x",A12,"") | C12: =IF(D12="x",A12,"") | E12: Sechseläuten | F12: CH | G12: Ja | I12: =IF(B12=MONTH(TODAY()),E12,"")
A13: =DATEVALUE("01.05."&$N$1) -> 46143 | B13: =IF(D13="x",A13,"") -> 46143 | C13: =IF(D13="x",A13,"") -> 46143 | D13: x | E13: Tag der Arbeit | F13: DE / CH | G13: Ja | I13: =IF(B13=MONTH(TODAY()),E13,"")
A14: =DATEVALUE("01.05."&$N$1) -> 46143 | B14: =IF(D14="x",A14,"") | C14: =IF(D14="x",A14,"") | E14: Staatsfeiertag | F14: AT | G14: Ja | I14: =IF(B14=MONTH(TODAY()),E14,"")
A15: =$O$1+39 -> 46156 | B15: =IF(D15="x",A15,"") -> 46156 | C15: =IF(D15="x",A15,"") -> 46156 | D15: x | E15: Christi Himmelfahrt | F15: DE / AT / CH | G15: Ja | I15: =IF(B15=MONTH(TODAY()),E15,"")
A16: =$O$1+49 -> 46166 | B16: =IF(D16="x",A16,"") -> 46166 | C16: =IF(D16="x",A16,"") -> 46166 | D16: x | E16: Pfingstsonntag | F16: DE / AT | G16: Ja | I16: =IF(B16=MONTH(TODAY()),E16,"")
A17: =$O$1+50 -> 46167 | B17: =IF(D17="x",A17,"") -> 46167 | C17: =IF(D17="x",A17,"") -> 46167 | D17: x | E17: Pfingstmontag | F17: DE / AT / CH | G17: Ja | I17: =IF(B17=MONTH(TODAY()),E17,"")
A18: =$O$1+60 -> 46177 | B18: =IF(D18="x",A18,"") | C18: =IF(D18="x",A18,"") | E18: Fronleichnam | F18: DE / AT / CH | G18: Ja | I18: =IF(B18=MONTH(TODAY()),E18,"")
A19: =DATEVALUE("29.06."&$N$1) -> 46202 | B19: =IF(D19="x",A19,"") | C19: =IF(D19="x",A19,"") | E19: Peter und Paul | F19: CH | G19: Ja | I19: =IF(B19=MONTH(TODAY()),E19,"")
A20: =DATEVALUE("01.08."&$N$1) -> 46235 | B20: =IF(D20="x",A20,"") | C20: =IF(D20="x",A20,"") | E20: Nationalfeiertag CH | F20: CH | G20: Ja | I20: =IF(B20=MONTH(TODAY()),E20,"")
A21: =DATEVALUE("08.08."&$N$1) -> 46242 | B21: =IF(D21="x",A21,"") | C21: =IF(D21="x",A21,"") | E21: Augsburger Friedensfest | F21: DE | G21: Ja | I21: =IF(B21=MONTH(TODAY()),E21,"")
A22: =DATEVALUE("15.08."&$N$1) -> 46249 | B22: =IF(D22="x",A22,"") -> 46249 | C22: =IF(D22="x",A22,"") -> 46249 | D22: x | E22: Mariä Himmelfahrt | F22: DE / AT / CH | G22: Ja | I22: =IF(B22=MONTH(TODAY()),E22,"")
A23: =DATE($N$1,9,1)+11-WEEKDAY(DATE($N$1,9,1),2) -> 46275 | B23: =IF(D23="x",A23,"") | C23: =IF(D23="x",A23,"") | E23: Genfer Bettag | F23: CH | G23: Ja | I23: =IF(B23=MONTH(TODAY()),E23,"")
A24: =DATE($N$1,9,1)+15-WEEKDAY(DATE($N$1,9,1),2) -> 46279 | B24: =IF(D24="x",A24,"") | C24: =IF(D24="x",A24,"") | E24: Knabenschiessen | F24: CH | G24: Ja | I24: =IF(B24=MONTH(TODAY()),E24,"")
A25: =DATE($N$1,9,1)+21-WEEKDAY(DATE($N$1,9,1),2) -> 46285 | B25: =IF(D25="x",A25,"") | C25: =IF(D25="x",A25,"") | E25: Eidgenössischer Dank-, Buss- und Bettag | F25: CH | G25: Ja | I25: =IF(B25=MONTH(TODAY()),E25,"")
A26: =DATEVALUE("20.09."&$N$1) -> 46285 | B26: =IF(D26="x",A26,"") | C26: =IF(D26="x",A26,"") | E26: Weltkindertag | F26: DE | G26: Ja | I26: =IF(B26=MONTH(TODAY()),E26,"")
A27: =DATEVALUE("22.09."&$N$1) -> 46287 | B27: =IF(D27="x",A27,"") | C27: =IF(D27="x",A27,"") | E27: Mauritiustag | F27: CH | G27: Ja | I27: =IF(B27=MONTH(TODAY()),E27,"")
A28: =DATEVALUE("25.09."&$N$1) -> 46290 | B28: =IF(D28="x",A28,"") | C28: =IF(D28="x",A28,"") | E28: St. Niklaus von Flüe | F28: CH | G28: Ja | I28: =IF(B28=MONTH(TODAY()),E28,"")
A29: =DATEVALUE("02.10."&$N$1) -> 46297 | B29: =IF(D29="x",A29,"") | C29: =IF(D29="x",A29,"") | E29: St. Leodegar | F29: CH | G29: Ja | I29: =IF(B29=MONTH(TODAY()),E29,"")
A30: =DATEVALUE("03.10."&$N$1) -> 46298 | B30: =IF(D30="x",A30,"") -> 46298 | C30: =IF(D30="x",A30,"") -> 46298 | D30: x | E30: Tag der deutschen Einheit | F30: DE | G30: Ja | I30: =IF(B30=MONTH(TODAY()),E30,"")
A31: =DATEVALUE("26.10."&$N$1) -> 46321 | B31: =IF(D31="x",A31,"") | C31: =IF(D31="x",A31,"") | E31: Nationalfeiertag (AT) | F31: AT | G31: Ja | I31: =IF(B31=MONTH(TODAY()),E31,"")
A32: =DATEVALUE("31.10."&$N$1) -> 46326 | B32: =IF(D32="x",A32,"") | C32: =IF(D32="x",A32,"") | E32: Reformationstag | F32: DE | G32: Ja | I32: =IF(B32=MONTH(TODAY()),E32,"")
A33: =DATEVALUE("01.11."&$N$1) -> 46327 | B33: =IF(D33="x",A33,"") -> 46327 | C33: =IF(D33="x",A33,"") -> 46327 | D33: x | E33: Allerheiligen | F33: DE / AT / CH | G33: Ja | I33: =IF(B33=MONTH(TODAY()),E33,"")
A34: =DATE($N$1,12,25)-WEEKDAY(DATE($N$1,12,25),2)-32 -> 46344 | B34: =IF(D34="x",A34,"") | C34: =IF(D34="x",A34,"") | E34: Buß- und Bettag | F34: DE | G34: Ja | I34: =IF(B34=MONTH(TODAY()),E34,"")
A35: =DATE($N$1,12,25)-WEEKDAY(DATE($N$1,12,25),2)-21 -> 46355 | B35: =IF(D35="x",A35,"") | C35: =IF(D35="x",A35,"") | E35: 1. Advent | F35: DE / AT / CH | G35: Nein | I35: =IF(B35=MONTH(TODAY()),E35,"")
A36: =DATEVALUE("06.12."&$N$1) -> 46362 | B36: =IF(D36="x",A36,"") | C36: =IF(D36="x",A36,"") | E36: Nikolaus | F36: DE / AT / CH | G36: Nein | I36: =IF(B36=MONTH(TODAY()),E36,"")
A37: =DATE($N$1,12,25)-WEEKDAY(DATE($N$1,12,25),2)-14 -> 46362 | B37: =IF(D37="x",A37,"") | C37: =IF(D37="x",A37,"") | E37: 2. Advent | F37: DE / AT / CH | G37: Nein | I37: =IF(B37=MONTH(TODAY()),E37,"")
A38: =DATEVALUE("08.12."&$N$1) -> 46364 | B38: =IF(D38="x",A38,"") | C38: =IF(D38="x",A38,"") | E38: Mariä Empfängnis | F38: CH / AT | G38: Ja | I38: =IF(B38=MONTH(TODAY()),E38,"")
A39: =DATE($N$1,12,25)-WEEKDAY(DATE($N$1,12,25),2)-7 -> 46369 | B39: =IF(D39="x",A39,"") | C39: =IF(D39="x",A39,"") | E39: 3. Advent | F39: DE / AT / CH | G39: Nein | I39: =IF(B39=MONTH(TODAY()),E39,"")
A40: =DATE($N$1,12,25)-WEEKDAY(DATE($N$1,12,25),2) -> 46376 | B40: =IF(D40="x",A40,"") | C40: =IF(D40="x",A40,"") | E40: 4. Advent | F40: DE / AT / CH | G40: Nein | I40: =IF(B40=MONTH(TODAY()),E40,"")
...

Sheet Info
A5: office-lernen.com
A7: Testversion Kindergarten Anwesenheitsliste 2026 Diese kostenlose Testversion enthält die Monate Januar bis März und ist mit Blattschutz versehen. Die Vollversion (alle Monate, ohne Blattschutz, 19,90 €) erhalten Sie auf office-lernen.com: https://office-lernen.com/anwesenheitsliste-kostenlose-vorlagen-zum-download/
A11: Dem Lizenznehmer wird gestattet, diese Software im eigenen betrieblichen oder privaten Umfeld zu nutzen. Die unerlaubte weitergabe an Dritte ist nicht gestattet!
