Workbook
Name Bayern: FERIEN!$B$11
Name BERLIN: FERIEN!$B$18
Name BW: FERIEN!$B$4

Sheet Julia Mustermann
C1: JULIA MUSTERMANN | Q1: NOTFALLKONTAKT | AA1: LEGENDE | AH1: SCHULJAHR
C3: Geburtstag: | F3: 41179 | Q3: Name: | T3: Emilia Mustermann | AH3: 2026 / 2027
C4: Schüler ID: | F4: 123456 | Q4: Tel.: | T4: 0123 45 46 47 48
C5: Klasse: | F5: 4a | Q5: Name: | T5: Julian Mustermann
C6: Lehrer/in: | F6: Christina Muster | Q6: Tel.: | T6: 0123 45 46 47 48
D8: A | E8: ANWESEND | J8: E | K8: ENTSCHULDIGT | P8: U | Q8: UNENTSCHULDIGT | V8: V | W8: VERSPÄTET | AB8: K | AC8: KRANK | AH8: GESAMTÜBERSICHT
AH10: =$D$8 -> A | AI10: =$J$8 -> E | AJ10: =$P$8 -> U | AK10: =$V$8 -> V | AL10: =$AB$8 -> K
A11: 2026 | B11: =DATE($A$11,8,1) -> 46235 | C11: =B11 -> 46235 | D11: =C11+1 -> 46236 | E11: =D11+1 -> 46237 | F11: =E11+1 -> 46238 | G11: =F11+1 -> 46239 | H11: =G11+1 -> 46240 | I11: =H11+1 -> 46241 | J11: =I11+1 -> 46242 | K11: =J11+1 -> 46243 | ... AG11: =AF11+1 -> 46265 | AH11: {=IF($D$8="",0,SUMPRODUCT((--EXACT($D$8,C13:AG13))))} -> 14 | AI11: {=IF($J$8="",0,SUMPRODUCT((--EXACT($J$8,C13:AG13))))} -> 2 | AJ11: {=IF($P$8="",0,SUMPRODUCT((--EXACT($P$8,C13:AG13))))} -> 3 | AK11: {=IF($V$8="",0,SUMPRODUCT((--EXACT($V$8,C13:AG13))))} -> 0 | AL11: {=IF($AB$8="",0,SUMPRODUCT((--EXACT($AB$8,C13:AG13))))} -> 0
C12: =C11 -> 46235 | D12: =C12+1 -> 46236 | E12: =D12+1 -> 46237 | F12: =E12+1 -> 46238 | G12: =F12+1 -> 46239 | H12: =G12+1 -> 46240 | I12: =H12+1 -> 46241 | J12: =I12+1 -> 46242 | K12: =J12+1 -> 46243 | ... AG12: =AF12+1 -> 46265
C13: A | D13: A | E13: A | F13: A | I13: E | J13: E | K13: U | L13: U | M13: U | P13: A | Q13: A | R13: A | S13: A | T13: A | W13: A | X13: A | Y13: A | Z13: A | AA13: A
B14: =DATE($A$11,9,1) -> 46266 | C14: =B14 -> 46266 | D14: =C14+1 -> 46267 | E14: =D14+1 -> 46268 | F14: =E14+1 -> 46269 | G14: =F14+1 -> 46270 | H14: =G14+1 -> 46271 | I14: =H14+1 -> 46272 | J14: =I14+1 -> 46273 | K14: =J14+1 -> 46274 | ... AF14: =AE14+1 -> 46295 | AH14: {=IF($D$8="",0,SUMPRODUCT((--EXACT($D$8,C16:AG16))))} -> 0 | AI14: {=IF($J$8="",0,SUMPRODUCT((--EXACT($J$8,C16:AG16))))} -> 0 | AJ14: {=IF($P$8="",0,SUMPRODUCT((--EXACT($P$8,C16:AG16))))} -> 0 | AK14: {=IF($V$8="",0,SUMPRODUCT((--EXACT($V$8,C16:AG16))))} -> 0 | AL14: {=IF($AB$8="",0,SUMPRODUCT((--EXACT($AB$8,C16:AG16))))} -> 6
C15: =C14 -> 46266 | D15: =C15+1 -> 46267 | E15: =D15+1 -> 46268 | F15: =E15+1 -> 46269 | G15: =F15+1 -> 46270 | H15: =G15+1 -> 46271 | I15: =H15+1 -> 46272 | J15: =I15+1 -> 46273 | K15: =J15+1 -> 46274 | ... AF15: =AE15+1 -> 46295
M16: K | N16: K | O16: K | T16: K | U16: K | V16: K
B17: =DATE($A$11,10,1) -> 46296 | C17: =B17 -> 46296 | D17: =C17+1 -> 46297 | E17: =D17+1 -> 46298 | F17: =E17+1 -> 46299 | G17: =F17+1 -> 46300 | H17: =G17+1 -> 46301 | I17: =H17+1 -> 46302 | J17: =I17+1 -> 46303 | K17: =J17+1 -> 46304 | ... AG17: =AF17+1 -> 46326 | AH17: {=IF($D$8="",0,SUMPRODUCT((--EXACT($D$8,C19:AG19))))} -> 5 | AI17: {=IF($J$8="",0,SUMPRODUCT((--EXACT($J$8,C19:AG19))))} -> 0 | AJ17: {=IF($P$8="",0,SUMPRODUCT((--EXACT($P$8,C19:AG19))))} -> 0 | AK17: {=IF($V$8="",0,SUMPRODUCT((--EXACT($V$8,C19:AG19))))} -> 8 | AL17: {=IF($AB$8="",0,SUMPRODUCT((--EXACT($AB$8,C19:AG19))))} -> 3
C18: =C17 -> 46296 | D18: =C18+1 -> 46297 | E18: =D18+1 -> 46298 | F18: =E18+1 -> 46299 | G18: =F18+1 -> 46300 | H18: =G18+1 -> 46301 | I18: =H18+1 -> 46302 | J18: =I18+1 -> 46303 | K18: =J18+1 -> 46304 | ... AG18: =AF18+1 -> 46326
F19: V | G19: V | H19: V | K19: V | L19: V | M19: V | N19: V | O19: V | S19: K | T19: K | U19: K | Y19: A | Z19: A | AA19: A | AB19: A | AC19: A

Sheet FERIEN
B1: FERIEN 2026 / 2027
B2: BUNDESLAND | C2: START | D2: ENDE | E2: WEITERE FERIEN | G2: FERIEN? X
B4: BADEN-WÜRTENBERG | C4: Von | D4: Bis | E4: & | F4: & | G4: x | H4: Von | I4: Bis | J4: & | K4: &
B5: Herbstferien | C5: 46321 | D5: 46325 | E5: 46326 | G5: =IF($G$4="x","x","") -> x | H5: =IF(G5="x",C5,"") -> 46321 | I5: =IF($G$5="x",D5,"") -> 46325 | J5: =IF(FERIEN!$G5="x",E5,"") -> 46326
B6: Weihnachtsferien | C6: - | D6: - | G6: =IF($G$4="x","x","") -> x | H6: =IF(G6="x",C6,"") -> - | I6: =IF($G$5="x",D6,"") -> -
B7: Winterferien | C7: - | D7: - | G7: =IF($G$4="x","x","") -> x | H7: =IF(G7="x",C7,"") -> - | I7: =IF($G$5="x",D7,"") -> -
B8: Osterferien | C8: - | D8: - | G8: =IF($G$4="x","x","") -> x | H8: =IF(G8="x",C8,"") -> - | I8: =IF($G$5="x",D8,"") -> -
B9: Pfingstferien | C9: - | D9: - | G9: =IF($G$4="x","x","") -> x | H9: =IF(G9="x",C9,"") -> - | I9: =IF($G$5="x",D9,"") -> -
B10: Sommerferien | C10: - | D10: - | G10: =IF($G$4="x","x","") -> x | H10: =IF(G10="x",C10,"") -> - | I10: =IF($G$5="x",D10,"") -> -
B11: BAYERN | C11: Von | D11: Bis | E11: & | F11: & | H11: Von | I11: Bis | J11: & | K11: &
B12: Herbstferien | C12: 46328 | D12: 46332 | G12: =IF(FERIEN!$G$11="x","x","") | H12: =IF(G12="x",C12,"") | I12: =IF(FERIEN!$G12="x",D12,"") | J12: =IF(FERIEN!$G12="x",E12,"")
B13: Weihnachtsferien | C13: - | D13: - | G13: =IF(FERIEN!$G$11="x","x","") | H13: =IF(G13="x",C13,"") | I13: =IF(FERIEN!$G13="x",D13,"")
B14: Winterferien | C14: - | D14: - | G14: =IF(FERIEN!$G$11="x","x","") | H14: =IF(G14="x",C14,"") | I14: =IF(FERIEN!$G14="x",D14,"")
B15: Osterferien | C15: - | D15: - | G15: =IF(FERIEN!$G$11="x","x","") | H15: =IF(G15="x",C15,"") | I15: =IF(FERIEN!$G15="x",D15,"")
B16: Pfingstferien | C16: - | D16: - | G16: =IF(FERIEN!$G$11="x","x","") | H16: =IF(G16="x",C16,"") | I16: =IF(FERIEN!$G16="x",D16,"")
B17: Sommerferien | C17: - | D17: - | G17: =IF(FERIEN!$G$11="x","x","") | H17: =IF(G17="x",C17,"") | I17: =IF(FERIEN!$G17="x",D17,"")
B18: BERLIN | C18: Von | D18: Bis | E18: & | F18: & | H18: Von | I18: Bis | J18: & | K18: &
B19: Herbstferien | C19: 46314 | D19: 46326 | G19: =IF($G$18="x","x","") | H19: =IF(G19="x",C19,"") | I19: =IF(FERIEN!$G19="x",D19,"") | J19: =IF(FERIEN!$G19="x",E19,"")
B20: Weihnachtsferien | C20: - | D20: - | G20: =IF($G$18="x","x","") | H20: =IF(G20="x",C20,"") | I20: =IF(FERIEN!$G20="x",D20,"")
B21: Winterferien | C21: - | D21: - | G21: =IF($G$18="x","x","") | H21: =IF(G21="x",C21,"") | I21: =IF(FERIEN!$G21="x",D21,"")
B22: Osterferien | C22: - | D22: - | G22: =IF($G$18="x","x","") | H22: =IF(G22="x",C22,"") | I22: =IF(FERIEN!$G22="x",D22,"") | J22: =IF(FERIEN!$G22="x",E22,"") | K22: =IF(FERIEN!$G22="x",F22,"")
B23: Pfingstferien | C23: - | D23: - | G23: =IF($G$18="x","x","") | H23: =IF(G23="x",C23,"") | I23: =IF(FERIEN!$G23="x",D23,"")
B24: Sommerferien | C24: - | D24: - | G24: =IF($G$18="x","x","") | H24: =IF(G24="x",C24,"") | I24: =IF(FERIEN!$G24="x",D24,"")
B25: BRANDENBURG | C25: Von | D25: Bis | E25: & | F25: & | H25: Von | I25: Bis | J25: & | K25: &
B26: Herbstferien | C26: 46314 | D26: 46325 | G26: =IF($G$25="x","x","") | H26: =IF(G26="x",C26,"") | I26: =IF(FERIEN!$G26="x",D26,"") | J26: =IF(FERIEN!$G26="x",E26,"")
B27: Weihnachtsferien | C27: - | D27: - | G27: =IF($G$25="x","x","") | H27: =IF(G27="x",C27,"") | I27: =IF(FERIEN!$G27="x",D27,"")
B28: Winterferien | C28: - | D28: - | G28: =IF($G$25="x","x","") | H28: =IF(G28="x",C28,"") | I28: =IF(FERIEN!$G28="x",D28,"")
B29: Osterferien | C29: - | D29: - | G29: =IF($G$25="x","x","") | H29: =IF(G29="x",C29,"") | I29: =IF(FERIEN!$G29="x",D29,"") | J29: =IF(FERIEN!$G29="x",E29,"") | K29: =IF(FERIEN!$G29="x",F29,"")
B30: Pfingstferien | C30: - | D30: - | G30: =IF($G$25="x","x","") | H30: =IF(G30="x",C30,"") | I30: =IF(FERIEN!$G30="x",D30,"")
B31: Sommerferien | C31: - | D31: - | G31: =IF($G$25="x","x","") | H31: =IF(G31="x",C31,"") | I31: =IF(FERIEN!$G31="x",D31,"")
B32: BREMEN | C32: Von | D32: Bis | E32: & | F32: & | H32: Von | I32: Bis | J32: & | K32: &
B33: Herbstferien | C33: 46307 | D33: 46319 | G33: =IF($G$32="x","x","") | H33: =IF(G33="x",C33,"") | I33: =IF(FERIEN!$G33="x",D33,"") | J33: =IF(FERIEN!$G33="x",E33,"")
B34: Weihnachtsferien | C34: - | D34: - | G34: =IF($G$32="x","x","") | H34: =IF(G34="x",C34,"") | I34: =IF(FERIEN!$G34="x",D34,"")
B35: Winterferien | C35: - | D35: - | G35: =IF($G$32="x","x","") | H35: =IF(G35="x",C35,"") | I35: =IF(FERIEN!$G35="x",D35,"")
B36: Osterferien | C36: - | D36: - | G36: =IF($G$32="x","x","") | H36: =IF(G36="x",C36,"") | I36: =IF(FERIEN!$G36="x",D36,"")
B37: Pfingstferien | C37: - | D37: - | G37: =IF($G$32="x","x","") | H37: =IF(G37="x",C37,"") | I37: =IF(FERIEN!$G37="x",D37,"") | J37: =IF(FERIEN!$G37="x",E37,"") | K37: =IF(FERIEN!$G37="x",F37,"")
B38: Sommerferien | C38: - | D38: - | G38: =IF($G$32="x","x","") | H38: =IF(G38="x",C38,"") | I38: =IF(FERIEN!$G38="x",D38,"")
B39: HAMBURG | C39: Von | D39: Bis | E39: & | F39: & | H39: Von | I39: Bis | J39: & | K39: &
B40: Herbstferien | C40: 46314 | D40: 46325 | G40: =IF($G$39="x","x","") | H40: =IF(G40="x",C40,"") | I40: =IF(FERIEN!$G40="x",D40,"") | J40: =IF(FERIEN!$G40="x",E40,"")
B41: Weihnachtsferien | C41: - | D41: - | G41: =IF($G$39="x","x","") | H41: =IF(G41="x",C41,"") | I41: =IF(FERIEN!$G41="x",D41,"")
...

Sheet Feiertage 26
A1: Datum | B1: Jahr | C1: Tag | D1: Feiertag? | E1: Bezeichnung | F1: Land | G1: Gesetz.? | I1: So. | J1: Feiertag am Sonntag | N1: 2026 | O1: =DATE($N$1,3,28)+MOD(24-MOD($N$1,19)*10.63,29)-MOD(TRUNC($N$1*5/4)+MOD(24-MOD($N$1,19)*10.63,29)+1,7) -> 46117 | P1: =DATEVALUE("25.12."&$N$1) -> 46381 | R1: X | S1: Markierter Feiertag
A2: =DATEVALUE("01.01."&$N$1) -> 46023 | B2: =IF(D2="x",A2,"") -> 46023 | C2: =IF(D2="x",A2,"") -> 46023 | D2: x | E2: Neujahr | F2: DE / AT / CH | G2: Ja
A3: =DATEVALUE("02.01."&$N$1) -> 46024 | B3: =IF(D3="x",A3,"") | C3: =IF(D3="x",A3,"") | E3: Berchtoldstag | F3: CH | G3: Ja
A4: =DATEVALUE("06.01."&$N$1) -> 46028 | B4: =IF(D4="x",A4,"") | C4: =IF(D4="x",A4,"") | E4: Heilige Drei Könige | F4: DE / AT / CH | G4: Ja
A5: =DATEVALUE("08.03."&$N$1) -> 46089 | B5: =IF(D5="x",A5,"") | C5: =IF(D5="x",A5,"") | E5: Inter. Frauentag | F5: DE | G5: Ja
A6: =DATEVALUE("19.03."&$N$1) -> 46100 | B6: =IF(D6="x",A6,"") | C6: =IF(D6="x",A6,"") | E6: St. Josef | F6: CH | G6: Ja
A7: =$O$1-2 -> 46115 | B7: =IF(D7="x",A7,"") -> 46115 | C7: =IF(D7="x",A7,"") -> 46115 | D7: x | E7: Karfreitag | F7: DE / CH | G7: Ja
A8: =DATE($N$1,3,28)+MOD(24-MOD($N$1,19)*10.63,29)-MOD(TRUNC($N$1*5/4)+MOD(24-MOD($N$1,19)*10.63,29)+1,7) -> 46117 | B8: =IF(D8="x",A8,"") | C8: =IF(D8="x",A8,"") | E8: Ostersonntag | F8: DE / AT / CH | G8: Ja
A9: =$O$1+1 -> 46118 | B9: =IF(D9="x",A9,"") -> 46118 | C9: =IF(D9="x",A9,"") -> 46118 | D9: x | E9: Ostermontag | F9: DE / AT / CH | G9: Ja
A10: =DATE($N$1,4,25)+1-WEEKDAY(DATE($N$1,4,25),2) -> 46132 | B10: =IF(D10="x",A10,"") | C10: =IF(D10="x",A10,"") | E10: Sechseläuten | F10: CH | G10: Ja
A11: =DATEVALUE("01.05."&$N$1) -> 46143 | B11: =IF(D11="x",A11,"") -> 46143 | C11: =IF(D11="x",A11,"") -> 46143 | D11: x | E11: Tag d. Arbeit | F11: DE / CH | G11: Ja
A12: =DATEVALUE("01.05."&$N$1) -> 46143 | B12: =IF(D12="x",A12,"") | C12: =IF(D12="x",A12,"") | E12: Staatsfeiertag | F12: AT | G12: Ja
A13: =$O$1+39 -> 46156 | B13: =IF(D13="x",A13,"") -> 46156 | C13: =IF(D13="x",A13,"") -> 46156 | D13: x | E13: Christi Himmelfahrt | F13: DE / AT / CH | G13: Ja
A14: =$O$1+49 -> 46166 | B14: =IF(D14="x",A14,"") -> 46166 | C14: =IF(D14="x",A14,"") -> 46166 | D14: x | E14: Pfingstsonntag | F14: DE / AT | G14: Ja
A15: =$O$1+50 -> 46167 | B15: =IF(D15="x",A15,"") -> 46167 | C15: =IF(D15="x",A15,"") -> 46167 | D15: x | E15: Pfingstmontag | F15: DE / AT / CH | G15: Ja
A16: =$O$1+60 -> 46177 | B16: =IF(D16="x",A16,"") | C16: =IF(D16="x",A16,"") | E16: Fronleichnam | F16: DE / AT / CH | G16: Ja
A17: =DATEVALUE("29.06."&$N$1) -> 46202 | B17: =IF(D17="x",A17,"") | C17: =IF(D17="x",A17,"") | E17: Peter und Paul | F17: CH | G17: Ja
A18: =DATEVALUE("01.08."&$N$1) -> 46235 | B18: =IF(D18="x",A18,"") | C18: =IF(D18="x",A18,"") | E18: Nationalfeiertag | F18: CH | G18: Ja
A19: =DATEVALUE("08.08."&$N$1) -> 46242 | B19: =IF(D19="x",A19,"") | C19: =IF(D19="x",A19,"") | E19: Augs. Friedensfest | F19: DE | G19: Ja
A20: =DATEVALUE("15.08."&$N$1) -> 46249 | B20: =IF(D20="x",A20,"") | C20: =IF(D20="x",A20,"") | E20: Mariä Himmelfahrt | F20: DE / AT / CH | G20: Ja
A21: =DATE($N$1,9,1)+11-WEEKDAY(DATE($N$1,9,1),2) -> 46275 | B21: =IF(D21="x",A21,"") | C21: =IF(D21="x",A21,"") | E21: Genfer Bettag | F21: CH | G21: Ja
A22: =DATE($N$1,9,1)+15-WEEKDAY(DATE($N$1,9,1),2) -> 46279 | B22: =IF(D22="x",A22,"") | C22: =IF(D22="x",A22,"") | E22: Knabenschiessen | F22: CH | G22: Ja
A23: =DATE($N$1,9,1)+21-WEEKDAY(DATE($N$1,9,1),2) -> 46285 | B23: =IF(D23="x",A23,"") | C23: =IF(D23="x",A23,"") | E23: Eidg. Dank-, Buss- und Bettag | F23: CH | G23: Ja
A24: =DATEVALUE("20.09."&$N$1) -> 46285 | B24: =IF(D24="x",A24,"") | C24: =IF(D24="x",A24,"") | E24: Weltkindertag | F24: DE | G24: Ja
A25: =DATEVALUE("22.09."&$N$1) -> 46287 | B25: =IF(D25="x",A25,"") | C25: =IF(D25="x",A25,"") | E25: Mauritiustag | F25: CH | G25: Ja
A26: =DATEVALUE("25.09."&$N$1) -> 46290 | B26: =IF(D26="x",A26,"") | C26: =IF(D26="x",A26,"") | E26: St. Niklaus v. Flüe | F26: CH | G26: Ja
A27: =DATEVALUE("02.10."&$N$1) -> 46297 | B27: =IF(D27="x",A27,"") | C27: =IF(D27="x",A27,"") | E27: St. Leodegar | F27: CH | G27: Ja
A28: =DATEVALUE("03.10."&$N$1) -> 46298 | B28: =IF(D28="x",A28,"") -> 46298 | C28: =IF(D28="x",A28,"") -> 46298 | D28: x | E28: Tag der Dt. Einheit | F28: DE | G28: Ja
A29: =DATEVALUE("26.10."&$N$1) -> 46321 | B29: =IF(D29="x",A29,"") | C29: =IF(D29="x",A29,"") | E29: Nationalfeiertag | F29: AT | G29: Ja
A30: =DATEVALUE("31.10."&$N$1) -> 46326 | B30: =IF(D30="x",A30,"") | C30: =IF(D30="x",A30,"") | E30: Reformationstag | F30: DE | G30: Ja
A31: =DATEVALUE("01.11."&$N$1) -> 46327 | B31: =IF(D31="x",A31,"") | C31: =IF(D31="x",A31,"") | E31: Allerheiligen | F31: DE / AT / CH | G31: Ja
A32: =DATE($N$1,12,25)-WEEKDAY(DATE($N$1,12,25),2)-32 -> 46344 | B32: =IF(D32="x",A32,"") | C32: =IF(D32="x",A32,"") | E32: Buß- und Bettag | F32: DE | G32: Ja
A33: =DATEVALUE("08.12."&$N$1) -> 46364 | B33: =IF(D33="x",A33,"") | C33: =IF(D33="x",A33,"") | E33: Mariä Empfängnis | F33: CH / AT | G33: Ja
A34: =DATEVALUE("25.12."&$N$1) -> 46381 | B34: =IF(D34="x",A34,"") -> 46381 | C34: =IF(D34="x",A34,"") -> 46381 | D34: x | E34: Weihnachten | F34: DE / AT / CH | G34: Ja
A35: =DATEVALUE("26.12."&$N$1) -> 46382 | B35: =IF(D35="x",A35,"") -> 46382 | C35: =IF(D35="x",A35,"") -> 46382 | D35: x | E35: Weihnachten | F35: DE / AT / CH | G35: Ja
A36: =TRUNC(((4&-$N$1)+1)/7)*7+5+(DAY($O$1-3)<8)*7 -> 46121 | B36: =IF(D36="x",A36,"") | C36: =IF(D36="x",A36,"") | E36: Näfelser Fahrt | F36: CH | G36: Nein
A37: =$O$1-1 -> 46116 | B37: =IF(D37="x",A37,"") | C37: =IF(D37="x",A37,"") | E37: Karsamstag | F37: DE | G37: Nein
A38: =DATE($N$1,12,25)-WEEKDAY(DATE($N$1,12,25),2)-21 -> 46355 | B38: =IF(D38="x",A38,"") | C38: =IF(D38="x",A38,"") | E38: 1. Advent | F38: DE / AT / CH | G38: Nein
A39: =DATEVALUE("06.12."&$N$1) -> 46362 | B39: =IF(D39="x",A39,"") | C39: =IF(D39="x",A39,"") | E39: Nikolaus | F39: DE / AT / CH | G39: Nein
A40: =DATE($N$1,12,25)-WEEKDAY(DATE($N$1,12,25),2)-14 -> 46362 | B40: =IF(D40="x",A40,"") | C40: =IF(D40="x",A40,"") | E40: 2. Advent | F40: DE / AT / CH | G40: Nein
...

Sheet Info
A5: office-lernen.com
A7: Testversion An- und Abwesenheitsplaner Schule 2026/2027 Diese kostenlose Testversion enthält ein Schülerblatt mit den Monaten August bis Oktober und ist mit Blattschutz versehen. Die Vollversion (alle Monate, ohne Blattschutz, 14,90 €) erhalten Sie auf office-lernen.com: https://office-lernen.com/anwesenheitsliste-kostenlose-vorlagen-zum-download/
A11: Dem Lizenznehmer wird gestattet, diese Software im eigenen betrieblichen oder privaten Umfeld zu nutzen. Die unerlaubte weitergabe an Dritte ist nicht gestattet!
