Workbook
Name Bayern: FERIEN!$B$11
Name BERLIN: FERIEN!$B$18
Name BW: FERIEN!$B$4

Sheet Julia Mustermann
C1: JULIA MUSTERMANN | Q1: NOTFALLKONTAKT | AA1: LEGENDE | AH1: SCHULJAHR
C3: Geburtstag: | F3: 41179 | Q3: Name: | T3: Emilia Mustermann | AH3: 2026 / 2027
C4: Schüler ID: | F4: 123456 | Q4: Tel.: | T4: 0123 45 46 47 48
C5: Klasse: | F5: 4a | Q5: Name: | T5: Julian Mustermann
C6: Lehrer/in: | F6: Christina Muster | Q6: Tel.: | T6: 0123 45 46 47 48
D8: A | E8: ANWESEND | J8: E | K8: ENTSCHULDIGT | P8: U | Q8: UNENTSCHULDIGT | V8: V | W8: VERSPÄTET | AB8: K | AC8: KRANK | AH8: GESAMTÜBERSICHT
AH10: =$D$8 -> A | AI10: =$J$8 -> E | AJ10: =$P$8 -> U | AK10: =$V$8 -> V | AL10: =$AB$8 -> K
A11: 2026 | B11: =DATE($A$11,8,1) -> 46235 | C11: =B11 -> 46235 | D11: =C11+1 -> 46236 | E11: =D11+1 -> 46237 | F11: =E11+1 -> 46238 | G11: =F11+1 -> 46239 | H11: =G11+1 -> 46240 | I11: =H11+1 -> 46241 | J11: =I11+1 -> 46242 | K11: =J11+1 -> 46243 | ... AG11: =AF11+1 -> 46265 | AH11: {=IF($D$8="",0,SUMPRODUCT((--EXACT($D$8,C13:AG13))))} -> 14 | AI11: {=IF($J$8="",0,SUMPRODUCT((--EXACT($J$8,C13:AG13))))} -> 2 | AJ11: {=IF($P$8="",0,SUMPRODUCT((--EXACT($P$8,C13:AG13))))} -> 3 | AK11: {=IF($V$8="",0,SUMPRODUCT((--EXACT($V$8,C13:AG13))))} -> 0 | AL11: {=IF($AB$8="",0,SUMPRODUCT((--EXACT($AB$8,C13:AG13))))} -> 0
C12: =C11 -> 46235 | D12: =C12+1 -> 46236 | E12: =D12+1 -> 46237 | F12: =E12+1 -> 46238 | G12: =F12+1 -> 46239 | H12: =G12+1 -> 46240 | I12: =H12+1 -> 46241 | J12: =I12+1 -> 46242 | K12: =J12+1 -> 46243 | ... AG12: =AF12+1 -> 46265
C13: A | D13: A | E13: A | F13: A | I13: E | J13: E | K13: U | L13: U | M13: U | P13: A | Q13: A | R13: A | S13: A | T13: A | W13: A | X13: A | Y13: A | Z13: A | AA13: A
B14: =DATE($A$11,9,1) -> 46266 | C14: =B14 -> 46266 | D14: =C14+1 -> 46267 | E14: =D14+1 -> 46268 | F14: =E14+1 -> 46269 | G14: =F14+1 -> 46270 | H14: =G14+1 -> 46271 | I14: =H14+1 -> 46272 | J14: =I14+1 -> 46273 | K14: =J14+1 -> 46274 | ... AF14: =AE14+1 -> 46295 | AH14: {=IF($D$8="",0,SUMPRODUCT((--EXACT($D$8,C16:AG16))))} -> 0 | AI14: {=IF($J$8="",0,SUMPRODUCT((--EXACT($J$8,C16:AG16))))} -> 0 | AJ14: {=IF($P$8="",0,SUMPRODUCT((--EXACT($P$8,C16:AG16))))} -> 0 | AK14: {=IF($V$8="",0,SUMPRODUCT((--EXACT($V$8,C16:AG16))))} -> 0 | AL14: {=IF($AB$8="",0,SUMPRODUCT((--EXACT($AB$8,C16:AG16))))} -> 6
C15: =C14 -> 46266 | D15: =C15+1 -> 46267 | E15: =D15+1 -> 46268 | F15: =E15+1 -> 46269 | G15: =F15+1 -> 46270 | H15: =G15+1 -> 46271 | I15: =H15+1 -> 46272 | J15: =I15+1 -> 46273 | K15: =J15+1 -> 46274 | ... AF15: =AE15+1 -> 46295
M16: K | N16: K | O16: K | T16: K | U16: K | V16: K
B17: =DATE($A$11,10,1) -> 46296 | C17: =B17 -> 46296 | D17: =C17+1 -> 46297 | E17: =D17+1 -> 46298 | F17: =E17+1 -> 46299 | G17: =F17+1 -> 46300 | H17: =G17+1 -> 46301 | I17: =H17+1 -> 46302 | J17: =I17+1 -> 46303 | K17: =J17+1 -> 46304 | ... AG17: =AF17+1 -> 46326 | AH17: {=IF($D$8="",0,SUMPRODUCT((--EXACT($D$8,C19:AG19))))} -> 5 | AI17: {=IF($J$8="",0,SUMPRODUCT((--EXACT($J$8,C19:AG19))))} -> 0 | AJ17: {=IF($P$8="",0,SUMPRODUCT((--EXACT($P$8,C19:AG19))))} -> 0 | AK17: {=IF($V$8="",0,SUMPRODUCT((--EXACT($V$8,C19:AG19))))} -> 8 | AL17: {=IF($AB$8="",0,SUMPRODUCT((--EXACT($AB$8,C19:AG19))))} -> 3
C18: =C17 -> 46296 | D18: =C18+1 -> 46297 | E18: =D18+1 -> 46298 | F18: =E18+1 -> 46299 | G18: =F18+1 -> 46300 | H18: =G18+1 -> 46301 | I18: =H18+1 -> 46302 | J18: =I18+1 -> 46303 | K18: =J18+1 -> 46304 | ... AG18: =AF18+1 -> 46326
F19: V | G19: V | H19: V | K19: V | L19: V | M19: V | N19: V | O19: V | S19: K | T19: K | U19: K | Y19: A | Z19: A | AA19: A | AB19: A | AC19: A

Sheet FERIEN
B1: FERIEN 2026 / 2027
B2: BUNDESLAND | C2: START | D2: ENDE | E2: WEITERE FERIEN | G2: FERIEN? X
B4: BADEN-WÜRTENBERG | C4: Von | D4: Bis | E4: & | F4: & | G4: x | H4: Von | I4: Bis | J4: & | K4: &
B5: Herbstferien | C5: 46321 | D5: 46325 | E5: 46326 | G5: =IF($G$4="x","x","") -> x | H5: =IF(G5="x",C5,"") -> 46321 | I5: =IF($G$5="x",D5,"") -> 46325 | J5: =IF(FERIEN!$G5="x",E5,"") -> 46326
B6: Weihnachtsferien | C6: - | D6: - | G6: =IF($G$4="x","x","") -> x | H6: =IF(G6="x",C6,"") -> - | I6: =IF($G$5="x",D6,"") -> -
B7: Winterferien | C7: - | D7: - | G7: =IF($G$4="x","x","") -> x | H7: =IF(G7="x",C7,"") -> - | I7: =IF($G$5="x",D7,"") -> -
B8: Osterferien | C8: - | D8: - | G8: =IF($G$4="x","x","") -> x | H8: =IF(G8="x",C8,"") -> - | I8: =IF($G$5="x",D8,"") -> -
B9: Pfingstferien | C9: - | D9: - | G9: =IF($G$4="x","x","") -> x | H9: =IF(G9="x",C9,"") -> - | I9: =IF($G$5="x",D9,"") -> -
B10: Sommerferien | C10: - | D10: - | G10: =IF($G$4="x","x","") -> x | H10: =IF(G10="x",C10,"") -> - | I10: =IF($G$5="x",D10,"") -> -
B11: BAYERN | C11: Von | D11: Bis | E11: & | F11: & | H11: Von | I11: Bis | J11: & | K11: &
B12: Herbstferien | C12: 46328 | D12: 46332 | G12: =IF(FERIEN!$G$11="x","x","") | H12: =IF(G12="x",C12,"") | I12: =IF(FERIEN!$G12="x",D12,"") | J12: =IF(FERIEN!$G12="x",E12,"")
B13: Weihnachtsferien | C13: - | D13: - | G13: =IF(FERIEN!$G$11="x","x","") | H13: =IF(G13="x",C13,"") | I13: =IF(FERIEN!$G13="x",D13,"")
B14: Winterferien | C14: - | D14: - | G14: =IF(FERIEN!$G$11="x","x","") | H14: =IF(G14="x",C14,"") | I14: =IF(FERIEN!$G14="x",D14,"")
B15: Osterferien | C15: - | D15: - | G15: =IF(FERIEN!$G$11="x","x","") | H15: =IF(G15="x",C15,"") | I15: =IF(FERIEN!$G15="x",D15,"")
B16: Pfingstferien | C16: - | D16: - | G16: =IF(FERIEN!$G$11="x","x","") | H16: =IF(G16="x",C16,"") | I16: =IF(FERIEN!$G16="x",D16,"")
B17: Sommerferien | C17: - | D17: - | G17: =IF(FERIEN!$G$11="x","x","") | H17: =IF(G17="x",C17,"") | I17: =IF(FERIEN!$G17="x",D17,"")
B18: BERLIN | C18: Von | D18: Bis | E18: & | F18: & | H18: Von | I18: Bis | J18: & | K18: &
B19: Herbstferien | C19: 46314 | D19: 46326 | G19: =IF($G$18="x","x","") | H19: =IF(G19="x",C19,"") | I19: =IF(FERIEN!$G19="x",D19,"") | J19: =IF(FERIEN!$G19="x",E19,"")
B20: Weihnachtsferien | C20: - | D20: - | G20: =IF($G$18="x","x","") | H20: =IF(G20="x",C20,"") | I20: =IF(FERIEN!$G20="x",D20,"")
B21: Winterferien | C21: - | D21: - | G21: =IF($G$18="x","x","") | H21: =IF(G21="x",C21,"") | I21: =IF(FERIEN!$G21="x",D21,"")
B22: Osterferien | C22: - | D22: - | G22: =IF($G$18="x","x","") | H22: =IF(G22="x",C22,"") | I22: =IF(FERIEN!$G22="x",D22,"") | J22: =IF(FERIEN!$G22="x",E22,"") | K22: =IF(FERIEN!$G22="x",F22,"")
B23: Pfingstferien | C23: - | D23: - | G23: =IF($G$18="x","x","") | H23: =IF(G23="x",C23,"") | I23: =IF(FERIEN!$G23="x",D23,"")
B24: Sommerferien | C24: - | D24: - | G24: =IF($G$18="x","x","") | H24: =IF(G24="x",C24,"") | I24: =IF(FERIEN!$G24="x",D24,"")
B25: BRANDENBURG | C25: Von | D25: Bis | E25: & | F25: & | H25: Von | I25: Bis | J25: & | K25: &
B26: Herbstferien | C26: 46314 | D26: 46325 | G26: =IF($G$25="x","x","") | H26: =IF(G26="x",C26,"") | I26: =IF(FERIEN!$G26="x",D26,"") | J26: =IF(FERIEN!$G26="x",E26,"")
B27: Weihnachtsferien | C27: - | D27: - | G27: =IF($G$25="x","x","") | H27: =IF(G27="x",C27,"") | I27: =IF(FERIEN!$G27="x",D27,"")
B28: Winterferien | C28: - | D28: - | G28: =IF($G$25="x","x","") | H28: =IF(G28="x",C28,"") | I28: =IF(FERIEN!$G28="x",D28,"")
B29: Osterferien | C29: - | D29: - | G29: =IF($G$25="x","x","") | H29: =IF(G29="x",C29,"") | I29: =IF(FERIEN!$G29="x",D29,"") | J29: =IF(FERIEN!$G29="x",E29,"") | K29: =IF(FERIEN!$G29="x",F29,"")
B30: Pfingstferien | C30: - | D30: - | G30: =IF($G$25="x","x","") | H30: =IF(G30="x",C30,"") | I30: =IF(FERIEN!$G30="x",D30,"")
B31: Sommerferien | C31: - | D31: - | G31: =IF($G$25="x","x","") | H31: =IF(G31="x",C31,"") | I31: =IF(FERIEN!$G31="x",D31,"")
B32: BREMEN | C32: Von | D32: Bis | E32: & | F32: & | H32: Von | I32: Bis | J32: & | K32: &
B33: Herbstferien | C33: 46307 | D33: 46319 | G33: =IF($G$32="x","x","") | H33: =IF(G33="x",C33,"") | I33: =IF(FERIEN!$G33="x",D33,"") | J33: =IF(FERIEN!$G33="x",E33,"")
B34: Weihnachtsferien | C34: - | D34: - | G34: =IF($G$32="x","x","") | H34: =IF(G34="x",C34,"") | I34: =IF(FERIEN!$G34="x",D34,"")
B35: Winterferien | C35: - | D35: - | G35: =IF($G$32="x","x","") | H35: =IF(G35="x",C35,"") | I35: =IF(FERIEN!$G35="x",D35,"")
B36: Osterferien | C36: - | D36: - | G36: =IF($G$32="x","x","") | H36: =IF(G36="x",C36,"") | I36: =IF(FERIEN!$G36="x",D36,"")
B37: Pfingstferien | C37: - | D37: - | G37: =IF($G$32="x","x","") | H37: =IF(G37="x",C37,"") | I37: =IF(FERIEN!$G37="x",D37,"") | J37: =IF(FERIEN!$G37="x",E37,"") | K37: =IF(FERIEN!$G37="x",F37,"")
B38: Sommerferien | C38: - | D38: - | G38: =IF($G$32="x","x","") | H38: =IF(G38="x",C38,"") | I38: =IF(FERIEN!$G38="x",D38,"")
B39: HAMBURG | C39: Von | D39: Bis | E39: & | F39: & | H39: Von | I39: Bis | J39: & | K39: &
B40: Herbstferien | C40: 46314 | D40: 46325 | G40: =IF($G$39="x","x","") | H40: =IF(G40="x",C40,"") | I40: =IF(FERIEN!$G40="x",D40,"") | J40: =IF(FERIEN!$G40="x",E40,"")
B41: Weihnachtsferien | C41: - | D41: - | G41: =IF($G$39="x","x","") | H41: =IF(G41="x",C41,"") | I41: =IF(FERIEN!$G41="x",D41,"")
B42: Winterferien | C42: - | D42: - | G42: =IF($G$39="x","x","") | H42: =IF(G42="x",C42,"") | I42: =IF(FERIEN!$G42="x",D42,"")
B43: Osterferien | C43: - | D43: - | G43: =IF($G$39="x","x","") | H43: =IF(G43="x",C43,"") | I43: =IF(FERIEN!$G43="x",D43,"")
B44: Pfingstferien | C44: - | D44: - | G44: =IF($G$39="x","x","") | H44: =IF(G44="x",C44,"") | I44: =IF(FERIEN!$G44="x",D44,"") | J44: =IF(FERIEN!$G44="x",E44,"")
B45: Sommerferien | C45: - | D45: - | G45: =IF($G$39="x","x","") | H45: =IF(G45="x",C45,"") | I45: =IF(FERIEN!$G45="x",D45,"")
B46: HESSEN | C46: Von | D46: Bis | E46: & | F46: & | H46: Von | I46: Bis | J46: & | K46: &
B47: Herbstferien | C47: 46300 | D47: 46312 | G47: =IF($G$46="x","x","") | H47: =IF(G47="x",C47,"") | I47: =IF(FERIEN!$G47="x",D47,"")
B48: Weihnachtsferien | C48: - | D48: - | G48: =IF($G$46="x","x","") | H48: =IF(G48="x",C48,"") | I48: =IF(FERIEN!$G48="x",D48,"")
B49: Winterferien | C49: - | D49: - | G49: =IF($G$46="x","x","") | H49: =IF(G49="x",C49,"") | I49: =IF(FERIEN!$G49="x",D49,"")
B50: Osterferien | C50: - | D50: - | G50: =IF($G$46="x","x","") | H50: =IF(G50="x",C50,"") | I50: =IF(FERIEN!$G50="x",D50,"")
B51: Pfingstferien | C51: - | D51: - | G51: =IF($G$46="x","x","") | H51: =IF(G51="x",C51,"") | I51: =IF(FERIEN!$G51="x",D51,"")
B52: Sommerferien | C52: - | D52: - | G52: =IF($G$46="x","x","") | H52: =IF(G52="x",C52,"") | I52: =IF(FERIEN!$G52="x",D52,"")
B53: MECKLENBURG-VORPOMMERN | C53: Von | D53: Bis | E53: & | F53: & | H53: Von | I53: Bis | J53: & | K53: &
B54: Herbstferien | C54: 46310 | D54: 46319 | G54: =IF($G$53="x","x","") | H54: =IF(G54="x",C54,"") | I54: =IF(FERIEN!$G54="x",D54,"") | J54: =IF(FERIEN!$G54="x",E54,"") | K54: =IF(FERIEN!$G54="x",F54,"") | L54: 45231
B55: Weihnachtsferien | C55: - | D55: - | G55: =IF($G$53="x","x","") | H55: =IF(G55="x",C55,"") | I55: =IF(FERIEN!$G55="x",D55,"")
B56: Winterferien | C56: - | D56: - | G56: =IF($G$53="x","x","") | H56: =IF(G56="x",C56,"") | I56: =IF(FERIEN!$G56="x",D56,"")
B57: Osterferien | C57: - | D57: - | G57: =IF($G$53="x","x","") | H57: =IF(G57="x",C57,"") | I57: =IF(FERIEN!$G57="x",D57,"") | J57: =IF(FERIEN!$G57="x",E57,"")
B58: Pfingstferien | C58: - | D58: - | G58: =IF($G$53="x","x","") | H58: =IF(G58="x",C58,"") | I58: =IF(FERIEN!$G58="x",D58,"")
B59: Sommerferien | C59: - | D59: - | G59: =IF($G$53="x","x","") | H59: =IF(G59="x",C59,"") | I59: =IF(FERIEN!$G59="x",D59,"")
B60: NIEDERSACHSEN | C60: Von | D60: Bis | E60: & | F60: & | H60: Von | I60: Bis | J60: & | K60: &
B61: Herbstferien | C61: 46307 | D61: 46319 | G61: =IF($G$60="x","x","") | H61: =IF(G61="x",C61,"") | I61: =IF(FERIEN!$G61="x",D61,"") | J61: =IF(FERIEN!$G61="x",E61,"")
B62: Weihnachtsferien | C62: - | D62: - | G62: =IF($G$60="x","x","") | H62: =IF(G62="x",C62,"") | I62: =IF(FERIEN!$G62="x",D62,"")
B63: Winterferien | C63: - | D63: - | G63: =IF($G$60="x","x","") | H63: =IF(G63="x",C63,"") | I63: =IF(FERIEN!$G63="x",D63,"")
B64: Osterferien | C64: - | D64: - | G64: =IF($G$60="x","x","") | H64: =IF(G64="x",C64,"") | I64: =IF(FERIEN!$G64="x",D64,"") | J64: =IF(FERIEN!$G64="x",E64,"")
B65: Pfingstferien | C65: - | D65: - | G65: =IF($G$60="x","x","") | H65: =IF(G65="x",C65,"") | I65: =IF(FERIEN!$G65="x",D65,"") | J65: =IF(FERIEN!$G65="x",E65,"") | K65: =IF(FERIEN!$G65="x",F65,"")
B66: Sommerferien | C66: - | D66: - | G66: =IF($G$60="x","x","") | H66: =IF(G66="x",C66,"") | I66: =IF(FERIEN!$G66="x",D66,"")
B67: NORDRHEIN-WESTFALEN | C67: Von | D67: Bis | E67: & | F67: & | H67: Von | I67: Bis | J67: & | K67: &
B68: Herbstferien | C68: 46312 | D68: 46326 | G68: =IF($G$67="x","x","") | H68: =IF(G68="x",C68,"") | I68: =IF(FERIEN!$G68="x",D68,"")
B69: Weihnachtsferien | C69: - | D69: - | G69: =IF($G$67="x","x","") | H69: =IF(G69="x",C69,"") | I69: =IF(FERIEN!$G69="x",D69,"")
B70: Winterferien | C70: - | D70: - | G70: =IF($G$67="x","x","") | H70: =IF(G70="x",C70,"") | I70: =IF(FERIEN!$G70="x",D70,"")
B71: Osterferien | C71: - | D71: - | G71: =IF($G$67="x","x","") | H71: =IF(G71="x",C71,"") | I71: =IF(FERIEN!$G71="x",D71,"")
B72: Pfingstferien | C72: - | D72: - | G72: =IF($G$67="x","x","") | H72: =IF(G72="x",C72,"") | I72: =IF(FERIEN!$G72="x",D72,"")
B73: Sommerferien | C73: - | D73: - | G73: =IF($G$67="x","x","") | H73: =IF(G73="x",C73,"") | I73: =IF(FERIEN!$G73="x",D73,"")
B74: RHEINLAND-PFALZ | C74: Von | D74: Bis | E74: & | F74: & | H74: Von | I74: Bis | J74: & | K74: &
B75: Herbstferien | C75: 46300 | D75: 46311 | G75: =IF($G$74="x","x","") | H75: =IF(G75="x",C75,"") | I75: =IF(FERIEN!$G75="x",D75,"")
B76: Weihnachtsferien | C76: - | D76: - | G76: =IF($G$74="x","x","") | H76: =IF(G76="x",C76,"") | I76: =IF(FERIEN!$G76="x",D76,"")
B77: Winterferien | C77: - | D77: - | G77: =IF($G$74="x","x","") | H77: =IF(G77="x",C77,"") | I77: =IF(FERIEN!$G77="x",D77,"")
B78: Osterferien | C78: - | D78: - | G78: =IF($G$74="x","x","") | H78: =IF(G78="x",C78,"") | I78: =IF(FERIEN!$G78="x",D78,"")
B79: Pfingstferien | C79: - | D79: - | G79: =IF($G$74="x","x","") | H79: =IF(G79="x",C79,"") | I79: =IF(FERIEN!$G79="x",D79,"")
B80: Sommerferien | C80: - | D80: - | G80: =IF($G$74="x","x","") | H80: =IF(G80="x",C80,"") | I80: =IF(FERIEN!$G80="x",D80,"")
B81: SAARLAND | C81: Von | D81: Bis | E81: & | F81: & | H81: Von | I81: Bis | J81: & | K81: &
B82: Herbstferien | C82: 46300 | D82: 46311 | G82: =IF($G$81="x","x","") | H82: =IF(G82="x",C82,"") | I82: =IF(FERIEN!$G82="x",D82,"")
B83: Weihnachtsferien | C83: - | D83: - | G83: =IF($G$81="x","x","") | H83: =IF(G83="x",C83,"") | I83: =IF(FERIEN!$G83="x",D83,"")
B84: Winterferien | C84: - | D84: - | G84: =IF($G$81="x","x","") | H84: =IF(G84="x",C84,"") | I84: =IF(FERIEN!$G84="x",D84,"")
B85: Osterferien | C85: - | D85: - | G85: =IF($G$81="x","x","") | H85: =IF(G85="x",C85,"") | I85: =IF(FERIEN!$G85="x",D85,"")
B86: Pfingstferien | C86: - | D86: - | G86: =IF($G$81="x","x","") | H86: =IF(G86="x",C86,"") | I86: =IF(FERIEN!$G86="x",D86,"")
B87: Sommerferien | C87: - | D87: - | G87: =IF($G$81="x","x","") | H87: =IF(G87="x",C87,"") | I87: =IF(FERIEN!$G87="x",D87,"")
B88: SACHSEN | C88: Von | D88: Bis | E88: & | F88: & | H88: Von | I88: Bis | J88: & | K88: &
B89: Herbstferien | C89: 46307 | D89: 46319 | G89: =IF($G$88="x","x","") | H89: =IF(G89="x",C89,"") | I89: =IF(FERIEN!$G89="x",D89,"")
B90: Weihnachtsferien | C90: - | D90: - | G90: =IF($G$88="x","x","") | H90: =IF(G90="x",C90,"") | I90: =IF(FERIEN!$G90="x",D90,"")
B91: Winterferien | C91: - | D91: - | G91: =IF($G$88="x","x","") | H91: =IF(G91="x",C91,"") | I91: =IF(FERIEN!$G91="x",D91,"")
B92: Osterferien | C92: - | D92: - | G92: =IF($G$88="x","x","") | H92: =IF(G92="x",C92,"") | I92: =IF(FERIEN!$G92="x",D92,"") | J92: =IF(FERIEN!$G92="x",E92,"")
B93: Pfingstferien | C93: - | D93: - | G93: =IF($G$88="x","x","") | H93: =IF(G93="x",C93,"") | I93: =IF(FERIEN!$G93="x",D93,"")
B94: Sommerferien | C94: - | D94: - | G94: =IF($G$88="x","x","") | H94: =IF(G94="x",C94,"") | I94: =IF(FERIEN!$G94="x",D94,"")
B95: SACHSEN-ANHALT | C95: Von | D95: Bis | E95: & | F95: & | H95: Von | I95: Bis | J95: & | K95: &
B96: Herbstferien | C96: 46314 | D96: 46325 | G96: =IF($G$95="x","x","") | H96: =IF(G96="x",C96,"") | I96: =IF(FERIEN!$G96="x",D96,"") | J96: =IF(FERIEN!$G96="x",E96,"")
B97: Weihnachtsferien | C97: - | D97: - | G97: =IF($G$95="x","x","") | H97: =IF(G97="x",C97,"") | I97: =IF(FERIEN!$G97="x",D97,"")
B98: Winterferien | C98: - | D98: - | G98: =IF($G$95="x","x","") | H98: =IF(G98="x",C98,"") | I98: =IF(FERIEN!$G98="x",D98,"")
B99: Osterferien | C99: - | D99: - | G99: =IF($G$95="x","x","") | H99: =IF(G99="x",C99,"") | I99: =IF(FERIEN!$G99="x",D99,"")
B100: Pfingstferien | C100: - | D100: - | G100: =IF($G$95="x","x","") | H100: =IF(G100="x",C100,"") | I100: =IF(FERIEN!$G100="x",D100,"")
B101: Sommerferien | C101: - | D101: - | G101: =IF($G$95="x","x","") | H101: =IF(G101="x",C101,"") | I101: =IF(FERIEN!$G101="x",D101,"")
...

Sheet Feiertage 26
A1: Datum | B1: Jahr | C1: Tag | D1: Feiertag? | E1: Bezeichnung | F1: Land | G1: Gesetz.? | I1: So. | J1: Feiertag am Sonntag | N1: 2026 | O1: =DATE($N$1,3,28)+MOD(24-MOD($N$1,19)*10.63,29)-MOD(TRUNC($N$1*5/4)+MOD(24-MOD($N$1,19)*10.63,29)+1,7) -> 46117 | P1: =DATEVALUE("25.12."&$N$1) -> 46381 | R1: X | S1: Markierter Feiertag
A2: =DATEVALUE("01.01."&$N$1) -> 46023 | B2: =IF(D2="x",A2,"") -> 46023 | C2: =IF(D2="x",A2,"") -> 46023 | D2: x | E2: Neujahr | F2: DE / AT / CH | G2: Ja
A3: =DATEVALUE("02.01."&$N$1) -> 46024 | B3: =IF(D3="x",A3,"") | C3: =IF(D3="x",A3,"") | E3: Berchtoldstag | F3: CH | G3: Ja
A4: =DATEVALUE("06.01."&$N$1) -> 46028 | B4: =IF(D4="x",A4,"") | C4: =IF(D4="x",A4,"") | E4: Heilige Drei Könige | F4: DE / AT / CH | G4: Ja
A5: =DATEVALUE("08.03."&$N$1) -> 46089 | B5: =IF(D5="x",A5,"") | C5: =IF(D5="x",A5,"") | E5: Inter. Frauentag | F5: DE | G5: Ja
A6: =DATEVALUE("19.03."&$N$1) -> 46100 | B6: =IF(D6="x",A6,"") | C6: =IF(D6="x",A6,"") | E6: St. Josef | F6: CH | G6: Ja
A7: =$O$1-2 -> 46115 | B7: =IF(D7="x",A7,"") -> 46115 | C7: =IF(D7="x",A7,"") -> 46115 | D7: x | E7: Karfreitag | F7: DE / CH | G7: Ja
A8: =DATE($N$1,3,28)+MOD(24-MOD($N$1,19)*10.63,29)-MOD(TRUNC($N$1*5/4)+MOD(24-MOD($N$1,19)*10.63,29)+1,7) -> 46117 | B8: =IF(D8="x",A8,"") | C8: =IF(D8="x",A8,"") | E8: Ostersonntag | F8: DE / AT / CH | G8: Ja
A9: =$O$1+1 -> 46118 | B9: =IF(D9="x",A9,"") -> 46118 | C9: =IF(D9="x",A9,"") -> 46118 | D9: x | E9: Ostermontag | F9: DE / AT / CH | G9: Ja
A10: =DATE($N$1,4,25)+1-WEEKDAY(DATE($N$1,4,25),2) -> 46132 | B10: =IF(D10="x",A10,"") | C10: =IF(D10="x",A10,"") | E10: Sechseläuten | F10: CH | G10: Ja
A11: =DATEVALUE("01.05."&$N$1) -> 46143 | B11: =IF(D11="x",A11,"") -> 46143 | C11: =IF(D11="x",A11,"") -> 46143 | D11: x | E11: Tag d. Arbeit | F11: DE / CH | G11: Ja
A12: =DATEVALUE("01.05."&$N$1) -> 46143 | B12: =IF(D12="x",A12,"") | C12: =IF(D12="x",A12,"") | E12: Staatsfeiertag | F12: AT | G12: Ja
A13: =$O$1+39 -> 46156 | B13: =IF(D13="x",A13,"") -> 46156 | C13: =IF(D13="x",A13,"") -> 46156 | D13: x | E13: Christi Himmelfahrt | F13: DE / AT / CH | G13: Ja
A14: =$O$1+49 -> 46166 | B14: =IF(D14="x",A14,"") -> 46166 | C14: =IF(D14="x",A14,"") -> 46166 | D14: x | E14: Pfingstsonntag | F14: DE / AT | G14: Ja
A15: =$O$1+50 -> 46167 | B15: =IF(D15="x",A15,"") -> 46167 | C15: =IF(D15="x",A15,"") -> 46167 | D15: x | E15: Pfingstmontag | F15: DE / AT / CH | G15: Ja
A16: =$O$1+60 -> 46177 | B16: =IF(D16="x",A16,"") | C16: =IF(D16="x",A16,"") | E16: Fronleichnam | F16: DE / AT / CH | G16: Ja
A17: =DATEVALUE("29.06."&$N$1) -> 46202 | B17: =IF(D17="x",A17,"") | C17: =IF(D17="x",A17,"") | E17: Peter und Paul | F17: CH | G17: Ja
A18: =DATEVALUE("01.08."&$N$1) -> 46235 | B18: =IF(D18="x",A18,"") | C18: =IF(D18="x",A18,"") | E18: Nationalfeiertag | F18: CH | G18: Ja
A19: =DATEVALUE("08.08."&$N$1) -> 46242 | B19: =IF(D19="x",A19,"") | C19: =IF(D19="x",A19,"") | E19: Augs. Friedensfest | F19: DE | G19: Ja
A20: =DATEVALUE("15.08."&$N$1) -> 46249 | B20: =IF(D20="x",A20,"") | C20: =IF(D20="x",A20,"") | E20: Mariä Himmelfahrt | F20: DE / AT / CH | G20: Ja
A21: =DATE($N$1,9,1)+11-WEEKDAY(DATE($N$1,9,1),2) -> 46275 | B21: =IF(D21="x",A21,"") | C21: =IF(D21="x",A21,"") | E21: Genfer Bettag | F21: CH | G21: Ja
A22: =DATE($N$1,9,1)+15-WEEKDAY(DATE($N$1,9,1),2) -> 46279 | B22: =IF(D22="x",A22,"") | C22: =IF(D22="x",A22,"") | E22: Knabenschiessen | F22: CH | G22: Ja
A23: =DATE($N$1,9,1)+21-WEEKDAY(DATE($N$1,9,1),2) -> 46285 | B23: =IF(D23="x",A23,"") | C23: =IF(D23="x",A23,"") | E23: Eidg. Dank-, Buss- und Bettag | F23: CH | G23: Ja
A24: =DATEVALUE("20.09."&$N$1) -> 46285 | B24: =IF(D24="x",A24,"") | C24: =IF(D24="x",A24,"") | E24: Weltkindertag | F24: DE | G24: Ja
A25: =DATEVALUE("22.09."&$N$1) -> 46287 | B25: =IF(D25="x",A25,"") | C25: =IF(D25="x",A25,"") | E25: Mauritiustag | F25: CH | G25: Ja
A26: =DATEVALUE("25.09."&$N$1) -> 46290 | B26: =IF(D26="x",A26,"") | C26: =IF(D26="x",A26,"") | E26: St. Niklaus v. Flüe | F26: CH | G26: Ja
A27: =DATEVALUE("02.10."&$N$1) -> 46297 | B27: =IF(D27="x",A27,"") | C27: =IF(D27="x",A27,"") | E27: St. Leodegar | F27: CH | G27: Ja
A28: =DATEVALUE("03.10."&$N$1) -> 46298 | B28: =IF(D28="x",A28,"") -> 46298 | C28: =IF(D28="x",A28,"") -> 46298 | D28: x | E28: Tag der Dt. Einheit | F28: DE | G28: Ja
A29: =DATEVALUE("26.10."&$N$1) -> 46321 | B29: =IF(D29="x",A29,"") | C29: =IF(D29="x",A29,"") | E29: Nationalfeiertag | F29: AT | G29: Ja
A30: =DATEVALUE("31.10."&$N$1) -> 46326 | B30: =IF(D30="x",A30,"") | C30: =IF(D30="x",A30,"") | E30: Reformationstag | F30: DE | G30: Ja
A31: =DATEVALUE("01.11."&$N$1) -> 46327 | B31: =IF(D31="x",A31,"") | C31: =IF(D31="x",A31,"") | E31: Allerheiligen | F31: DE / AT / CH | G31: Ja
A32: =DATE($N$1,12,25)-WEEKDAY(DATE($N$1,12,25),2)-32 -> 46344 | B32: =IF(D32="x",A32,"") | C32: =IF(D32="x",A32,"") | E32: Buß- und Bettag | F32: DE | G32: Ja
A33: =DATEVALUE("08.12."&$N$1) -> 46364 | B33: =IF(D33="x",A33,"") | C33: =IF(D33="x",A33,"") | E33: Mariä Empfängnis | F33: CH / AT | G33: Ja
A34: =DATEVALUE("25.12."&$N$1) -> 46381 | B34: =IF(D34="x",A34,"") -> 46381 | C34: =IF(D34="x",A34,"") -> 46381 | D34: x | E34: Weihnachten | F34: DE / AT / CH | G34: Ja
A35: =DATEVALUE("26.12."&$N$1) -> 46382 | B35: =IF(D35="x",A35,"") -> 46382 | C35: =IF(D35="x",A35,"") -> 46382 | D35: x | E35: Weihnachten | F35: DE / AT / CH | G35: Ja
A36: =TRUNC(((4&-$N$1)+1)/7)*7+5+(DAY($O$1-3)<8)*7 -> 46121 | B36: =IF(D36="x",A36,"") | C36: =IF(D36="x",A36,"") | E36: Näfelser Fahrt | F36: CH | G36: Nein
A37: =$O$1-1 -> 46116 | B37: =IF(D37="x",A37,"") | C37: =IF(D37="x",A37,"") | E37: Karsamstag | F37: DE | G37: Nein
A38: =DATE($N$1,12,25)-WEEKDAY(DATE($N$1,12,25),2)-21 -> 46355 | B38: =IF(D38="x",A38,"") | C38: =IF(D38="x",A38,"") | E38: 1. Advent | F38: DE / AT / CH | G38: Nein
A39: =DATEVALUE("06.12."&$N$1) -> 46362 | B39: =IF(D39="x",A39,"") | C39: =IF(D39="x",A39,"") | E39: Nikolaus | F39: DE / AT / CH | G39: Nein
A40: =DATE($N$1,12,25)-WEEKDAY(DATE($N$1,12,25),2)-14 -> 46362 | B40: =IF(D40="x",A40,"") | C40: =IF(D40="x",A40,"") | E40: 2. Advent | F40: DE / AT / CH | G40: Nein
A41: =DATE($N$1,12,25)-WEEKDAY(DATE($N$1,12,25),2)-7 -> 46369 | B41: =IF(D41="x",A41,"") | C41: =IF(D41="x",A41,"") | E41: 3. Advent | F41: DE / AT / CH | G41: Nein
A42: =DATE($N$1,12,25)-WEEKDAY(DATE($N$1,12,25),2) -> 46376 | B42: =IF(D42="x",A42,"") | C42: =IF(D42="x",A42,"") | E42: 4. Advent | F42: DE / AT / CH | G42: Nein
A43: =DATEVALUE("24.12."&$N$1) -> 46380 | B43: =IF(D43="x",A43,"") | C43: =IF(D43="x",A43,"") | E43: Heiligabend | F43: DE / AT / CH | G43: Nein
A44: =DATEVALUE("31.12."&$N$1) -> 46387 | B44: =IF(D44="x",A44,"") | C44: =IF(D44="x",A44,"") | E44: Silvester | F44: DE / AT / CH | G44: Nein
B45: =IF(D45="x",A45,"") | C45: =IF(D45="x",A45,"")
B46: =IF(D46="x",A46,"") | C46: =IF(D46="x",A46,"")
B47: =IF(D47="x",A47,"") | C47: =IF(D47="x",A47,"")
B48: =IF(D48="x",A48,"") | C48: =IF(D48="x",A48,"")
B49: =IF(D49="x",A49,"") | C49: =IF(D49="x",A49,"")
B50: =IF(D50="x",A50,"") | C50: =IF(D50="x",A50,"")
B51: =IF(D51="x",A51,"") | C51: =IF(D51="x",A51,"")
B52: =IF(D52="x",A52,"") | C52: =IF(D52="x",A52,"")
B53: =IF(D53="x",A53,"") | C53: =IF(D53="x",A53,"")
B54: =IF(D54="x",A54,"") | C54: =IF(D54="x",A54,"")
B55: =IF(D55="x",A55,"") | C55: =IF(D55="x",A55,"")
B56: =IF(D56="x",A56,"") | C56: =IF(D56="x",A56,"")
... B58: =IF(D58="x",A58,"") | C58: =IF(D58="x",A58,"")

Sheet Info
A5: office-lernen.com
A7: Testversion An- und Abwesenheitsplaner Schule 2026/2027 Diese kostenlose Testversion enthält ein Schülerblatt mit den Monaten August bis Oktober und ist mit Blattschutz versehen. Die Vollversion (alle Monate, ohne Blattschutz, 14,90 €) erhalten Sie auf office-lernen.com: https://office-lernen.com/anwesenheitsliste-kostenlose-vorlagen-zum-download/
A11: Dem Lizenznehmer wird gestattet, diese Software im eigenen betrieblichen oder privaten Umfeld zu nutzen. Die unerlaubte weitergabe an Dritte ist nicht gestattet!
