Workbook

Sheet Januar
A1: Teilnehmer Training | AC1: 46023 | AU1: =$AY$1 -> 2026 | AY1: 2026
B3: Training stattgefunden | AT3: =COUNTIF(D3:AS3,"X") -> 0 | AU3: Trainingseinheiten
AT4: [x] teilgenommen | AU4: [e] entschuldigt | AV4: [u] unentschuldigt
B6: KW | D6: 1 | K6: =D6+1 -> 2 | R6: =K6+1 -> 3 | Y6: =R6+1 -> 4 | AF6: =Y6+1 -> 5 | AM6: =AF6+1 -> 6
D7: =D8 -> 46020 | E7: =E8 -> 46021 | F7: =F8 -> 46022 | G7: =G8 -> 46023 | H7: =H8 -> 46024 | I7: =I8 -> 46025 | J7: =J8 -> 46026 | K7: =K8 -> 46027 | ... AS7: =AS8 -> 46061
B8: Name | C8: Vorname | D8: =DATE($AY$1,1,1)+(D6-IF(WEEKDAY(DATE($AY$1,1,1),2)>4,0,1))*7+1-1+1-WEEKDAY(DATE($AY$1,1,1)+(D6-IF(WEEKDAY(DATE($AY$1,1,1),2)>4,0,1))*7,2) -> 46020 | E8: =D8+1 -> 46021 | F8: =E8+1 -> 46022 | G8: =F8+1 -> 46023 | H8: =G8+1 -> 46024 | I8: =H8+1 -> 46025 | J8: =I8+1 -> 46026 | K8: =J8+1 -> 46027 | L8: =K8+1 -> 46028 | ... AS8: =AR8+1 -> 46061
A9: 1 | B9: Name 1 | C9: Vorname 1 | AT9: =COUNTIF(D9:AS9,"X") -> 0 | AU9: =COUNTIF(D9:AS9,"e") -> 0 | AV9: =COUNTIF(D9:AS9,"u") -> 0
A10: 2 | B10: Name 2 | C10: Vorname 2 | AT10: =COUNTIF(D10:AS10,"X") -> 0 | AU10: =COUNTIF(D10:AS10,"e") -> 0 | AV10: =COUNTIF(D10:AS10,"u") -> 0
A11: 3 | B11: Name 3 | C11: Vorname 3 | AT11: =COUNTIF(D11:AS11,"X") -> 0 | AU11: =COUNTIF(D11:AS11,"e") -> 0 | AV11: =COUNTIF(D11:AS11,"u") -> 0
A12: 4 | B12: Name 4 | C12: Vorname 4 | AT12: =COUNTIF(D12:AS12,"X") -> 0 | AU12: =COUNTIF(D12:AS12,"e") -> 0 | AV12: =COUNTIF(D12:AS12,"u") -> 0
A13: 5 | B13: Name 5 | C13: Vorname 5 | AT13: =COUNTIF(D13:AS13,"X") -> 0 | AU13: =COUNTIF(D13:AS13,"e") -> 0 | AV13: =COUNTIF(D13:AS13,"u") -> 0
A14: 6 | B14: Name 6 | C14: Vorname 6 | AT14: =COUNTIF(D14:AS14,"X") -> 0 | AU14: =COUNTIF(D14:AS14,"e") -> 0 | AV14: =COUNTIF(D14:AS14,"u") -> 0
A15: 7 | B15: Name 7 | C15: Vorname 7 | AT15: =COUNTIF(D15:AS15,"X") -> 0 | AU15: =COUNTIF(D15:AS15,"e") -> 0 | AV15: =COUNTIF(D15:AS15,"u") -> 0
A16: 8 | B16: Name 8 | C16: Vorname 8 | AT16: =COUNTIF(D16:AS16,"X") -> 0 | AU16: =COUNTIF(D16:AS16,"e") -> 0 | AV16: =COUNTIF(D16:AS16,"u") -> 0
A17: 9 | B17: Name 9 | C17: Vorname 9 | AT17: =COUNTIF(D17:AS17,"X") -> 0 | AU17: =COUNTIF(D17:AS17,"e") -> 0 | AV17: =COUNTIF(D17:AS17,"u") -> 0
A18: 10 | B18: Name 10 | C18: Vorname 10 | AT18: =COUNTIF(D18:AS18,"X") -> 0 | AU18: =COUNTIF(D18:AS18,"e") -> 0 | AV18: =COUNTIF(D18:AS18,"u") -> 0
A19: 11 | B19: Name 11 | C19: Vorname 11 | AT19: =COUNTIF(D19:AS19,"X") -> 0 | AU19: =COUNTIF(D19:AS19,"e") -> 0 | AV19: =COUNTIF(D19:AS19,"u") -> 0
A20: 12 | B20: Name 12 | C20: Vorname 12 | AT20: =COUNTIF(D20:AS20,"X") -> 0 | AU20: =COUNTIF(D20:AS20,"e") -> 0 | AV20: =COUNTIF(D20:AS20,"u") -> 0
... A38: 30 | B38: Name 30 | C38: Vorname 30 | AT38: =COUNTIF(D38:AS38,"X") -> 0 | AU38: =COUNTIF(D38:AS38,"e") -> 0 | AV38: =COUNTIF(D38:AS38,"u") -> 0
B39: [X] teilgenommen | D39: =COUNTIF(D9:D38,"X") -> 0 | E39: =COUNTIF(E9:E38,"X") -> 0 | F39: =COUNTIF(F9:F38,"X") -> 0 | G39: =COUNTIF(G9:G38,"X") -> 0 | H39: =COUNTIF(H9:H38,"X") -> 0 | I39: =COUNTIF(I9:I38,"X") -> 0 | J39: =COUNTIF(J9:J38,"X") -> 0 | K39: =COUNTIF(K9:K38,"X") -> 0 | ... AS39: =COUNTIF(AS9:AS38,"X") -> 0
B40: [e] entschuldigt | D40: =COUNTIF(D9:D38,"e") -> 0 | E40: =COUNTIF(E9:E38,"e") -> 0 | F40: =COUNTIF(F9:F38,"e") -> 0 | G40: =COUNTIF(G9:G38,"e") -> 0 | H40: =COUNTIF(H9:H38,"e") -> 0 | I40: =COUNTIF(I9:I38,"e") -> 0 | J40: =COUNTIF(J9:J38,"e") -> 0 | K40: =COUNTIF(K9:K38,"e") -> 0 | ... AS40: =COUNTIF(AS9:AS38,"e") -> 0
B41: [u] unentschuldigt | D41: =COUNTIF(D9:D38,"u") -> 0 | E41: =COUNTIF(E9:E38,"u") -> 0 | F41: =COUNTIF(F9:F38,"u") -> 0 | G41: =COUNTIF(G9:G38,"u") -> 0 | H41: =COUNTIF(H9:H38,"u") -> 0 | I41: =COUNTIF(I9:I38,"u") -> 0 | J41: =COUNTIF(J9:J38,"u") -> 0 | K41: =COUNTIF(K9:K38,"u") -> 0 | ... AS41: =COUNTIF(AS9:AS38,"u") -> 0

Sheet Februar
A1: Teilnahmeliste Training | AC1: 46054 | AU1: =Januar!$AY$1 -> 2026
B3: Training stattgefunden | AT3: =COUNTIF(D3:AS3,"X") -> 0 | AU3: Trainingseinheiten
AT4: [x] teilgenommen | AU4: [e] entschuldigt | AV4: [u] unentschuldigt
B6: KW | D6: 5 | K6: =D6+1 -> 6 | R6: =K6+1 -> 7 | Y6: =R6+1 -> 8 | AF6: =Y6+1 -> 9 | AM6: =AF6+1 -> 10
D7: =D8 -> 46048 | E7: =E8 -> 46049 | F7: =F8 -> 46050 | G7: =G8 -> 46051 | H7: =H8 -> 46052 | I7: =I8 -> 46053 | J7: =J8 -> 46054 | K7: =K8 -> 46055 | ... AS7: =AS8 -> 46089
B8: Name | C8: Vorname | D8: =DATE(Januar!$AY$1,1,1)+(D6-IF(WEEKDAY(DATE(Januar!$AY$1,1,1),2)>4,0,1))*7+1-1+1-WEEKDAY(DATE(Januar!$AY$1,1,1)+(D6-IF(WEEKDAY(DATE(Januar!$AY$1,1,1),2)>4,0,1))*7,2) -> 46048 | E8: =D8+1 -> 46049 | F8: =E8+1 -> 46050 | G8: =F8+1 -> 46051 | H8: =G8+1 -> 46052 | I8: =H8+1 -> 46053 | J8: =I8+1 -> 46054 | K8: =J8+1 -> 46055 | L8: =K8+1 -> 46056 | ... AS8: =AR8+1 -> 46089
A9: 1 | B9: =Januar!B9 -> Name 1 | C9: =Januar!C9 -> Vorname 1 | AT9: =COUNTIF(D9:AS9,"X") -> 0 | AU9: =COUNTIF(D9:AS9,"e") -> 0 | AV9: =COUNTIF(D9:AS9,"u") -> 0
A10: 2 | B10: =Januar!B10 -> Name 2 | C10: =Januar!C10 -> Vorname 2 | AT10: =COUNTIF(D10:AS10,"X") -> 0 | AU10: =COUNTIF(D10:AS10,"e") -> 0 | AV10: =COUNTIF(D10:AS10,"u") -> 0
A11: 3 | B11: =Januar!B11 -> Name 3 | C11: =Januar!C11 -> Vorname 3 | AT11: =COUNTIF(D11:AS11,"X") -> 0 | AU11: =COUNTIF(D11:AS11,"e") -> 0 | AV11: =COUNTIF(D11:AS11,"u") -> 0
A12: 4 | B12: =Januar!B12 -> Name 4 | C12: =Januar!C12 -> Vorname 4 | AT12: =COUNTIF(D12:AS12,"X") -> 0 | AU12: =COUNTIF(D12:AS12,"e") -> 0 | AV12: =COUNTIF(D12:AS12,"u") -> 0
A13: 5 | B13: =Januar!B13 -> Name 5 | C13: =Januar!C13 -> Vorname 5 | AT13: =COUNTIF(D13:AS13,"X") -> 0 | AU13: =COUNTIF(D13:AS13,"e") -> 0 | AV13: =COUNTIF(D13:AS13,"u") -> 0
A14: 6 | B14: =Januar!B14 -> Name 6 | C14: =Januar!C14 -> Vorname 6 | AT14: =COUNTIF(D14:AS14,"X") -> 0 | AU14: =COUNTIF(D14:AS14,"e") -> 0 | AV14: =COUNTIF(D14:AS14,"u") -> 0
A15: 7 | B15: =Januar!B15 -> Name 7 | C15: =Januar!C15 -> Vorname 7 | AT15: =COUNTIF(D15:AS15,"X") -> 0 | AU15: =COUNTIF(D15:AS15,"e") -> 0 | AV15: =COUNTIF(D15:AS15,"u") -> 0
A16: 8 | B16: =Januar!B16 -> Name 8 | C16: =Januar!C16 -> Vorname 8 | AT16: =COUNTIF(D16:AS16,"X") -> 0 | AU16: =COUNTIF(D16:AS16,"e") -> 0 | AV16: =COUNTIF(D16:AS16,"u") -> 0
A17: 9 | B17: =Januar!B17 -> Name 9 | C17: =Januar!C17 -> Vorname 9 | AT17: =COUNTIF(D17:AS17,"X") -> 0 | AU17: =COUNTIF(D17:AS17,"e") -> 0 | AV17: =COUNTIF(D17:AS17,"u") -> 0
A18: 10 | B18: =Januar!B18 -> Name 10 | C18: =Januar!C18 -> Vorname 10 | AT18: =COUNTIF(D18:AS18,"X") -> 0 | AU18: =COUNTIF(D18:AS18,"e") -> 0 | AV18: =COUNTIF(D18:AS18,"u") -> 0
A19: 11 | B19: =Januar!B19 -> Name 11 | C19: =Januar!C19 -> Vorname 11 | AT19: =COUNTIF(D19:AS19,"X") -> 0 | AU19: =COUNTIF(D19:AS19,"e") -> 0 | AV19: =COUNTIF(D19:AS19,"u") -> 0
A20: 12 | B20: =Januar!B20 -> Name 12 | C20: =Januar!C20 -> Vorname 12 | AT20: =COUNTIF(D20:AS20,"X") -> 0 | AU20: =COUNTIF(D20:AS20,"e") -> 0 | AV20: =COUNTIF(D20:AS20,"u") -> 0
... A38: 30 | B38: =Januar!B38 -> Name 30 | C38: =Januar!C38 -> Vorname 30 | AT38: =COUNTIF(D38:AS38,"X") -> 0 | AU38: =COUNTIF(D38:AS38,"e") -> 0 | AV38: =COUNTIF(D38:AS38,"u") -> 0
B39: [X] teilgenommen | D39: =COUNTIF(D9:D38,"X") -> 0 | E39: =COUNTIF(E9:E38,"X") -> 0 | F39: =COUNTIF(F9:F38,"X") -> 0 | G39: =COUNTIF(G9:G38,"X") -> 0 | H39: =COUNTIF(H9:H38,"X") -> 0 | I39: =COUNTIF(I9:I38,"X") -> 0 | J39: =COUNTIF(J9:J38,"X") -> 0 | K39: =COUNTIF(K9:K38,"X") -> 0 | ... AS39: =COUNTIF(AS9:AS38,"X") -> 0
B40: [e] entschuldigt | D40: =COUNTIF(D9:D38,"e") -> 0 | E40: =COUNTIF(E9:E38,"e") -> 0 | F40: =COUNTIF(F9:F38,"e") -> 0 | G40: =COUNTIF(G9:G38,"e") -> 0 | H40: =COUNTIF(H9:H38,"e") -> 0 | I40: =COUNTIF(I9:I38,"e") -> 0 | J40: =COUNTIF(J9:J38,"e") -> 0 | K40: =COUNTIF(K9:K38,"e") -> 0 | ... AS40: =COUNTIF(AS9:AS38,"e") -> 0
B41: [u] unentschuldigt | D41: =COUNTIF(D9:D38,"u") -> 0 | E41: =COUNTIF(E9:E38,"u") -> 0 | F41: =COUNTIF(F9:F38,"u") -> 0 | G41: =COUNTIF(G9:G38,"u") -> 0 | H41: =COUNTIF(H9:H38,"u") -> 0 | I41: =COUNTIF(I9:I38,"u") -> 0 | J41: =COUNTIF(J9:J38,"u") -> 0 | K41: =COUNTIF(K9:K38,"u") -> 0 | ... AS41: =COUNTIF(AS9:AS38,"u") -> 0

Sheet März
A1: Teilnahmeliste Training | AL1: 46082 | AU1: =Januar!$AY$1 -> 2026
B3: Training stattgefunden | AT3: =COUNTIF(D3:AS3,"X") -> 0 | AU3: Trainingseinheiten
AT4: [x] teilgenommen | AU4: [e] entschuldigt | AV4: [u] unentschuldigt
B6: KW | D6: 9 | K6: =D6+1 -> 10 | R6: =K6+1 -> 11 | Y6: =R6+1 -> 12 | AF6: =Y6+1 -> 13 | AM6: =AF6+1 -> 14
D7: =D8 -> 46076 | E7: =E8 -> 46077 | F7: =F8 -> 46078 | G7: =G8 -> 46079 | H7: =H8 -> 46080 | I7: =I8 -> 46081 | J7: =J8 -> 46082 | K7: =K8 -> 46083 | ... AS7: =AS8 -> 46117
B8: Name | C8: Vorname | D8: =DATE(Januar!$AY$1,1,1)+(D6-IF(WEEKDAY(DATE(Januar!$AY$1,1,1),2)>4,0,1))*7+1-1+1-WEEKDAY(DATE(Januar!$AY$1,1,1)+(D6-IF(WEEKDAY(DATE(Januar!$AY$1,1,1),2)>4,0,1))*7,2) -> 46076 | E8: =D8+1 -> 46077 | F8: =E8+1 -> 46078 | G8: =F8+1 -> 46079 | H8: =G8+1 -> 46080 | I8: =H8+1 -> 46081 | J8: =I8+1 -> 46082 | K8: =J8+1 -> 46083 | L8: =K8+1 -> 46084 | ... AS8: =AR8+1 -> 46117
A9: 1 | B9: =Februar!B9 -> Name 1 | C9: =Februar!C9 -> Vorname 1 | AT9: =COUNTIF(D9:AS9,"X") -> 0 | AU9: =COUNTIF(D9:AS9,"e") -> 0 | AV9: =COUNTIF(D9:AS9,"u") -> 0
A10: 2 | B10: =Februar!B10 -> Name 2 | C10: =Februar!C10 -> Vorname 2 | AT10: =COUNTIF(D10:AS10,"X") -> 0 | AU10: =COUNTIF(D10:AS10,"e") -> 0 | AV10: =COUNTIF(D10:AS10,"u") -> 0
A11: 3 | B11: =Februar!B11 -> Name 3 | C11: =Februar!C11 -> Vorname 3 | AT11: =COUNTIF(D11:AS11,"X") -> 0 | AU11: =COUNTIF(D11:AS11,"e") -> 0 | AV11: =COUNTIF(D11:AS11,"u") -> 0
A12: 4 | B12: =Februar!B12 -> Name 4 | C12: =Februar!C12 -> Vorname 4 | AT12: =COUNTIF(D12:AS12,"X") -> 0 | AU12: =COUNTIF(D12:AS12,"e") -> 0 | AV12: =COUNTIF(D12:AS12,"u") -> 0
A13: 5 | B13: =Februar!B13 -> Name 5 | C13: =Februar!C13 -> Vorname 5 | AT13: =COUNTIF(D13:AS13,"X") -> 0 | AU13: =COUNTIF(D13:AS13,"e") -> 0 | AV13: =COUNTIF(D13:AS13,"u") -> 0
A14: 6 | B14: =Februar!B14 -> Name 6 | C14: =Februar!C14 -> Vorname 6 | AT14: =COUNTIF(D14:AS14,"X") -> 0 | AU14: =COUNTIF(D14:AS14,"e") -> 0 | AV14: =COUNTIF(D14:AS14,"u") -> 0
A15: 7 | B15: =Februar!B15 -> Name 7 | C15: =Februar!C15 -> Vorname 7 | AT15: =COUNTIF(D15:AS15,"X") -> 0 | AU15: =COUNTIF(D15:AS15,"e") -> 0 | AV15: =COUNTIF(D15:AS15,"u") -> 0
A16: 8 | B16: =Februar!B16 -> Name 8 | C16: =Februar!C16 -> Vorname 8 | AT16: =COUNTIF(D16:AS16,"X") -> 0 | AU16: =COUNTIF(D16:AS16,"e") -> 0 | AV16: =COUNTIF(D16:AS16,"u") -> 0
A17: 9 | B17: =Februar!B17 -> Name 9 | C17: =Februar!C17 -> Vorname 9 | AT17: =COUNTIF(D17:AS17,"X") -> 0 | AU17: =COUNTIF(D17:AS17,"e") -> 0 | AV17: =COUNTIF(D17:AS17,"u") -> 0
A18: 10 | B18: =Februar!B18 -> Name 10 | C18: =Februar!C18 -> Vorname 10 | AT18: =COUNTIF(D18:AS18,"X") -> 0 | AU18: =COUNTIF(D18:AS18,"e") -> 0 | AV18: =COUNTIF(D18:AS18,"u") -> 0
A19: 11 | B19: =Februar!B19 -> Name 11 | C19: =Februar!C19 -> Vorname 11 | AT19: =COUNTIF(D19:AS19,"X") -> 0 | AU19: =COUNTIF(D19:AS19,"e") -> 0 | AV19: =COUNTIF(D19:AS19,"u") -> 0
A20: 12 | B20: =Februar!B20 -> Name 12 | C20: =Februar!C20 -> Vorname 12 | AT20: =COUNTIF(D20:AS20,"X") -> 0 | AU20: =COUNTIF(D20:AS20,"e") -> 0 | AV20: =COUNTIF(D20:AS20,"u") -> 0
... A38: 30 | B38: =Februar!B38 -> Name 30 | C38: =Februar!C38 -> Vorname 30 | AT38: =COUNTIF(D38:AS38,"X") -> 0 | AU38: =COUNTIF(D38:AS38,"e") -> 0 | AV38: =COUNTIF(D38:AS38,"u") -> 0
B39: [X] teilgenommen | D39: =COUNTIF(D9:D38,"X") -> 0 | E39: =COUNTIF(E9:E38,"X") -> 0 | F39: =COUNTIF(F9:F38,"X") -> 0 | G39: =COUNTIF(G9:G38,"X") -> 0 | H39: =COUNTIF(H9:H38,"X") -> 0 | I39: =COUNTIF(I9:I38,"X") -> 0 | J39: =COUNTIF(J9:J38,"X") -> 0 | K39: =COUNTIF(K9:K38,"X") -> 0 | ... AS39: =COUNTIF(AS9:AS38,"X") -> 0
B40: [e] entschuldigt | D40: =COUNTIF(D9:D38,"e") -> 0 | E40: =COUNTIF(E9:E38,"e") -> 0 | F40: =COUNTIF(F9:F38,"e") -> 0 | G40: =COUNTIF(G9:G38,"e") -> 0 | H40: =COUNTIF(H9:H38,"e") -> 0 | I40: =COUNTIF(I9:I38,"e") -> 0 | J40: =COUNTIF(J9:J38,"e") -> 0 | K40: =COUNTIF(K9:K38,"e") -> 0 | ... AS40: =COUNTIF(AS9:AS38,"e") -> 0
B41: [u] unentschuldigt | D41: =COUNTIF(D9:D38,"u") -> 0 | E41: =COUNTIF(E9:E38,"u") -> 0 | F41: =COUNTIF(F9:F38,"u") -> 0 | G41: =COUNTIF(G9:G38,"u") -> 0 | H41: =COUNTIF(H9:H38,"u") -> 0 | I41: =COUNTIF(I9:I38,"u") -> 0 | J41: =COUNTIF(J9:J38,"u") -> 0 | K41: =COUNTIF(K9:K38,"u") -> 0 | ... AS41: =COUNTIF(AS9:AS38,"u") -> 0

Sheet April
A1: Teilnahmeliste Training | AC1: 46113 | AU1: =Januar!$AY$1 -> 2026
B3: Training stattgefunden | AT3: =COUNTIF(D3:AS3,"X") -> 0 | AU3: Trainingseinheiten
AT4: [x] teilgenommen | AU4: [e] entschuldigt | AV4: [u] unentschuldigt
B6: KW | D6: 14 | K6: =D6+1 -> 15 | R6: =K6+1 -> 16 | Y6: =R6+1 -> 17 | AF6: =Y6+1 -> 18 | AM6: =AF6+1 -> 19
D7: =D8 -> 46111 | E7: =E8 -> 46112 | F7: =F8 -> 46113 | G7: =G8 -> 46114 | H7: =H8 -> 46115 | I7: =I8 -> 46116 | J7: =J8 -> 46117 | K7: =K8 -> 46118 | ... AS7: =AS8 -> 46152
B8: Name | C8: Vorname | D8: =DATE(Januar!$AY$1,1,1)+(D6-IF(WEEKDAY(DATE(Januar!$AY$1,1,1),2)>4,0,1))*7+1-1+1-WEEKDAY(DATE(Januar!$AY$1,1,1)+(D6-IF(WEEKDAY(DATE(Januar!$AY$1,1,1),2)>4,0,1))*7,2) -> 46111 | E8: =D8+1 -> 46112 | F8: =E8+1 -> 46113 | G8: =F8+1 -> 46114 | H8: =G8+1 -> 46115 | I8: =H8+1 -> 46116 | J8: =I8+1 -> 46117 | K8: =J8+1 -> 46118 | L8: =K8+1 -> 46119 | ... AS8: =AR8+1 -> 46152
A9: 1 | B9: =März!B9 -> Name 1 | C9: =März!C9 -> Vorname 1 | AT9: =COUNTIF(D9:AS9,"X") -> 0 | AU9: =COUNTIF(D9:AS9,"e") -> 0 | AV9: =COUNTIF(D9:AS9,"u") -> 0
A10: 2 | B10: =März!B10 -> Name 2 | C10: =März!C10 -> Vorname 2 | AT10: =COUNTIF(D10:AS10,"X") -> 0 | AU10: =COUNTIF(D10:AS10,"e") -> 0 | AV10: =COUNTIF(D10:AS10,"u") -> 0
A11: 3 | B11: =März!B11 -> Name 3 | C11: =März!C11 -> Vorname 3 | AT11: =COUNTIF(D11:AS11,"X") -> 0 | AU11: =COUNTIF(D11:AS11,"e") -> 0 | AV11: =COUNTIF(D11:AS11,"u") -> 0
A12: 4 | B12: =März!B12 -> Name 4 | C12: =März!C12 -> Vorname 4 | AT12: =COUNTIF(D12:AS12,"X") -> 0 | AU12: =COUNTIF(D12:AS12,"e") -> 0 | AV12: =COUNTIF(D12:AS12,"u") -> 0
A13: 5 | B13: =März!B13 -> Name 5 | C13: =März!C13 -> Vorname 5 | AT13: =COUNTIF(D13:AS13,"X") -> 0 | AU13: =COUNTIF(D13:AS13,"e") -> 0 | AV13: =COUNTIF(D13:AS13,"u") -> 0
A14: 6 | B14: =März!B14 -> Name 6 | C14: =März!C14 -> Vorname 6 | AT14: =COUNTIF(D14:AS14,"X") -> 0 | AU14: =COUNTIF(D14:AS14,"e") -> 0 | AV14: =COUNTIF(D14:AS14,"u") -> 0
A15: 7 | B15: =März!B15 -> Name 7 | C15: =März!C15 -> Vorname 7 | AT15: =COUNTIF(D15:AS15,"X") -> 0 | AU15: =COUNTIF(D15:AS15,"e") -> 0 | AV15: =COUNTIF(D15:AS15,"u") -> 0
A16: 8 | B16: =März!B16 -> Name 8 | C16: =März!C16 -> Vorname 8 | AT16: =COUNTIF(D16:AS16,"X") -> 0 | AU16: =COUNTIF(D16:AS16,"e") -> 0 | AV16: =COUNTIF(D16:AS16,"u") -> 0
A17: 9 | B17: =März!B17 -> Name 9 | C17: =März!C17 -> Vorname 9 | AT17: =COUNTIF(D17:AS17,"X") -> 0 | AU17: =COUNTIF(D17:AS17,"e") -> 0 | AV17: =COUNTIF(D17:AS17,"u") -> 0
A18: 10 | B18: =März!B18 -> Name 10 | C18: =März!C18 -> Vorname 10 | AT18: =COUNTIF(D18:AS18,"X") -> 0 | AU18: =COUNTIF(D18:AS18,"e") -> 0 | AV18: =COUNTIF(D18:AS18,"u") -> 0
A19: 11 | B19: =März!B19 -> Name 11 | C19: =März!C19 -> Vorname 11 | AT19: =COUNTIF(D19:AS19,"X") -> 0 | AU19: =COUNTIF(D19:AS19,"e") -> 0 | AV19: =COUNTIF(D19:AS19,"u") -> 0
A20: 12 | B20: =März!B20 -> Name 12 | C20: =März!C20 -> Vorname 12 | AT20: =COUNTIF(D20:AS20,"X") -> 0 | AU20: =COUNTIF(D20:AS20,"e") -> 0 | AV20: =COUNTIF(D20:AS20,"u") -> 0
... A38: 30 | B38: =März!B38 -> Name 30 | C38: =März!C38 -> Vorname 30 | AT38: =COUNTIF(D38:AS38,"X") -> 0 | AU38: =COUNTIF(D38:AS38,"e") -> 0 | AV38: =COUNTIF(D38:AS38,"u") -> 0
B39: [X] teilgenommen | D39: =COUNTIF(D9:D38,"X") -> 0 | E39: =COUNTIF(E9:E38,"X") -> 0 | F39: =COUNTIF(F9:F38,"X") -> 0 | G39: =COUNTIF(G9:G38,"X") -> 0 | H39: =COUNTIF(H9:H38,"X") -> 0 | I39: =COUNTIF(I9:I38,"X") -> 0 | J39: =COUNTIF(J9:J38,"X") -> 0 | K39: =COUNTIF(K9:K38,"X") -> 0 | ... AS39: =COUNTIF(AS9:AS38,"X") -> 0
B40: [e] entschuldigt | D40: =COUNTIF(D9:D38,"e") -> 0 | E40: =COUNTIF(E9:E38,"e") -> 0 | F40: =COUNTIF(F9:F38,"e") -> 0 | G40: =COUNTIF(G9:G38,"e") -> 0 | H40: =COUNTIF(H9:H38,"e") -> 0 | I40: =COUNTIF(I9:I38,"e") -> 0 | J40: =COUNTIF(J9:J38,"e") -> 0 | K40: =COUNTIF(K9:K38,"e") -> 0 | ... AS40: =COUNTIF(AS9:AS38,"e") -> 0
B41: [u] unentschuldigt | D41: =COUNTIF(D9:D38,"u") -> 0 | E41: =COUNTIF(E9:E38,"u") -> 0 | F41: =COUNTIF(F9:F38,"u") -> 0 | G41: =COUNTIF(G9:G38,"u") -> 0 | H41: =COUNTIF(H9:H38,"u") -> 0 | I41: =COUNTIF(I9:I38,"u") -> 0 | J41: =COUNTIF(J9:J38,"u") -> 0 | K41: =COUNTIF(K9:K38,"u") -> 0 | ... AS41: =COUNTIF(AS9:AS38,"u") -> 0

Sheet Mai
A1: Teilnahmeliste Training | AI1: 46143 | AU1: =Januar!$AY$1 -> 2026
B3: Training stattgefunden | AT3: =COUNTIF(D3:AS3,"X") -> 0 | AU3: Trainingseinheiten
AT4: [x] teilgenommen | AU4: [e] entschuldigt | AV4: [u] unentschuldigt
B6: KW | D6: 18 | K6: =D6+1 -> 19 | R6: =K6+1 -> 20 | Y6: =R6+1 -> 21 | AF6: =Y6+1 -> 22 | AM6: =AF6+1 -> 23
D7: =D8 -> 46139 | E7: =E8 -> 46140 | F7: =F8 -> 46141 | G7: =G8 -> 46142 | H7: =H8 -> 46143 | I7: =I8 -> 46144 | J7: =J8 -> 46145 | K7: =K8 -> 46146 | ... AS7: =AS8 -> 46180
B8: Name | C8: Vorname | D8: =DATE(Januar!$AY$1,1,1)+(D6-IF(WEEKDAY(DATE(Januar!$AY$1,1,1),2)>4,0,1))*7+1-1+1-WEEKDAY(DATE(Januar!$AY$1,1,1)+(D6-IF(WEEKDAY(DATE(Januar!$AY$1,1,1),2)>4,0,1))*7,2) -> 46139 | E8: =D8+1 -> 46140 | F8: =E8+1 -> 46141 | G8: =F8+1 -> 46142 | H8: =G8+1 -> 46143 | I8: =H8+1 -> 46144 | J8: =I8+1 -> 46145 | K8: =J8+1 -> 46146 | L8: =K8+1 -> 46147 | ... AS8: =AR8+1 -> 46180
A9: 1 | B9: =April!B9 -> Name 1 | C9: =April!C9 -> Vorname 1 | AT9: =COUNTIF(D9:AS9,"X") -> 0 | AU9: =COUNTIF(D9:AS9,"e") -> 0 | AV9: =COUNTIF(D9:AS9,"u") -> 0
A10: 2 | B10: =April!B10 -> Name 2 | C10: =April!C10 -> Vorname 2 | AT10: =COUNTIF(D10:AS10,"X") -> 0 | AU10: =COUNTIF(D10:AS10,"e") -> 0 | AV10: =COUNTIF(D10:AS10,"u") -> 0
A11: 3 | B11: =April!B11 -> Name 3 | C11: =April!C11 -> Vorname 3 | AT11: =COUNTIF(D11:AS11,"X") -> 0 | AU11: =COUNTIF(D11:AS11,"e") -> 0 | AV11: =COUNTIF(D11:AS11,"u") -> 0
A12: 4 | B12: =April!B12 -> Name 4 | C12: =April!C12 -> Vorname 4 | AT12: =COUNTIF(D12:AS12,"X") -> 0 | AU12: =COUNTIF(D12:AS12,"e") -> 0 | AV12: =COUNTIF(D12:AS12,"u") -> 0
A13: 5 | B13: =April!B13 -> Name 5 | C13: =April!C13 -> Vorname 5 | AT13: =COUNTIF(D13:AS13,"X") -> 0 | AU13: =COUNTIF(D13:AS13,"e") -> 0 | AV13: =COUNTIF(D13:AS13,"u") -> 0
A14: 6 | B14: =April!B14 -> Name 6 | C14: =April!C14 -> Vorname 6 | AT14: =COUNTIF(D14:AS14,"X") -> 0 | AU14: =COUNTIF(D14:AS14,"e") -> 0 | AV14: =COUNTIF(D14:AS14,"u") -> 0
A15: 7 | B15: =April!B15 -> Name 7 | C15: =April!C15 -> Vorname 7 | AT15: =COUNTIF(D15:AS15,"X") -> 0 | AU15: =COUNTIF(D15:AS15,"e") -> 0 | AV15: =COUNTIF(D15:AS15,"u") -> 0
A16: 8 | B16: =April!B16 -> Name 8 | C16: =April!C16 -> Vorname 8 | AT16: =COUNTIF(D16:AS16,"X") -> 0 | AU16: =COUNTIF(D16:AS16,"e") -> 0 | AV16: =COUNTIF(D16:AS16,"u") -> 0
A17: 9 | B17: =April!B17 -> Name 9 | C17: =April!C17 -> Vorname 9 | AT17: =COUNTIF(D17:AS17,"X") -> 0 | AU17: =COUNTIF(D17:AS17,"e") -> 0 | AV17: =COUNTIF(D17:AS17,"u") -> 0
A18: 10 | B18: =April!B18 -> Name 10 | C18: =April!C18 -> Vorname 10 | AT18: =COUNTIF(D18:AS18,"X") -> 0 | AU18: =COUNTIF(D18:AS18,"e") -> 0 | AV18: =COUNTIF(D18:AS18,"u") -> 0
A19: 11 | B19: =April!B19 -> Name 11 | C19: =April!C19 -> Vorname 11 | AT19: =COUNTIF(D19:AS19,"X") -> 0 | AU19: =COUNTIF(D19:AS19,"e") -> 0 | AV19: =COUNTIF(D19:AS19,"u") -> 0
A20: 12 | B20: =April!B20 -> Name 12 | C20: =April!C20 -> Vorname 12 | AT20: =COUNTIF(D20:AS20,"X") -> 0 | AU20: =COUNTIF(D20:AS20,"e") -> 0 | AV20: =COUNTIF(D20:AS20,"u") -> 0
... A38: 30 | B38: =April!B38 -> Name 30 | C38: =April!C38 -> Vorname 30 | AT38: =COUNTIF(D38:AS38,"X") -> 0 | AU38: =COUNTIF(D38:AS38,"e") -> 0 | AV38: =COUNTIF(D38:AS38,"u") -> 0
B39: [X] teilgenommen | D39: =COUNTIF(D9:D38,"X") -> 0 | E39: =COUNTIF(E9:E38,"X") -> 0 | F39: =COUNTIF(F9:F38,"X") -> 0 | G39: =COUNTIF(G9:G38,"X") -> 0 | H39: =COUNTIF(H9:H38,"X") -> 0 | I39: =COUNTIF(I9:I38,"X") -> 0 | J39: =COUNTIF(J9:J38,"X") -> 0 | K39: =COUNTIF(K9:K38,"X") -> 0 | ... AS39: =COUNTIF(AS9:AS38,"X") -> 0
B40: [e] entschuldigt | D40: =COUNTIF(D9:D38,"e") -> 0 | E40: =COUNTIF(E9:E38,"e") -> 0 | F40: =COUNTIF(F9:F38,"e") -> 0 | G40: =COUNTIF(G9:G38,"e") -> 0 | H40: =COUNTIF(H9:H38,"e") -> 0 | I40: =COUNTIF(I9:I38,"e") -> 0 | J40: =COUNTIF(J9:J38,"e") -> 0 | K40: =COUNTIF(K9:K38,"e") -> 0 | ... AS40: =COUNTIF(AS9:AS38,"e") -> 0
B41: [u] unentschuldigt | D41: =COUNTIF(D9:D38,"u") -> 0 | E41: =COUNTIF(E9:E38,"u") -> 0 | F41: =COUNTIF(F9:F38,"u") -> 0 | G41: =COUNTIF(G9:G38,"u") -> 0 | H41: =COUNTIF(H9:H38,"u") -> 0 | I41: =COUNTIF(I9:I38,"u") -> 0 | J41: =COUNTIF(J9:J38,"u") -> 0 | K41: =COUNTIF(K9:K38,"u") -> 0 | ... AS41: =COUNTIF(AS9:AS38,"u") -> 0

Sheet Juni
A1: Teilnahmeliste Training | AL1: 46174 | AU1: =Januar!$AY$1 -> 2026
B3: Training stattgefunden | AT3: =COUNTIF(D3:AS3,"X") -> 0 | AU3: Trainingseinheiten
AT4: [x] teilgenommen | AU4: [e] entschuldigt | AV4: [u] unentschuldigt
B6: KW | D6: 23 | K6: =D6+1 -> 24 | R6: =K6+1 -> 25 | Y6: =R6+1 -> 26 | AF6: =Y6+1 -> 27 | AM6: =AF6+1 -> 28
D7: =D8 -> 46174 | E7: =E8 -> 46175 | F7: =F8 -> 46176 | G7: =G8 -> 46177 | H7: =H8 -> 46178 | I7: =I8 -> 46179 | J7: =J8 -> 46180 | K7: =K8 -> 46181 | ... AS7: =AS8 -> 46215
B8: Name | C8: Vorname | D8: =DATE(Januar!$AY$1,1,1)+(D6-IF(WEEKDAY(DATE(Januar!$AY$1,1,1),2)>4,0,1))*7+1-1+1-WEEKDAY(DATE(Januar!$AY$1,1,1)+(D6-IF(WEEKDAY(DATE(Januar!$AY$1,1,1),2)>4,0,1))*7,2) -> 46174 | E8: =D8+1 -> 46175 | F8: =E8+1 -> 46176 | G8: =F8+1 -> 46177 | H8: =G8+1 -> 46178 | I8: =H8+1 -> 46179 | J8: =I8+1 -> 46180 | K8: =J8+1 -> 46181 | L8: =K8+1 -> 46182 | ... AS8: =AR8+1 -> 46215
A9: 1 | B9: =Mai!B9 -> Name 1 | C9: =Mai!C9 -> Vorname 1 | AT9: =COUNTIF(D9:AS9,"X") -> 0 | AU9: =COUNTIF(D9:AS9,"e") -> 0 | AV9: =COUNTIF(D9:AS9,"u") -> 0
A10: 2 | B10: =Mai!B10 -> Name 2 | C10: =Mai!C10 -> Vorname 2 | AT10: =COUNTIF(D10:AS10,"X") -> 0 | AU10: =COUNTIF(D10:AS10,"e") -> 0 | AV10: =COUNTIF(D10:AS10,"u") -> 0
A11: 3 | B11: =Mai!B11 -> Name 3 | C11: =Mai!C11 -> Vorname 3 | AT11: =COUNTIF(D11:AS11,"X") -> 0 | AU11: =COUNTIF(D11:AS11,"e") -> 0 | AV11: =COUNTIF(D11:AS11,"u") -> 0
A12: 4 | B12: =Mai!B12 -> Name 4 | C12: =Mai!C12 -> Vorname 4 | AT12: =COUNTIF(D12:AS12,"X") -> 0 | AU12: =COUNTIF(D12:AS12,"e") -> 0 | AV12: =COUNTIF(D12:AS12,"u") -> 0
A13: 5 | B13: =Mai!B13 -> Name 5 | C13: =Mai!C13 -> Vorname 5 | AT13: =COUNTIF(D13:AS13,"X") -> 0 | AU13: =COUNTIF(D13:AS13,"e") -> 0 | AV13: =COUNTIF(D13:AS13,"u") -> 0
A14: 6 | B14: =Mai!B14 -> Name 6 | C14: =Mai!C14 -> Vorname 6 | AT14: =COUNTIF(D14:AS14,"X") -> 0 | AU14: =COUNTIF(D14:AS14,"e") -> 0 | AV14: =COUNTIF(D14:AS14,"u") -> 0
A15: 7 | B15: =Mai!B15 -> Name 7 | C15: =Mai!C15 -> Vorname 7 | AT15: =COUNTIF(D15:AS15,"X") -> 0 | AU15: =COUNTIF(D15:AS15,"e") -> 0 | AV15: =COUNTIF(D15:AS15,"u") -> 0
A16: 8 | B16: =Mai!B16 -> Name 8 | C16: =Mai!C16 -> Vorname 8 | AT16: =COUNTIF(D16:AS16,"X") -> 0 | AU16: =COUNTIF(D16:AS16,"e") -> 0 | AV16: =COUNTIF(D16:AS16,"u") -> 0
A17: 9 | B17: =Mai!B17 -> Name 9 | C17: =Mai!C17 -> Vorname 9 | AT17: =COUNTIF(D17:AS17,"X") -> 0 | AU17: =COUNTIF(D17:AS17,"e") -> 0 | AV17: =COUNTIF(D17:AS17,"u") -> 0
A18: 10 | B18: =Mai!B18 -> Name 10 | C18: =Mai!C18 -> Vorname 10 | AT18: =COUNTIF(D18:AS18,"X") -> 0 | AU18: =COUNTIF(D18:AS18,"e") -> 0 | AV18: =COUNTIF(D18:AS18,"u") -> 0
A19: 11 | B19: =Mai!B19 -> Name 11 | C19: =Mai!C19 -> Vorname 11 | AT19: =COUNTIF(D19:AS19,"X") -> 0 | AU19: =COUNTIF(D19:AS19,"e") -> 0 | AV19: =COUNTIF(D19:AS19,"u") -> 0
A20: 12 | B20: =Mai!B20 -> Name 12 | C20: =Mai!C20 -> Vorname 12 | AT20: =COUNTIF(D20:AS20,"X") -> 0 | AU20: =COUNTIF(D20:AS20,"e") -> 0 | AV20: =COUNTIF(D20:AS20,"u") -> 0
... A38: 30 | B38: =Mai!B38 -> Name 30 | C38: =Mai!C38 -> Vorname 30 | AT38: =COUNTIF(D38:AS38,"X") -> 0 | AU38: =COUNTIF(D38:AS38,"e") -> 0 | AV38: =COUNTIF(D38:AS38,"u") -> 0
B39: [X] teilgenommen | D39: =COUNTIF(D9:D38,"X") -> 0 | E39: =COUNTIF(E9:E38,"X") -> 0 | F39: =COUNTIF(F9:F38,"X") -> 0 | G39: =COUNTIF(G9:G38,"X") -> 0 | H39: =COUNTIF(H9:H38,"X") -> 0 | I39: =COUNTIF(I9:I38,"X") -> 0 | J39: =COUNTIF(J9:J38,"X") -> 0 | K39: =COUNTIF(K9:K38,"X") -> 0 | ... AS39: =COUNTIF(AS9:AS38,"X") -> 0
B40: [e] entschuldigt | D40: =COUNTIF(D9:D38,"e") -> 0 | E40: =COUNTIF(E9:E38,"e") -> 0 | F40: =COUNTIF(F9:F38,"e") -> 0 | G40: =COUNTIF(G9:G38,"e") -> 0 | H40: =COUNTIF(H9:H38,"e") -> 0 | I40: =COUNTIF(I9:I38,"e") -> 0 | J40: =COUNTIF(J9:J38,"e") -> 0 | K40: =COUNTIF(K9:K38,"e") -> 0 | ... AS40: =COUNTIF(AS9:AS38,"e") -> 0
B41: [u] unentschuldigt | D41: =COUNTIF(D9:D38,"u") -> 0 | E41: =COUNTIF(E9:E38,"u") -> 0 | F41: =COUNTIF(F9:F38,"u") -> 0 | G41: =COUNTIF(G9:G38,"u") -> 0 | H41: =COUNTIF(H9:H38,"u") -> 0 | I41: =COUNTIF(I9:I38,"u") -> 0 | J41: =COUNTIF(J9:J38,"u") -> 0 | K41: =COUNTIF(K9:K38,"u") -> 0 | ... AS41: =COUNTIF(AS9:AS38,"u") -> 0

Sheet Juli
A1: Teilnahmeliste Training | AC1: 46204 | AU1: =Januar!$AY$1 -> 2026
B3: Training stattgefunden | AT3: =COUNTIF(D3:AS3,"X") -> 0 | AU3: Trainingseinheiten
AT4: [x] teilgenommen | AU4: [e] entschuldigt | AV4: [u] unentschuldigt
B6: KW | D6: 27 | K6: =D6+1 -> 28 | R6: =K6+1 -> 29 | Y6: =R6+1 -> 30 | AF6: =Y6+1 -> 31 | AM6: =AF6+1 -> 32
D7: =D8 -> 46202 | E7: =E8 -> 46203 | F7: =F8 -> 46204 | G7: =G8 -> 46205 | H7: =H8 -> 46206 | I7: =I8 -> 46207 | J7: =J8 -> 46208 | K7: =K8 -> 46209 | ... AS7: =AS8 -> 46243
B8: Name | C8: Vorname | D8: =DATE(Januar!$AY$1,1,1)+(D6-IF(WEEKDAY(DATE(Januar!$AY$1,1,1),2)>4,0,1))*7+1-1+1-WEEKDAY(DATE(Januar!$AY$1,1,1)+(D6-IF(WEEKDAY(DATE(Januar!$AY$1,1,1),2)>4,0,1))*7,2) -> 46202 | E8: =D8+1 -> 46203 | F8: =E8+1 -> 46204 | G8: =F8+1 -> 46205 | H8: =G8+1 -> 46206 | I8: =H8+1 -> 46207 | J8: =I8+1 -> 46208 | K8: =J8+1 -> 46209 | L8: =K8+1 -> 46210 | ... AS8: =AR8+1 -> 46243
A9: 1 | B9: =Juni!B9 -> Name 1 | C9: =Juni!C9 -> Vorname 1 | AT9: =COUNTIF(D9:AS9,"X") -> 0 | AU9: =COUNTIF(D9:AS9,"e") -> 0 | AV9: =COUNTIF(D9:AS9,"u") -> 0
A10: 2 | B10: =Juni!B10 -> Name 2 | C10: =Juni!C10 -> Vorname 2 | AT10: =COUNTIF(D10:AS10,"X") -> 0 | AU10: =COUNTIF(D10:AS10,"e") -> 0 | AV10: =COUNTIF(D10:AS10,"u") -> 0
A11: 3 | B11: =Juni!B11 -> Name 3 | C11: =Juni!C11 -> Vorname 3 | AT11: =COUNTIF(D11:AS11,"X") -> 0 | AU11: =COUNTIF(D11:AS11,"e") -> 0 | AV11: =COUNTIF(D11:AS11,"u") -> 0
A12: 4 | B12: =Juni!B12 -> Name 4 | C12: =Juni!C12 -> Vorname 4 | AT12: =COUNTIF(D12:AS12,"X") -> 0 | AU12: =COUNTIF(D12:AS12,"e") -> 0 | AV12: =COUNTIF(D12:AS12,"u") -> 0
A13: 5 | B13: =Juni!B13 -> Name 5 | C13: =Juni!C13 -> Vorname 5 | AT13: =COUNTIF(D13:AS13,"X") -> 0 | AU13: =COUNTIF(D13:AS13,"e") -> 0 | AV13: =COUNTIF(D13:AS13,"u") -> 0
A14: 6 | B14: =Juni!B14 -> Name 6 | C14: =Juni!C14 -> Vorname 6 | AT14: =COUNTIF(D14:AS14,"X") -> 0 | AU14: =COUNTIF(D14:AS14,"e") -> 0 | AV14: =COUNTIF(D14:AS14,"u") -> 0
A15: 7 | B15: =Juni!B15 -> Name 7 | C15: =Juni!C15 -> Vorname 7 | AT15: =COUNTIF(D15:AS15,"X") -> 0 | AU15: =COUNTIF(D15:AS15,"e") -> 0 | AV15: =COUNTIF(D15:AS15,"u") -> 0
A16: 8 | B16: =Juni!B16 -> Name 8 | C16: =Juni!C16 -> Vorname 8 | AT16: =COUNTIF(D16:AS16,"X") -> 0 | AU16: =COUNTIF(D16:AS16,"e") -> 0 | AV16: =COUNTIF(D16:AS16,"u") -> 0
A17: 9 | B17: =Juni!B17 -> Name 9 | C17: =Juni!C17 -> Vorname 9 | AT17: =COUNTIF(D17:AS17,"X") -> 0 | AU17: =COUNTIF(D17:AS17,"e") -> 0 | AV17: =COUNTIF(D17:AS17,"u") -> 0
A18: 10 | B18: =Juni!B18 -> Name 10 | C18: =Juni!C18 -> Vorname 10 | AT18: =COUNTIF(D18:AS18,"X") -> 0 | AU18: =COUNTIF(D18:AS18,"e") -> 0 | AV18: =COUNTIF(D18:AS18,"u") -> 0
A19: 11 | B19: =Juni!B19 -> Name 11 | C19: =Juni!C19 -> Vorname 11 | AT19: =COUNTIF(D19:AS19,"X") -> 0 | AU19: =COUNTIF(D19:AS19,"e") -> 0 | AV19: =COUNTIF(D19:AS19,"u") -> 0
A20: 12 | B20: =Juni!B20 -> Name 12 | C20: =Juni!C20 -> Vorname 12 | AT20: =COUNTIF(D20:AS20,"X") -> 0 | AU20: =COUNTIF(D20:AS20,"e") -> 0 | AV20: =COUNTIF(D20:AS20,"u") -> 0
... A38: 30 | B38: =Juni!B38 -> Name 30 | C38: =Juni!C38 -> Vorname 30 | AT38: =COUNTIF(D38:AS38,"X") -> 0 | AU38: =COUNTIF(D38:AS38,"e") -> 0 | AV38: =COUNTIF(D38:AS38,"u") -> 0
B39: [X] teilgenommen | D39: =COUNTIF(D9:D38,"X") -> 0 | E39: =COUNTIF(E9:E38,"X") -> 0 | F39: =COUNTIF(F9:F38,"X") -> 0 | G39: =COUNTIF(G9:G38,"X") -> 0 | H39: =COUNTIF(H9:H38,"X") -> 0 | I39: =COUNTIF(I9:I38,"X") -> 0 | J39: =COUNTIF(J9:J38,"X") -> 0 | K39: =COUNTIF(K9:K38,"X") -> 0 | ... AS39: =COUNTIF(AS9:AS38,"X") -> 0
B40: [e] entschuldigt | D40: =COUNTIF(D9:D38,"e") -> 0 | E40: =COUNTIF(E9:E38,"e") -> 0 | F40: =COUNTIF(F9:F38,"e") -> 0 | G40: =COUNTIF(G9:G38,"e") -> 0 | H40: =COUNTIF(H9:H38,"e") -> 0 | I40: =COUNTIF(I9:I38,"e") -> 0 | J40: =COUNTIF(J9:J38,"e") -> 0 | K40: =COUNTIF(K9:K38,"e") -> 0 | ... AS40: =COUNTIF(AS9:AS38,"e") -> 0
B41: [u] unentschuldigt | D41: =COUNTIF(D9:D38,"u") -> 0 | E41: =COUNTIF(E9:E38,"u") -> 0 | F41: =COUNTIF(F9:F38,"u") -> 0 | G41: =COUNTIF(G9:G38,"u") -> 0 | H41: =COUNTIF(H9:H38,"u") -> 0 | I41: =COUNTIF(I9:I38,"u") -> 0 | J41: =COUNTIF(J9:J38,"u") -> 0 | K41: =COUNTIF(K9:K38,"u") -> 0 | ... AS41: =COUNTIF(AS9:AS38,"u") -> 0

Sheet August
A1: Teilnahmeliste Training | AC1: 46235 | AU1: =Januar!$AY$1 -> 2026
B3: Training stattgefunden | AT3: =COUNTIF(D3:AS3,"X") -> 0 | AU3: Trainingseinheiten
AT4: [x] teilgenommen | AU4: [e] entschuldigt | AV4: [u] unentschuldigt
B6: KW | D6: 31 | K6: =D6+1 -> 32 | R6: =K6+1 -> 33 | Y6: =R6+1 -> 34 | AF6: =Y6+1 -> 35 | AM6: =AF6+1 -> 36
D7: =D8 -> 46230 | E7: =E8 -> 46231 | F7: =F8 -> 46232 | G7: =G8 -> 46233 | H7: =H8 -> 46234 | I7: =I8 -> 46235 | J7: =J8 -> 46236 | K7: =K8 -> 46237 | ... AS7: =AS8 -> 46271
B8: Name | C8: Vorname | D8: =DATE(Januar!$AY$1,1,1)+(D6-IF(WEEKDAY(DATE(Januar!$AY$1,1,1),2)>4,0,1))*7+1-1+1-WEEKDAY(DATE(Januar!$AY$1,1,1)+(D6-IF(WEEKDAY(DATE(Januar!$AY$1,1,1),2)>4,0,1))*7,2) -> 46230 | E8: =D8+1 -> 46231 | F8: =E8+1 -> 46232 | G8: =F8+1 -> 46233 | H8: =G8+1 -> 46234 | I8: =H8+1 -> 46235 | J8: =I8+1 -> 46236 | K8: =J8+1 -> 46237 | L8: =K8+1 -> 46238 | ... AS8: =AR8+1 -> 46271
A9: 1 | B9: =Juli!B9 -> Name 1 | C9: =Juli!C9 -> Vorname 1 | AT9: =COUNTIF(D9:AS9,"X") -> 0 | AU9: =COUNTIF(D9:AS9,"e") -> 0 | AV9: =COUNTIF(D9:AS9,"u") -> 0
A10: 2 | B10: =Juli!B10 -> Name 2 | C10: =Juli!C10 -> Vorname 2 | AT10: =COUNTIF(D10:AS10,"X") -> 0 | AU10: =COUNTIF(D10:AS10,"e") -> 0 | AV10: =COUNTIF(D10:AS10,"u") -> 0
A11: 3 | B11: =Juli!B11 -> Name 3 | C11: =Juli!C11 -> Vorname 3 | AT11: =COUNTIF(D11:AS11,"X") -> 0 | AU11: =COUNTIF(D11:AS11,"e") -> 0 | AV11: =COUNTIF(D11:AS11,"u") -> 0
A12: 4 | B12: =Juli!B12 -> Name 4 | C12: =Juli!C12 -> Vorname 4 | AT12: =COUNTIF(D12:AS12,"X") -> 0 | AU12: =COUNTIF(D12:AS12,"e") -> 0 | AV12: =COUNTIF(D12:AS12,"u") -> 0
A13: 5 | B13: =Juli!B13 -> Name 5 | C13: =Juli!C13 -> Vorname 5 | AT13: =COUNTIF(D13:AS13,"X") -> 0 | AU13: =COUNTIF(D13:AS13,"e") -> 0 | AV13: =COUNTIF(D13:AS13,"u") -> 0
A14: 6 | B14: =Juli!B14 -> Name 6 | C14: =Juli!C14 -> Vorname 6 | AT14: =COUNTIF(D14:AS14,"X") -> 0 | AU14: =COUNTIF(D14:AS14,"e") -> 0 | AV14: =COUNTIF(D14:AS14,"u") -> 0
A15: 7 | B15: =Juli!B15 -> Name 7 | C15: =Juli!C15 -> Vorname 7 | AT15: =COUNTIF(D15:AS15,"X") -> 0 | AU15: =COUNTIF(D15:AS15,"e") -> 0 | AV15: =COUNTIF(D15:AS15,"u") -> 0
A16: 8 | B16: =Juli!B16 -> Name 8 | C16: =Juli!C16 -> Vorname 8 | AT16: =COUNTIF(D16:AS16,"X") -> 0 | AU16: =COUNTIF(D16:AS16,"e") -> 0 | AV16: =COUNTIF(D16:AS16,"u") -> 0
A17: 9 | B17: =Juli!B17 -> Name 9 | C17: =Juli!C17 -> Vorname 9 | AT17: =COUNTIF(D17:AS17,"X") -> 0 | AU17: =COUNTIF(D17:AS17,"e") -> 0 | AV17: =COUNTIF(D17:AS17,"u") -> 0
A18: 10 | B18: =Juli!B18 -> Name 10 | C18: =Juli!C18 -> Vorname 10 | AT18: =COUNTIF(D18:AS18,"X") -> 0 | AU18: =COUNTIF(D18:AS18,"e") -> 0 | AV18: =COUNTIF(D18:AS18,"u") -> 0
A19: 11 | B19: =Juli!B19 -> Name 11 | C19: =Juli!C19 -> Vorname 11 | AT19: =COUNTIF(D19:AS19,"X") -> 0 | AU19: =COUNTIF(D19:AS19,"e") -> 0 | AV19: =COUNTIF(D19:AS19,"u") -> 0
A20: 12 | B20: =Juli!B20 -> Name 12 | C20: =Juli!C20 -> Vorname 12 | AT20: =COUNTIF(D20:AS20,"X") -> 0 | AU20: =COUNTIF(D20:AS20,"e") -> 0 | AV20: =COUNTIF(D20:AS20,"u") -> 0
... A38: 30 | B38: =Juli!B38 -> Name 30 | C38: =Juli!C38 -> Vorname 30 | AT38: =COUNTIF(D38:AS38,"X") -> 0 | AU38: =COUNTIF(D38:AS38,"e") -> 0 | AV38: =COUNTIF(D38:AS38,"u") -> 0
B39: [X] teilgenommen | D39: =COUNTIF(D9:D38,"X") -> 0 | E39: =COUNTIF(E9:E38,"X") -> 0 | F39: =COUNTIF(F9:F38,"X") -> 0 | G39: =COUNTIF(G9:G38,"X") -> 0 | H39: =COUNTIF(H9:H38,"X") -> 0 | I39: =COUNTIF(I9:I38,"X") -> 0 | J39: =COUNTIF(J9:J38,"X") -> 0 | K39: =COUNTIF(K9:K38,"X") -> 0 | ... AS39: =COUNTIF(AS9:AS38,"X") -> 0
B40: [e] entschuldigt | D40: =COUNTIF(D9:D38,"e") -> 0 | E40: =COUNTIF(E9:E38,"e") -> 0 | F40: =COUNTIF(F9:F38,"e") -> 0 | G40: =COUNTIF(G9:G38,"e") -> 0 | H40: =COUNTIF(H9:H38,"e") -> 0 | I40: =COUNTIF(I9:I38,"e") -> 0 | J40: =COUNTIF(J9:J38,"e") -> 0 | K40: =COUNTIF(K9:K38,"e") -> 0 | ... AS40: =COUNTIF(AS9:AS38,"e") -> 0
B41: [u] unentschuldigt | D41: =COUNTIF(D9:D38,"u") -> 0 | E41: =COUNTIF(E9:E38,"u") -> 0 | F41: =COUNTIF(F9:F38,"u") -> 0 | G41: =COUNTIF(G9:G38,"u") -> 0 | H41: =COUNTIF(H9:H38,"u") -> 0 | I41: =COUNTIF(I9:I38,"u") -> 0 | J41: =COUNTIF(J9:J38,"u") -> 0 | K41: =COUNTIF(K9:K38,"u") -> 0 | ... AS41: =COUNTIF(AS9:AS38,"u") -> 0

Sheet September
A1: Teilnahmeliste Training | AC1: 46266 | AU1: =Januar!$AY$1 -> 2026
B3: Training stattgefunden | AT3: =COUNTIF(D3:AS3,"X") -> 0 | AU3: Trainingseinheiten
AT4: [x] teilgenommen | AU4: [e] entschuldigt | AV4: [u] unentschuldigt
B6: KW | D6: 36 | K6: =D6+1 -> 37 | R6: =K6+1 -> 38 | Y6: =R6+1 -> 39 | AF6: =Y6+1 -> 40 | AM6: =AF6+1 -> 41
D7: =D8 -> 46265 | E7: =E8 -> 46266 | F7: =F8 -> 46267 | G7: =G8 -> 46268 | H7: =H8 -> 46269 | I7: =I8 -> 46270 | J7: =J8 -> 46271 | K7: =K8 -> 46272 | ... AS7: =AS8 -> 46306
B8: Name | C8: Vorname | D8: =DATE(Januar!$AY$1,1,1)+(D6-IF(WEEKDAY(DATE(Januar!$AY$1,1,1),2)>4,0,1))*7+1-1+1-WEEKDAY(DATE(Januar!$AY$1,1,1)+(D6-IF(WEEKDAY(DATE(Januar!$AY$1,1,1),2)>4,0,1))*7,2) -> 46265 | E8: =D8+1 -> 46266 | F8: =E8+1 -> 46267 | G8: =F8+1 -> 46268 | H8: =G8+1 -> 46269 | I8: =H8+1 -> 46270 | J8: =I8+1 -> 46271 | K8: =J8+1 -> 46272 | L8: =K8+1 -> 46273 | ... AS8: =AR8+1 -> 46306
A9: 1 | B9: =August!B9 -> Name 1 | C9: =August!C9 -> Vorname 1 | AT9: =COUNTIF(D9:AS9,"X") -> 0 | AU9: =COUNTIF(D9:AS9,"e") -> 0 | AV9: =COUNTIF(D9:AS9,"u") -> 0
A10: 2 | B10: =August!B10 -> Name 2 | C10: =August!C10 -> Vorname 2 | AT10: =COUNTIF(D10:AS10,"X") -> 0 | AU10: =COUNTIF(D10:AS10,"e") -> 0 | AV10: =COUNTIF(D10:AS10,"u") -> 0
A11: 3 | B11: =August!B11 -> Name 3 | C11: =August!C11 -> Vorname 3 | AT11: =COUNTIF(D11:AS11,"X") -> 0 | AU11: =COUNTIF(D11:AS11,"e") -> 0 | AV11: =COUNTIF(D11:AS11,"u") -> 0
A12: 4 | B12: =August!B12 -> Name 4 | C12: =August!C12 -> Vorname 4 | AT12: =COUNTIF(D12:AS12,"X") -> 0 | AU12: =COUNTIF(D12:AS12,"e") -> 0 | AV12: =COUNTIF(D12:AS12,"u") -> 0
A13: 5 | B13: =August!B13 -> Name 5 | C13: =August!C13 -> Vorname 5 | AT13: =COUNTIF(D13:AS13,"X") -> 0 | AU13: =COUNTIF(D13:AS13,"e") -> 0 | AV13: =COUNTIF(D13:AS13,"u") -> 0
A14: 6 | B14: =August!B14 -> Name 6 | C14: =August!C14 -> Vorname 6 | AT14: =COUNTIF(D14:AS14,"X") -> 0 | AU14: =COUNTIF(D14:AS14,"e") -> 0 | AV14: =COUNTIF(D14:AS14,"u") -> 0
A15: 7 | B15: =August!B15 -> Name 7 | C15: =August!C15 -> Vorname 7 | AT15: =COUNTIF(D15:AS15,"X") -> 0 | AU15: =COUNTIF(D15:AS15,"e") -> 0 | AV15: =COUNTIF(D15:AS15,"u") -> 0
A16: 8 | B16: =August!B16 -> Name 8 | C16: =August!C16 -> Vorname 8 | AT16: =COUNTIF(D16:AS16,"X") -> 0 | AU16: =COUNTIF(D16:AS16,"e") -> 0 | AV16: =COUNTIF(D16:AS16,"u") -> 0
A17: 9 | B17: =August!B17 -> Name 9 | C17: =August!C17 -> Vorname 9 | AT17: =COUNTIF(D17:AS17,"X") -> 0 | AU17: =COUNTIF(D17:AS17,"e") -> 0 | AV17: =COUNTIF(D17:AS17,"u") -> 0
A18: 10 | B18: =August!B18 -> Name 10 | C18: =August!C18 -> Vorname 10 | AT18: =COUNTIF(D18:AS18,"X") -> 0 | AU18: =COUNTIF(D18:AS18,"e") -> 0 | AV18: =COUNTIF(D18:AS18,"u") -> 0
A19: 11 | B19: =August!B19 -> Name 11 | C19: =August!C19 -> Vorname 11 | AT19: =COUNTIF(D19:AS19,"X") -> 0 | AU19: =COUNTIF(D19:AS19,"e") -> 0 | AV19: =COUNTIF(D19:AS19,"u") -> 0
A20: 12 | B20: =August!B20 -> Name 12 | C20: =August!C20 -> Vorname 12 | AT20: =COUNTIF(D20:AS20,"X") -> 0 | AU20: =COUNTIF(D20:AS20,"e") -> 0 | AV20: =COUNTIF(D20:AS20,"u") -> 0
... A38: 30 | B38: =August!B38 -> Name 30 | C38: =August!C38 -> Vorname 30 | AT38: =COUNTIF(D38:AS38,"X") -> 0 | AU38: =COUNTIF(D38:AS38,"e") -> 0 | AV38: =COUNTIF(D38:AS38,"u") -> 0
B39: [X] teilgenommen | D39: =COUNTIF(D9:D38,"X") -> 0 | E39: =COUNTIF(E9:E38,"X") -> 0 | F39: =COUNTIF(F9:F38,"X") -> 0 | G39: =COUNTIF(G9:G38,"X") -> 0 | H39: =COUNTIF(H9:H38,"X") -> 0 | I39: =COUNTIF(I9:I38,"X") -> 0 | J39: =COUNTIF(J9:J38,"X") -> 0 | K39: =COUNTIF(K9:K38,"X") -> 0 | ... AS39: =COUNTIF(AS9:AS38,"X") -> 0
B40: [e] entschuldigt | D40: =COUNTIF(D9:D38,"e") -> 0 | E40: =COUNTIF(E9:E38,"e") -> 0 | F40: =COUNTIF(F9:F38,"e") -> 0 | G40: =COUNTIF(G9:G38,"e") -> 0 | H40: =COUNTIF(H9:H38,"e") -> 0 | I40: =COUNTIF(I9:I38,"e") -> 0 | J40: =COUNTIF(J9:J38,"e") -> 0 | K40: =COUNTIF(K9:K38,"e") -> 0 | ... AS40: =COUNTIF(AS9:AS38,"e") -> 0
B41: [u] unentschuldigt | D41: =COUNTIF(D9:D38,"u") -> 0 | E41: =COUNTIF(E9:E38,"u") -> 0 | F41: =COUNTIF(F9:F38,"u") -> 0 | G41: =COUNTIF(G9:G38,"u") -> 0 | H41: =COUNTIF(H9:H38,"u") -> 0 | I41: =COUNTIF(I9:I38,"u") -> 0 | J41: =COUNTIF(J9:J38,"u") -> 0 | K41: =COUNTIF(K9:K38,"u") -> 0 | ... AS41: =COUNTIF(AS9:AS38,"u") -> 0

Sheet Oktober
A1: Teilnahmeliste Training | AF1: 46296 | AU1: =Januar!$AY$1 -> 2026
B3: Training stattgefunden | AT3: =COUNTIF(D3:AS3,"X") -> 0 | AU3: Trainingseinheiten
AT4: [x] teilgenommen | AU4: [e] entschuldigt | AV4: [u] unentschuldigt
B6: KW | D6: 40 | K6: =D6+1 -> 41 | R6: =K6+1 -> 42 | Y6: =R6+1 -> 43 | AF6: =Y6+1 -> 44 | AM6: =AF6+1 -> 45
D7: =D8 -> 46293 | E7: =E8 -> 46294 | F7: =F8 -> 46295 | G7: =G8 -> 46296 | H7: =H8 -> 46297 | I7: =I8 -> 46298 | J7: =J8 -> 46299 | K7: =K8 -> 46300 | ... AS7: =AS8 -> 46334
B8: Name | C8: Vorname | D8: =DATE(Januar!$AY$1,1,1)+(D6-IF(WEEKDAY(DATE(Januar!$AY$1,1,1),2)>4,0,1))*7+1-1+1-WEEKDAY(DATE(Januar!$AY$1,1,1)+(D6-IF(WEEKDAY(DATE(Januar!$AY$1,1,1),2)>4,0,1))*7,2) -> 46293 | E8: =D8+1 -> 46294 | F8: =E8+1 -> 46295 | G8: =F8+1 -> 46296 | H8: =G8+1 -> 46297 | I8: =H8+1 -> 46298 | J8: =I8+1 -> 46299 | K8: =J8+1 -> 46300 | L8: =K8+1 -> 46301 | ... AS8: =AR8+1 -> 46334
A9: 1 | B9: =September!B9 -> Name 1 | C9: =September!C9 -> Vorname 1 | AT9: =COUNTIF(D9:AS9,"X") -> 0 | AU9: =COUNTIF(D9:AS9,"e") -> 0 | AV9: =COUNTIF(D9:AS9,"u") -> 0
A10: 2 | B10: =September!B10 -> Name 2 | C10: =September!C10 -> Vorname 2 | AT10: =COUNTIF(D10:AS10,"X") -> 0 | AU10: =COUNTIF(D10:AS10,"e") -> 0 | AV10: =COUNTIF(D10:AS10,"u") -> 0
A11: 3 | B11: =September!B11 -> Name 3 | C11: =September!C11 -> Vorname 3 | AT11: =COUNTIF(D11:AS11,"X") -> 0 | AU11: =COUNTIF(D11:AS11,"e") -> 0 | AV11: =COUNTIF(D11:AS11,"u") -> 0
A12: 4 | B12: =September!B12 -> Name 4 | C12: =September!C12 -> Vorname 4 | AT12: =COUNTIF(D12:AS12,"X") -> 0 | AU12: =COUNTIF(D12:AS12,"e") -> 0 | AV12: =COUNTIF(D12:AS12,"u") -> 0
A13: 5 | B13: =September!B13 -> Name 5 | C13: =September!C13 -> Vorname 5 | AT13: =COUNTIF(D13:AS13,"X") -> 0 | AU13: =COUNTIF(D13:AS13,"e") -> 0 | AV13: =COUNTIF(D13:AS13,"u") -> 0
A14: 6 | B14: =September!B14 -> Name 6 | C14: =September!C14 -> Vorname 6 | AT14: =COUNTIF(D14:AS14,"X") -> 0 | AU14: =COUNTIF(D14:AS14,"e") -> 0 | AV14: =COUNTIF(D14:AS14,"u") -> 0
A15: 7 | B15: =September!B15 -> Name 7 | C15: =September!C15 -> Vorname 7 | AT15: =COUNTIF(D15:AS15,"X") -> 0 | AU15: =COUNTIF(D15:AS15,"e") -> 0 | AV15: =COUNTIF(D15:AS15,"u") -> 0
A16: 8 | B16: =September!B16 -> Name 8 | C16: =September!C16 -> Vorname 8 | AT16: =COUNTIF(D16:AS16,"X") -> 0 | AU16: =COUNTIF(D16:AS16,"e") -> 0 | AV16: =COUNTIF(D16:AS16,"u") -> 0
A17: 9 | B17: =September!B17 -> Name 9 | C17: =September!C17 -> Vorname 9 | AT17: =COUNTIF(D17:AS17,"X") -> 0 | AU17: =COUNTIF(D17:AS17,"e") -> 0 | AV17: =COUNTIF(D17:AS17,"u") -> 0
A18: 10 | B18: =September!B18 -> Name 10 | C18: =September!C18 -> Vorname 10 | AT18: =COUNTIF(D18:AS18,"X") -> 0 | AU18: =COUNTIF(D18:AS18,"e") -> 0 | AV18: =COUNTIF(D18:AS18,"u") -> 0
A19: 11 | B19: =September!B19 -> Name 11 | C19: =September!C19 -> Vorname 11 | AT19: =COUNTIF(D19:AS19,"X") -> 0 | AU19: =COUNTIF(D19:AS19,"e") -> 0 | AV19: =COUNTIF(D19:AS19,"u") -> 0
A20: 12 | B20: =September!B20 -> Name 12 | C20: =September!C20 -> Vorname 12 | AT20: =COUNTIF(D20:AS20,"X") -> 0 | AU20: =COUNTIF(D20:AS20,"e") -> 0 | AV20: =COUNTIF(D20:AS20,"u") -> 0
... A38: 30 | B38: =September!B38 -> Name 30 | C38: =September!C38 -> Vorname 30 | AT38: =COUNTIF(D38:AS38,"X") -> 0 | AU38: =COUNTIF(D38:AS38,"e") -> 0 | AV38: =COUNTIF(D38:AS38,"u") -> 0
B39: [X] teilgenommen | D39: =COUNTIF(D9:D38,"X") -> 0 | E39: =COUNTIF(E9:E38,"X") -> 0 | F39: =COUNTIF(F9:F38,"X") -> 0 | G39: =COUNTIF(G9:G38,"X") -> 0 | H39: =COUNTIF(H9:H38,"X") -> 0 | I39: =COUNTIF(I9:I38,"X") -> 0 | J39: =COUNTIF(J9:J38,"X") -> 0 | K39: =COUNTIF(K9:K38,"X") -> 0 | ... AS39: =COUNTIF(AS9:AS38,"X") -> 0
B40: [e] entschuldigt | D40: =COUNTIF(D9:D38,"e") -> 0 | E40: =COUNTIF(E9:E38,"e") -> 0 | F40: =COUNTIF(F9:F38,"e") -> 0 | G40: =COUNTIF(G9:G38,"e") -> 0 | H40: =COUNTIF(H9:H38,"e") -> 0 | I40: =COUNTIF(I9:I38,"e") -> 0 | J40: =COUNTIF(J9:J38,"e") -> 0 | K40: =COUNTIF(K9:K38,"e") -> 0 | ... AS40: =COUNTIF(AS9:AS38,"e") -> 0
B41: [u] unentschuldigt | D41: =COUNTIF(D9:D38,"u") -> 0 | E41: =COUNTIF(E9:E38,"u") -> 0 | F41: =COUNTIF(F9:F38,"u") -> 0 | G41: =COUNTIF(G9:G38,"u") -> 0 | H41: =COUNTIF(H9:H38,"u") -> 0 | I41: =COUNTIF(I9:I38,"u") -> 0 | J41: =COUNTIF(J9:J38,"u") -> 0 | K41: =COUNTIF(K9:K38,"u") -> 0 | ... AS41: =COUNTIF(AS9:AS38,"u") -> 0

Sheet November
A1: Teilnahmeliste Training | AG1: 46327 | AU1: =Januar!$AY$1 -> 2026
B3: Training stattgefunden | AT3: =COUNTIF(D3:AS3,"X") -> 0 | AU3: Trainingseinheiten
AT4: [x] teilgenommen | AU4: [e] entschuldigt | AV4: [u] unentschuldigt
B6: KW | D6: 44 | K6: =D6+1 -> 45 | R6: =K6+1 -> 46 | Y6: =R6+1 -> 47 | AF6: =Y6+1 -> 48 | AM6: =AF6+1 -> 49
D7: =D8 -> 46321 | E7: =E8 -> 46322 | F7: =F8 -> 46323 | G7: =G8 -> 46324 | H7: =H8 -> 46325 | I7: =I8 -> 46326 | J7: =J8 -> 46327 | K7: =K8 -> 46328 | ... AS7: =AS8 -> 46362
B8: Name | C8: Vorname | D8: =DATE(Januar!$AY$1,1,1)+(D6-IF(WEEKDAY(DATE(Januar!$AY$1,1,1),2)>4,0,1))*7+1-1+1-WEEKDAY(DATE(Januar!$AY$1,1,1)+(D6-IF(WEEKDAY(DATE(Januar!$AY$1,1,1),2)>4,0,1))*7,2) -> 46321 | E8: =D8+1 -> 46322 | F8: =E8+1 -> 46323 | G8: =F8+1 -> 46324 | H8: =G8+1 -> 46325 | I8: =H8+1 -> 46326 | J8: =I8+1 -> 46327 | K8: =J8+1 -> 46328 | L8: =K8+1 -> 46329 | ... AS8: =AR8+1 -> 46362
A9: 1 | B9: =Oktober!B9 -> Name 1 | C9: =Oktober!C9 -> Vorname 1 | AT9: =COUNTIF(D9:AS9,"X") -> 0 | AU9: =COUNTIF(D9:AS9,"e") -> 0 | AV9: =COUNTIF(D9:AS9,"u") -> 0
A10: 2 | B10: =Oktober!B10 -> Name 2 | C10: =Oktober!C10 -> Vorname 2 | AT10: =COUNTIF(D10:AS10,"X") -> 0 | AU10: =COUNTIF(D10:AS10,"e") -> 0 | AV10: =COUNTIF(D10:AS10,"u") -> 0
A11: 3 | B11: =Oktober!B11 -> Name 3 | C11: =Oktober!C11 -> Vorname 3 | AT11: =COUNTIF(D11:AS11,"X") -> 0 | AU11: =COUNTIF(D11:AS11,"e") -> 0 | AV11: =COUNTIF(D11:AS11,"u") -> 0
A12: 4 | B12: =Oktober!B12 -> Name 4 | C12: =Oktober!C12 -> Vorname 4 | AT12: =COUNTIF(D12:AS12,"X") -> 0 | AU12: =COUNTIF(D12:AS12,"e") -> 0 | AV12: =COUNTIF(D12:AS12,"u") -> 0
A13: 5 | B13: =Oktober!B13 -> Name 5 | C13: =Oktober!C13 -> Vorname 5 | AT13: =COUNTIF(D13:AS13,"X") -> 0 | AU13: =COUNTIF(D13:AS13,"e") -> 0 | AV13: =COUNTIF(D13:AS13,"u") -> 0
A14: 6 | B14: =Oktober!B14 -> Name 6 | C14: =Oktober!C14 -> Vorname 6 | AT14: =COUNTIF(D14:AS14,"X") -> 0 | AU14: =COUNTIF(D14:AS14,"e") -> 0 | AV14: =COUNTIF(D14:AS14,"u") -> 0
A15: 7 | B15: =Oktober!B15 -> Name 7 | C15: =Oktober!C15 -> Vorname 7 | AT15: =COUNTIF(D15:AS15,"X") -> 0 | AU15: =COUNTIF(D15:AS15,"e") -> 0 | AV15: =COUNTIF(D15:AS15,"u") -> 0
A16: 8 | B16: =Oktober!B16 -> Name 8 | C16: =Oktober!C16 -> Vorname 8 | AT16: =COUNTIF(D16:AS16,"X") -> 0 | AU16: =COUNTIF(D16:AS16,"e") -> 0 | AV16: =COUNTIF(D16:AS16,"u") -> 0
A17: 9 | B17: =Oktober!B17 -> Name 9 | C17: =Oktober!C17 -> Vorname 9 | AT17: =COUNTIF(D17:AS17,"X") -> 0 | AU17: =COUNTIF(D17:AS17,"e") -> 0 | AV17: =COUNTIF(D17:AS17,"u") -> 0
A18: 10 | B18: =Oktober!B18 -> Name 10 | C18: =Oktober!C18 -> Vorname 10 | AT18: =COUNTIF(D18:AS18,"X") -> 0 | AU18: =COUNTIF(D18:AS18,"e") -> 0 | AV18: =COUNTIF(D18:AS18,"u") -> 0
A19: 11 | B19: =Oktober!B19 -> Name 11 | C19: =Oktober!C19 -> Vorname 11 | AT19: =COUNTIF(D19:AS19,"X") -> 0 | AU19: =COUNTIF(D19:AS19,"e") -> 0 | AV19: =COUNTIF(D19:AS19,"u") -> 0
A20: 12 | B20: =Oktober!B20 -> Name 12 | C20: =Oktober!C20 -> Vorname 12 | AT20: =COUNTIF(D20:AS20,"X") -> 0 | AU20: =COUNTIF(D20:AS20,"e") -> 0 | AV20: =COUNTIF(D20:AS20,"u") -> 0
... A38: 30 | B38: =Oktober!B38 -> Name 30 | C38: =Oktober!C38 -> Vorname 30 | AT38: =COUNTIF(D38:AS38,"X") -> 0 | AU38: =COUNTIF(D38:AS38,"e") -> 0 | AV38: =COUNTIF(D38:AS38,"u") -> 0
B39: [X] teilgenommen | D39: =COUNTIF(D9:D38,"X") -> 0 | E39: =COUNTIF(E9:E38,"X") -> 0 | F39: =COUNTIF(F9:F38,"X") -> 0 | G39: =COUNTIF(G9:G38,"X") -> 0 | H39: =COUNTIF(H9:H38,"X") -> 0 | I39: =COUNTIF(I9:I38,"X") -> 0 | J39: =COUNTIF(J9:J38,"X") -> 0 | K39: =COUNTIF(K9:K38,"X") -> 0 | ... AS39: =COUNTIF(AS9:AS38,"X") -> 0
B40: [e] entschuldigt | D40: =COUNTIF(D9:D38,"e") -> 0 | E40: =COUNTIF(E9:E38,"e") -> 0 | F40: =COUNTIF(F9:F38,"e") -> 0 | G40: =COUNTIF(G9:G38,"e") -> 0 | H40: =COUNTIF(H9:H38,"e") -> 0 | I40: =COUNTIF(I9:I38,"e") -> 0 | J40: =COUNTIF(J9:J38,"e") -> 0 | K40: =COUNTIF(K9:K38,"e") -> 0 | ... AS40: =COUNTIF(AS9:AS38,"e") -> 0
B41: [u] unentschuldigt | D41: =COUNTIF(D9:D38,"u") -> 0 | E41: =COUNTIF(E9:E38,"u") -> 0 | F41: =COUNTIF(F9:F38,"u") -> 0 | G41: =COUNTIF(G9:G38,"u") -> 0 | H41: =COUNTIF(H9:H38,"u") -> 0 | I41: =COUNTIF(I9:I38,"u") -> 0 | J41: =COUNTIF(J9:J38,"u") -> 0 | K41: =COUNTIF(K9:K38,"u") -> 0 | ... AS41: =COUNTIF(AS9:AS38,"u") -> 0

Sheet Dezember
A1: Teilnahmeliste Training | AE1: 46357 | AU1: =Januar!$AY$1 -> 2026
B3: Training stattgefunden | AT3: =COUNTIF(D3:AS3,"X") -> 0 | AU3: Trainingseinheiten
AT4: [x] teilgenommen | AU4: [e] entschuldigt | AV4: [u] unentschuldigt
B6: KW | D6: 49 | K6: =D6+1 -> 50 | R6: =K6+1 -> 51 | Y6: =R6+1 -> 52 | AF6: =Y6+1 -> 53 | AM6: =AF6+1 -> 54
D7: =D8 -> 46356 | E7: =E8 -> 46357 | F7: =F8 -> 46358 | G7: =G8 -> 46359 | H7: =H8 -> 46360 | I7: =I8 -> 46361 | J7: =J8 -> 46362 | K7: =K8 -> 46363 | ... AS7: =AS8 -> 46397
B8: Name | C8: Vorname | D8: =DATE(Januar!$AY$1,1,1)+(D6-IF(WEEKDAY(DATE(Januar!$AY$1,1,1),2)>4,0,1))*7+1-1+1-WEEKDAY(DATE(Januar!$AY$1,1,1)+(D6-IF(WEEKDAY(DATE(Januar!$AY$1,1,1),2)>4,0,1))*7,2) -> 46356 | E8: =D8+1 -> 46357 | F8: =E8+1 -> 46358 | G8: =F8+1 -> 46359 | H8: =G8+1 -> 46360 | I8: =H8+1 -> 46361 | J8: =I8+1 -> 46362 | K8: =J8+1 -> 46363 | L8: =K8+1 -> 46364 | ... AS8: =AR8+1 -> 46397
A9: 1 | B9: =November!B9 -> Name 1 | C9: =November!C9 -> Vorname 1 | AT9: =COUNTIF(D9:AS9,"X") -> 0 | AU9: =COUNTIF(D9:AS9,"e") -> 0 | AV9: =COUNTIF(D9:AS9,"u") -> 0
A10: 2 | B10: =November!B10 -> Name 2 | C10: =November!C10 -> Vorname 2 | AT10: =COUNTIF(D10:AS10,"X") -> 0 | AU10: =COUNTIF(D10:AS10,"e") -> 0 | AV10: =COUNTIF(D10:AS10,"u") -> 0
A11: 3 | B11: =November!B11 -> Name 3 | C11: =November!C11 -> Vorname 3 | AT11: =COUNTIF(D11:AS11,"X") -> 0 | AU11: =COUNTIF(D11:AS11,"e") -> 0 | AV11: =COUNTIF(D11:AS11,"u") -> 0
A12: 4 | B12: =November!B12 -> Name 4 | C12: =November!C12 -> Vorname 4 | AT12: =COUNTIF(D12:AS12,"X") -> 0 | AU12: =COUNTIF(D12:AS12,"e") -> 0 | AV12: =COUNTIF(D12:AS12,"u") -> 0
A13: 5 | B13: =November!B13 -> Name 5 | C13: =November!C13 -> Vorname 5 | AT13: =COUNTIF(D13:AS13,"X") -> 0 | AU13: =COUNTIF(D13:AS13,"e") -> 0 | AV13: =COUNTIF(D13:AS13,"u") -> 0
A14: 6 | B14: =November!B14 -> Name 6 | C14: =November!C14 -> Vorname 6 | AT14: =COUNTIF(D14:AS14,"X") -> 0 | AU14: =COUNTIF(D14:AS14,"e") -> 0 | AV14: =COUNTIF(D14:AS14,"u") -> 0
A15: 7 | B15: =November!B15 -> Name 7 | C15: =November!C15 -> Vorname 7 | AT15: =COUNTIF(D15:AS15,"X") -> 0 | AU15: =COUNTIF(D15:AS15,"e") -> 0 | AV15: =COUNTIF(D15:AS15,"u") -> 0
A16: 8 | B16: =November!B16 -> Name 8 | C16: =November!C16 -> Vorname 8 | AT16: =COUNTIF(D16:AS16,"X") -> 0 | AU16: =COUNTIF(D16:AS16,"e") -> 0 | AV16: =COUNTIF(D16:AS16,"u") -> 0
A17: 9 | B17: =November!B17 -> Name 9 | C17: =November!C17 -> Vorname 9 | AT17: =COUNTIF(D17:AS17,"X") -> 0 | AU17: =COUNTIF(D17:AS17,"e") -> 0 | AV17: =COUNTIF(D17:AS17,"u") -> 0
A18: 10 | B18: =November!B18 -> Name 10 | C18: =November!C18 -> Vorname 10 | AT18: =COUNTIF(D18:AS18,"X") -> 0 | AU18: =COUNTIF(D18:AS18,"e") -> 0 | AV18: =COUNTIF(D18:AS18,"u") -> 0
A19: 11 | B19: =November!B19 -> Name 11 | C19: =November!C19 -> Vorname 11 | AT19: =COUNTIF(D19:AS19,"X") -> 0 | AU19: =COUNTIF(D19:AS19,"e") -> 0 | AV19: =COUNTIF(D19:AS19,"u") -> 0
A20: 12 | B20: =November!B20 -> Name 12 | C20: =November!C20 -> Vorname 12 | AT20: =COUNTIF(D20:AS20,"X") -> 0 | AU20: =COUNTIF(D20:AS20,"e") -> 0 | AV20: =COUNTIF(D20:AS20,"u") -> 0
... A38: 30 | B38: =November!B38 -> Name 30 | C38: =November!C38 -> Vorname 30 | AT38: =COUNTIF(D38:AS38,"X") -> 0 | AU38: =COUNTIF(D38:AS38,"e") -> 0 | AV38: =COUNTIF(D38:AS38,"u") -> 0
B39: [X] teilgenommen | D39: =COUNTIF(D9:D38,"X") -> 0 | E39: =COUNTIF(E9:E38,"X") -> 0 | F39: =COUNTIF(F9:F38,"X") -> 0 | G39: =COUNTIF(G9:G38,"X") -> 0 | H39: =COUNTIF(H9:H38,"X") -> 0 | I39: =COUNTIF(I9:I38,"X") -> 0 | J39: =COUNTIF(J9:J38,"X") -> 0 | K39: =COUNTIF(K9:K38,"X") -> 0 | ... AS39: =COUNTIF(AS9:AS38,"X") -> 0
B40: [e] entschuldigt | D40: =COUNTIF(D9:D38,"e") -> 0 | E40: =COUNTIF(E9:E38,"e") -> 0 | F40: =COUNTIF(F9:F38,"e") -> 0 | G40: =COUNTIF(G9:G38,"e") -> 0 | H40: =COUNTIF(H9:H38,"e") -> 0 | I40: =COUNTIF(I9:I38,"e") -> 0 | J40: =COUNTIF(J9:J38,"e") -> 0 | K40: =COUNTIF(K9:K38,"e") -> 0 | ... AS40: =COUNTIF(AS9:AS38,"e") -> 0
B41: [u] unentschuldigt | D41: =COUNTIF(D9:D38,"u") -> 0 | E41: =COUNTIF(E9:E38,"u") -> 0 | F41: =COUNTIF(F9:F38,"u") -> 0 | G41: =COUNTIF(G9:G38,"u") -> 0 | H41: =COUNTIF(H9:H38,"u") -> 0 | I41: =COUNTIF(I9:I38,"u") -> 0 | J41: =COUNTIF(J9:J38,"u") -> 0 | K41: =COUNTIF(K9:K38,"u") -> 0 | ... AS41: =COUNTIF(AS9:AS38,"u") -> 0
