Workbook

Sheet JAN
G1: =TEXT(DATE(R2,S2,1),"MMMM") -> Januar | I1: =DATE(R2,S2,1) -> 46388 | R1: Jahr | S1: Monat
R2: 2027 | S2: 1
A3: KW
A4: =WEEKNUM($B$4,21) -> 53 | B4: =DATE($R$2,$S$2,(1-WEEKDAY(DATE($R$2,$S$2,1),2))+(COLUMN(B3)-1)+(ROW(K1)-1)*7) -> 46384 | C4: =B4 -> 46384
B5: =DATE($R$2,$S$2,(1-WEEKDAY(DATE($R$2,$S$2,1),2))+(COLUMN(C3)-1)+(ROW(L1)-1)*7) -> 46385 | C5: =B5 -> 46385
B6: =DATE($R$2,$S$2,(1-WEEKDAY(DATE($R$2,$S$2,1),2))+(COLUMN(D3)-1)+(ROW(M1)-1)*7) -> 46386 | C6: =B6 -> 46386
B7: =DATE($R$2,$S$2,(1-WEEKDAY(DATE($R$2,$S$2,1),2))+(COLUMN(E3)-1)+(ROW(N1)-1)*7) -> 46387 | C7: =B7 -> 46387
B8: =DATE($R$2,$S$2,(1-WEEKDAY(DATE($R$2,$S$2,1),2))+(COLUMN(F3)-1)+(ROW(O1)-1)*7) -> 46388 | C8: =B8 -> 46388
B9: =DATE($R$2,$S$2,(1-WEEKDAY(DATE($R$2,$S$2,1),2))+(COLUMN(G3)-1)+(ROW(P1)-1)*7) -> 46389 | C9: =B9 -> 46389
B10: =DATE($R$2,$S$2,(1-WEEKDAY(DATE($R$2,$S$2,1),2))+(COLUMN(H3)-1)+(ROW(Q1)-1)*7) -> 46390 | C10: =B10 -> 46390
A11: =WEEKNUM($B$11,21) -> 1 | B11: =DATE($R$2,$S$2,(1-WEEKDAY(DATE($R$2,$S$2,1),2))+(COLUMN(B4)-1)+(ROW(K2)-1)*7) -> 46391 | C11: =B11 -> 46391
B12: =DATE($R$2,$S$2,(1-WEEKDAY(DATE($R$2,$S$2,1),2))+(COLUMN(C4)-1)+(ROW(L2)-1)*7) -> 46392 | C12: =B12 -> 46392
B13: =DATE($R$2,$S$2,(1-WEEKDAY(DATE($R$2,$S$2,1),2))+(COLUMN(D4)-1)+(ROW(M2)-1)*7) -> 46393 | C13: =B13 -> 46393
B14: =DATE($R$2,$S$2,(1-WEEKDAY(DATE($R$2,$S$2,1),2))+(COLUMN(E4)-1)+(ROW(N2)-1)*7) -> 46394 | C14: =B14 -> 46394
B15: =DATE($R$2,$S$2,(1-WEEKDAY(DATE($R$2,$S$2,1),2))+(COLUMN(F4)-1)+(ROW(O2)-1)*7) -> 46395 | C15: =B15 -> 46395
B16: =DATE($R$2,$S$2,(1-WEEKDAY(DATE($R$2,$S$2,1),2))+(COLUMN(G4)-1)+(ROW(P2)-1)*7) -> 46396 | C16: =B16 -> 46396
B17: =DATE($R$2,$S$2,(1-WEEKDAY(DATE($R$2,$S$2,1),2))+(COLUMN(H4)-1)+(ROW(Q2)-1)*7) -> 46397 | C17: =B17 -> 46397
A18: =WEEKNUM($B$18,21) -> 2 | B18: =DATE($R$2,$S$2,(1-WEEKDAY(DATE($R$2,$S$2,1),2))+(COLUMN(B13)-1)+(ROW(K3)-1)*7) -> 46398 | C18: =B18 -> 46398
B19: =DATE($R$2,$S$2,(1-WEEKDAY(DATE($R$2,$S$2,1),2))+(COLUMN(C13)-1)+(ROW(L3)-1)*7) -> 46399 | C19: =B19 -> 46399
B20: =DATE($R$2,$S$2,(1-WEEKDAY(DATE($R$2,$S$2,1),2))+(COLUMN(D13)-1)+(ROW(M3)-1)*7) -> 46400 | C20: =B20 -> 46400
B21: =DATE($R$2,$S$2,(1-WEEKDAY(DATE($R$2,$S$2,1),2))+(COLUMN(E13)-1)+(ROW(N3)-1)*7) -> 46401 | C21: =B21 -> 46401
B22: =DATE($R$2,$S$2,(1-WEEKDAY(DATE($R$2,$S$2,1),2))+(COLUMN(F13)-1)+(ROW(O3)-1)*7) -> 46402 | C22: =B22 -> 46402
B23: =DATE($R$2,$S$2,(1-WEEKDAY(DATE($R$2,$S$2,1),2))+(COLUMN(G13)-1)+(ROW(P3)-1)*7) -> 46403 | C23: =B23 -> 46403
B24: =DATE($R$2,$S$2,(1-WEEKDAY(DATE($R$2,$S$2,1),2))+(COLUMN(H13)-1)+(ROW(Q3)-1)*7) -> 46404 | C24: =B24 -> 46404
A25: =WEEKNUM($B$25,21) -> 3 | B25: =DATE($R$2,$S$2,(1-WEEKDAY(DATE($R$2,$S$2,1),2))+(COLUMN(B22)-1)+(ROW(K4)-1)*7) -> 46405 | C25: =B25 -> 46405
B26: =DATE($R$2,$S$2,(1-WEEKDAY(DATE($R$2,$S$2,1),2))+(COLUMN(C22)-1)+(ROW(L4)-1)*7) -> 46406 | C26: =B26 -> 46406
B27: =DATE($R$2,$S$2,(1-WEEKDAY(DATE($R$2,$S$2,1),2))+(COLUMN(D22)-1)+(ROW(M4)-1)*7) -> 46407 | C27: =B27 -> 46407
B28: =DATE($R$2,$S$2,(1-WEEKDAY(DATE($R$2,$S$2,1),2))+(COLUMN(E22)-1)+(ROW(N4)-1)*7) -> 46408 | C28: =B28 -> 46408
B29: =DATE($R$2,$S$2,(1-WEEKDAY(DATE($R$2,$S$2,1),2))+(COLUMN(F22)-1)+(ROW(O4)-1)*7) -> 46409 | C29: =B29 -> 46409
B30: =DATE($R$2,$S$2,(1-WEEKDAY(DATE($R$2,$S$2,1),2))+(COLUMN(G22)-1)+(ROW(P4)-1)*7) -> 46410 | C30: =B30 -> 46410
B31: =DATE($R$2,$S$2,(1-WEEKDAY(DATE($R$2,$S$2,1),2))+(COLUMN(H22)-1)+(ROW(Q4)-1)*7) -> 46411 | C31: =B31 -> 46411
A32: =WEEKNUM($B$32,21) -> 4 | B32: =DATE($R$2,$S$2,(1-WEEKDAY(DATE($R$2,$S$2,1),2))+(COLUMN(B31)-1)+(ROW(K5)-1)*7) -> 46412 | C32: =B32 -> 46412
B33: =DATE($R$2,$S$2,(1-WEEKDAY(DATE($R$2,$S$2,1),2))+(COLUMN(C31)-1)+(ROW(L5)-1)*7) -> 46413 | C33: =B33 -> 46413
B34: =DATE($R$2,$S$2,(1-WEEKDAY(DATE($R$2,$S$2,1),2))+(COLUMN(D31)-1)+(ROW(M5)-1)*7) -> 46414 | C34: =B34 -> 46414
B35: =DATE($R$2,$S$2,(1-WEEKDAY(DATE($R$2,$S$2,1),2))+(COLUMN(E31)-1)+(ROW(N5)-1)*7) -> 46415 | C35: =B35 -> 46415
B36: =DATE($R$2,$S$2,(1-WEEKDAY(DATE($R$2,$S$2,1),2))+(COLUMN(F31)-1)+(ROW(O5)-1)*7) -> 46416 | C36: =B36 -> 46416
B37: =DATE($R$2,$S$2,(1-WEEKDAY(DATE($R$2,$S$2,1),2))+(COLUMN(G31)-1)+(ROW(P5)-1)*7) -> 46417 | C37: =B37 -> 46417
B38: =DATE($R$2,$S$2,(1-WEEKDAY(DATE($R$2,$S$2,1),2))+(COLUMN(H31)-1)+(ROW(Q5)-1)*7) -> 46418 | C38: =B38 -> 46418

Sheet FEB
G1: =TEXT(DATE(R2,S2,1),"MMMM") -> Februar | I1: =DATE(R2,S2,1) -> 46419 | R1: Jahr | S1: Monat
R2: =JAN!$R$2 -> 2027 | S2: 2
A3: KW
A4: =WEEKNUM($B$4,21) -> 5 | B4: =DATE($R$2,$S$2,(1-WEEKDAY(DATE($R$2,$S$2,1),2))+(COLUMN(B3)-1)+(ROW(K1)-1)*7) -> 46419 | C4: =B4 -> 46419
B5: =DATE($R$2,$S$2,(1-WEEKDAY(DATE($R$2,$S$2,1),2))+(COLUMN(C3)-1)+(ROW(L1)-1)*7) -> 46420 | C5: =B5 -> 46420
B6: =DATE($R$2,$S$2,(1-WEEKDAY(DATE($R$2,$S$2,1),2))+(COLUMN(D3)-1)+(ROW(M1)-1)*7) -> 46421 | C6: =B6 -> 46421
B7: =DATE($R$2,$S$2,(1-WEEKDAY(DATE($R$2,$S$2,1),2))+(COLUMN(E3)-1)+(ROW(N1)-1)*7) -> 46422 | C7: =B7 -> 46422
B8: =DATE($R$2,$S$2,(1-WEEKDAY(DATE($R$2,$S$2,1),2))+(COLUMN(F3)-1)+(ROW(O1)-1)*7) -> 46423 | C8: =B8 -> 46423
B9: =DATE($R$2,$S$2,(1-WEEKDAY(DATE($R$2,$S$2,1),2))+(COLUMN(G3)-1)+(ROW(P1)-1)*7) -> 46424 | C9: =B9 -> 46424
B10: =DATE($R$2,$S$2,(1-WEEKDAY(DATE($R$2,$S$2,1),2))+(COLUMN(H3)-1)+(ROW(Q1)-1)*7) -> 46425 | C10: =B10 -> 46425
A11: =WEEKNUM($B$11,21) -> 6 | B11: =DATE($R$2,$S$2,(1-WEEKDAY(DATE($R$2,$S$2,1),2))+(COLUMN(B4)-1)+(ROW(K2)-1)*7) -> 46426 | C11: =B11 -> 46426
B12: =DATE($R$2,$S$2,(1-WEEKDAY(DATE($R$2,$S$2,1),2))+(COLUMN(C4)-1)+(ROW(L2)-1)*7) -> 46427 | C12: =B12 -> 46427
B13: =DATE($R$2,$S$2,(1-WEEKDAY(DATE($R$2,$S$2,1),2))+(COLUMN(D4)-1)+(ROW(M2)-1)*7) -> 46428 | C13: =B13 -> 46428
B14: =DATE($R$2,$S$2,(1-WEEKDAY(DATE($R$2,$S$2,1),2))+(COLUMN(E4)-1)+(ROW(N2)-1)*7) -> 46429 | C14: =B14 -> 46429
B15: =DATE($R$2,$S$2,(1-WEEKDAY(DATE($R$2,$S$2,1),2))+(COLUMN(F4)-1)+(ROW(O2)-1)*7) -> 46430 | C15: =B15 -> 46430
B16: =DATE($R$2,$S$2,(1-WEEKDAY(DATE($R$2,$S$2,1),2))+(COLUMN(G4)-1)+(ROW(P2)-1)*7) -> 46431 | C16: =B16 -> 46431
B17: =DATE($R$2,$S$2,(1-WEEKDAY(DATE($R$2,$S$2,1),2))+(COLUMN(H4)-1)+(ROW(Q2)-1)*7) -> 46432 | C17: =B17 -> 46432
A18: =WEEKNUM($B$18,21) -> 7 | B18: =DATE($R$2,$S$2,(1-WEEKDAY(DATE($R$2,$S$2,1),2))+(COLUMN(B13)-1)+(ROW(K3)-1)*7) -> 46433 | C18: =B18 -> 46433
B19: =DATE($R$2,$S$2,(1-WEEKDAY(DATE($R$2,$S$2,1),2))+(COLUMN(C13)-1)+(ROW(L3)-1)*7) -> 46434 | C19: =B19 -> 46434
B20: =DATE($R$2,$S$2,(1-WEEKDAY(DATE($R$2,$S$2,1),2))+(COLUMN(D13)-1)+(ROW(M3)-1)*7) -> 46435 | C20: =B20 -> 46435
B21: =DATE($R$2,$S$2,(1-WEEKDAY(DATE($R$2,$S$2,1),2))+(COLUMN(E13)-1)+(ROW(N3)-1)*7) -> 46436 | C21: =B21 -> 46436
B22: =DATE($R$2,$S$2,(1-WEEKDAY(DATE($R$2,$S$2,1),2))+(COLUMN(F13)-1)+(ROW(O3)-1)*7) -> 46437 | C22: =B22 -> 46437
B23: =DATE($R$2,$S$2,(1-WEEKDAY(DATE($R$2,$S$2,1),2))+(COLUMN(G13)-1)+(ROW(P3)-1)*7) -> 46438 | C23: =B23 -> 46438
B24: =DATE($R$2,$S$2,(1-WEEKDAY(DATE($R$2,$S$2,1),2))+(COLUMN(H13)-1)+(ROW(Q3)-1)*7) -> 46439 | C24: =B24 -> 46439
A25: =WEEKNUM($B$25,21) -> 8 | B25: =DATE($R$2,$S$2,(1-WEEKDAY(DATE($R$2,$S$2,1),2))+(COLUMN(B22)-1)+(ROW(K4)-1)*7) -> 46440 | C25: =B25 -> 46440
B26: =DATE($R$2,$S$2,(1-WEEKDAY(DATE($R$2,$S$2,1),2))+(COLUMN(C22)-1)+(ROW(L4)-1)*7) -> 46441 | C26: =B26 -> 46441
B27: =DATE($R$2,$S$2,(1-WEEKDAY(DATE($R$2,$S$2,1),2))+(COLUMN(D22)-1)+(ROW(M4)-1)*7) -> 46442 | C27: =B27 -> 46442
B28: =DATE($R$2,$S$2,(1-WEEKDAY(DATE($R$2,$S$2,1),2))+(COLUMN(E22)-1)+(ROW(N4)-1)*7) -> 46443 | C28: =B28 -> 46443
B29: =DATE($R$2,$S$2,(1-WEEKDAY(DATE($R$2,$S$2,1),2))+(COLUMN(F22)-1)+(ROW(O4)-1)*7) -> 46444 | C29: =B29 -> 46444
B30: =DATE($R$2,$S$2,(1-WEEKDAY(DATE($R$2,$S$2,1),2))+(COLUMN(G22)-1)+(ROW(P4)-1)*7) -> 46445 | C30: =B30 -> 46445
B31: =DATE($R$2,$S$2,(1-WEEKDAY(DATE($R$2,$S$2,1),2))+(COLUMN(H22)-1)+(ROW(Q4)-1)*7) -> 46446 | C31: =B31 -> 46446
A32: =WEEKNUM($B$32,21) -> 9 | B32: =DATE($R$2,$S$2,(1-WEEKDAY(DATE($R$2,$S$2,1),2))+(COLUMN(B31)-1)+(ROW(K5)-1)*7) -> 46447 | C32: =B32 -> 46447
B33: =DATE($R$2,$S$2,(1-WEEKDAY(DATE($R$2,$S$2,1),2))+(COLUMN(C31)-1)+(ROW(L5)-1)*7) -> 46448 | C33: =B33 -> 46448
B34: =DATE($R$2,$S$2,(1-WEEKDAY(DATE($R$2,$S$2,1),2))+(COLUMN(D31)-1)+(ROW(M5)-1)*7) -> 46449 | C34: =B34 -> 46449
B35: =DATE($R$2,$S$2,(1-WEEKDAY(DATE($R$2,$S$2,1),2))+(COLUMN(E31)-1)+(ROW(N5)-1)*7) -> 46450 | C35: =B35 -> 46450
B36: =DATE($R$2,$S$2,(1-WEEKDAY(DATE($R$2,$S$2,1),2))+(COLUMN(F31)-1)+(ROW(O5)-1)*7) -> 46451 | C36: =B36 -> 46451
B37: =DATE($R$2,$S$2,(1-WEEKDAY(DATE($R$2,$S$2,1),2))+(COLUMN(G31)-1)+(ROW(P5)-1)*7) -> 46452 | C37: =B37 -> 46452
B38: =DATE($R$2,$S$2,(1-WEEKDAY(DATE($R$2,$S$2,1),2))+(COLUMN(H31)-1)+(ROW(Q5)-1)*7) -> 46453 | C38: =B38 -> 46453

Sheet MRZ
G1: =TEXT(DATE(R2,S2,1),"MMMM") -> März | I1: =DATE(R2,S2,1) -> 46447 | R1: Jahr | S1: Monat
R2: =JAN!$R$2 -> 2027 | S2: 3
A3: KW
A4: =WEEKNUM($B$4,21) -> 9 | B4: =DATE($R$2,$S$2,(1-WEEKDAY(DATE($R$2,$S$2,1),2))+(COLUMN(B3)-1)+(ROW(K1)-1)*7) -> 46447 | C4: =B4 -> 46447
B5: =DATE($R$2,$S$2,(1-WEEKDAY(DATE($R$2,$S$2,1),2))+(COLUMN(C3)-1)+(ROW(L1)-1)*7) -> 46448 | C5: =B5 -> 46448
B6: =DATE($R$2,$S$2,(1-WEEKDAY(DATE($R$2,$S$2,1),2))+(COLUMN(D3)-1)+(ROW(M1)-1)*7) -> 46449 | C6: =B6 -> 46449
B7: =DATE($R$2,$S$2,(1-WEEKDAY(DATE($R$2,$S$2,1),2))+(COLUMN(E3)-1)+(ROW(N1)-1)*7) -> 46450 | C7: =B7 -> 46450
B8: =DATE($R$2,$S$2,(1-WEEKDAY(DATE($R$2,$S$2,1),2))+(COLUMN(F3)-1)+(ROW(O1)-1)*7) -> 46451 | C8: =B8 -> 46451
B9: =DATE($R$2,$S$2,(1-WEEKDAY(DATE($R$2,$S$2,1),2))+(COLUMN(G3)-1)+(ROW(P1)-1)*7) -> 46452 | C9: =B9 -> 46452
B10: =DATE($R$2,$S$2,(1-WEEKDAY(DATE($R$2,$S$2,1),2))+(COLUMN(H3)-1)+(ROW(Q1)-1)*7) -> 46453 | C10: =B10 -> 46453
A11: =WEEKNUM($B$11,21) -> 10 | B11: =DATE($R$2,$S$2,(1-WEEKDAY(DATE($R$2,$S$2,1),2))+(COLUMN(B4)-1)+(ROW(K2)-1)*7) -> 46454 | C11: =B11 -> 46454
B12: =DATE($R$2,$S$2,(1-WEEKDAY(DATE($R$2,$S$2,1),2))+(COLUMN(C4)-1)+(ROW(L2)-1)*7) -> 46455 | C12: =B12 -> 46455
B13: =DATE($R$2,$S$2,(1-WEEKDAY(DATE($R$2,$S$2,1),2))+(COLUMN(D4)-1)+(ROW(M2)-1)*7) -> 46456 | C13: =B13 -> 46456
B14: =DATE($R$2,$S$2,(1-WEEKDAY(DATE($R$2,$S$2,1),2))+(COLUMN(E4)-1)+(ROW(N2)-1)*7) -> 46457 | C14: =B14 -> 46457
B15: =DATE($R$2,$S$2,(1-WEEKDAY(DATE($R$2,$S$2,1),2))+(COLUMN(F4)-1)+(ROW(O2)-1)*7) -> 46458 | C15: =B15 -> 46458
B16: =DATE($R$2,$S$2,(1-WEEKDAY(DATE($R$2,$S$2,1),2))+(COLUMN(G4)-1)+(ROW(P2)-1)*7) -> 46459 | C16: =B16 -> 46459
B17: =DATE($R$2,$S$2,(1-WEEKDAY(DATE($R$2,$S$2,1),2))+(COLUMN(H4)-1)+(ROW(Q2)-1)*7) -> 46460 | C17: =B17 -> 46460
A18: =WEEKNUM($B$18,21) -> 11 | B18: =DATE($R$2,$S$2,(1-WEEKDAY(DATE($R$2,$S$2,1),2))+(COLUMN(B13)-1)+(ROW(K3)-1)*7) -> 46461 | C18: =B18 -> 46461
B19: =DATE($R$2,$S$2,(1-WEEKDAY(DATE($R$2,$S$2,1),2))+(COLUMN(C13)-1)+(ROW(L3)-1)*7) -> 46462 | C19: =B19 -> 46462
B20: =DATE($R$2,$S$2,(1-WEEKDAY(DATE($R$2,$S$2,1),2))+(COLUMN(D13)-1)+(ROW(M3)-1)*7) -> 46463 | C20: =B20 -> 46463
B21: =DATE($R$2,$S$2,(1-WEEKDAY(DATE($R$2,$S$2,1),2))+(COLUMN(E13)-1)+(ROW(N3)-1)*7) -> 46464 | C21: =B21 -> 46464
B22: =DATE($R$2,$S$2,(1-WEEKDAY(DATE($R$2,$S$2,1),2))+(COLUMN(F13)-1)+(ROW(O3)-1)*7) -> 46465 | C22: =B22 -> 46465
B23: =DATE($R$2,$S$2,(1-WEEKDAY(DATE($R$2,$S$2,1),2))+(COLUMN(G13)-1)+(ROW(P3)-1)*7) -> 46466 | C23: =B23 -> 46466
B24: =DATE($R$2,$S$2,(1-WEEKDAY(DATE($R$2,$S$2,1),2))+(COLUMN(H13)-1)+(ROW(Q3)-1)*7) -> 46467 | C24: =B24 -> 46467
A25: =WEEKNUM($B$25,21) -> 12 | B25: =DATE($R$2,$S$2,(1-WEEKDAY(DATE($R$2,$S$2,1),2))+(COLUMN(B22)-1)+(ROW(K4)-1)*7) -> 46468 | C25: =B25 -> 46468
B26: =DATE($R$2,$S$2,(1-WEEKDAY(DATE($R$2,$S$2,1),2))+(COLUMN(C22)-1)+(ROW(L4)-1)*7) -> 46469 | C26: =B26 -> 46469
B27: =DATE($R$2,$S$2,(1-WEEKDAY(DATE($R$2,$S$2,1),2))+(COLUMN(D22)-1)+(ROW(M4)-1)*7) -> 46470 | C27: =B27 -> 46470
B28: =DATE($R$2,$S$2,(1-WEEKDAY(DATE($R$2,$S$2,1),2))+(COLUMN(E22)-1)+(ROW(N4)-1)*7) -> 46471 | C28: =B28 -> 46471
B29: =DATE($R$2,$S$2,(1-WEEKDAY(DATE($R$2,$S$2,1),2))+(COLUMN(F22)-1)+(ROW(O4)-1)*7) -> 46472 | C29: =B29 -> 46472
B30: =DATE($R$2,$S$2,(1-WEEKDAY(DATE($R$2,$S$2,1),2))+(COLUMN(G22)-1)+(ROW(P4)-1)*7) -> 46473 | C30: =B30 -> 46473
B31: =DATE($R$2,$S$2,(1-WEEKDAY(DATE($R$2,$S$2,1),2))+(COLUMN(H22)-1)+(ROW(Q4)-1)*7) -> 46474 | C31: =B31 -> 46474
A32: =WEEKNUM($B$32,21) -> 13 | B32: =DATE($R$2,$S$2,(1-WEEKDAY(DATE($R$2,$S$2,1),2))+(COLUMN(B31)-1)+(ROW(K5)-1)*7) -> 46475 | C32: =B32 -> 46475
B33: =DATE($R$2,$S$2,(1-WEEKDAY(DATE($R$2,$S$2,1),2))+(COLUMN(C31)-1)+(ROW(L5)-1)*7) -> 46476 | C33: =B33 -> 46476
B34: =DATE($R$2,$S$2,(1-WEEKDAY(DATE($R$2,$S$2,1),2))+(COLUMN(D31)-1)+(ROW(M5)-1)*7) -> 46477 | C34: =B34 -> 46477
B35: =DATE($R$2,$S$2,(1-WEEKDAY(DATE($R$2,$S$2,1),2))+(COLUMN(E31)-1)+(ROW(N5)-1)*7) -> 46478 | C35: =B35 -> 46478
B36: =DATE($R$2,$S$2,(1-WEEKDAY(DATE($R$2,$S$2,1),2))+(COLUMN(F31)-1)+(ROW(O5)-1)*7) -> 46479 | C36: =B36 -> 46479
B37: =DATE($R$2,$S$2,(1-WEEKDAY(DATE($R$2,$S$2,1),2))+(COLUMN(G31)-1)+(ROW(P5)-1)*7) -> 46480 | C37: =B37 -> 46480
B38: =DATE($R$2,$S$2,(1-WEEKDAY(DATE($R$2,$S$2,1),2))+(COLUMN(H31)-1)+(ROW(Q5)-1)*7) -> 46481 | C38: =B38 -> 46481
A39: =WEEKNUM($B$39,21) -> 14 | B39: =DATE($R$2,$S$2,(1-WEEKDAY(DATE($R$2,$S$2,1),2))+(COLUMN(B38)-1)+(ROW(Q6)-1)*7) -> 46482 | C39: =B39 -> 46482
B40: =DATE($R$2,$S$2,(1-WEEKDAY(DATE($R$2,$S$2,1),2))+(COLUMN(C39)-1)+(ROW(Q6)-1)*7) -> 46483 | C40: =B40 -> 46483

Sheet APR
G1: =TEXT(DATE(R2,S2,1),"MMMM") -> April | I1: =DATE(R2,S2,1) -> 46478 | R1: Jahr | S1: Monat
R2: =JAN!$R$2 -> 2027 | S2: 4
A3: KW
A4: =WEEKNUM($B$4,21) -> 13 | B4: =DATE($R$2,$S$2,(1-WEEKDAY(DATE($R$2,$S$2,1),2))+(COLUMN(B3)-1)+(ROW(K1)-1)*7) -> 46475 | C4: =B4 -> 46475
B5: =DATE($R$2,$S$2,(1-WEEKDAY(DATE($R$2,$S$2,1),2))+(COLUMN(C3)-1)+(ROW(L1)-1)*7) -> 46476 | C5: =B5 -> 46476
B6: =DATE($R$2,$S$2,(1-WEEKDAY(DATE($R$2,$S$2,1),2))+(COLUMN(D3)-1)+(ROW(M1)-1)*7) -> 46477 | C6: =B6 -> 46477
B7: =DATE($R$2,$S$2,(1-WEEKDAY(DATE($R$2,$S$2,1),2))+(COLUMN(E3)-1)+(ROW(N1)-1)*7) -> 46478 | C7: =B7 -> 46478
B8: =DATE($R$2,$S$2,(1-WEEKDAY(DATE($R$2,$S$2,1),2))+(COLUMN(F3)-1)+(ROW(O1)-1)*7) -> 46479 | C8: =B8 -> 46479
B9: =DATE($R$2,$S$2,(1-WEEKDAY(DATE($R$2,$S$2,1),2))+(COLUMN(G3)-1)+(ROW(P1)-1)*7) -> 46480 | C9: =B9 -> 46480
B10: =DATE($R$2,$S$2,(1-WEEKDAY(DATE($R$2,$S$2,1),2))+(COLUMN(H3)-1)+(ROW(Q1)-1)*7) -> 46481 | C10: =B10 -> 46481
A11: =WEEKNUM($B$11,21) -> 14 | B11: =DATE($R$2,$S$2,(1-WEEKDAY(DATE($R$2,$S$2,1),2))+(COLUMN(B4)-1)+(ROW(K2)-1)*7) -> 46482 | C11: =B11 -> 46482
B12: =DATE($R$2,$S$2,(1-WEEKDAY(DATE($R$2,$S$2,1),2))+(COLUMN(C4)-1)+(ROW(L2)-1)*7) -> 46483 | C12: =B12 -> 46483
B13: =DATE($R$2,$S$2,(1-WEEKDAY(DATE($R$2,$S$2,1),2))+(COLUMN(D4)-1)+(ROW(M2)-1)*7) -> 46484 | C13: =B13 -> 46484
B14: =DATE($R$2,$S$2,(1-WEEKDAY(DATE($R$2,$S$2,1),2))+(COLUMN(E4)-1)+(ROW(N2)-1)*7) -> 46485 | C14: =B14 -> 46485
B15: =DATE($R$2,$S$2,(1-WEEKDAY(DATE($R$2,$S$2,1),2))+(COLUMN(F4)-1)+(ROW(O2)-1)*7) -> 46486 | C15: =B15 -> 46486
B16: =DATE($R$2,$S$2,(1-WEEKDAY(DATE($R$2,$S$2,1),2))+(COLUMN(G4)-1)+(ROW(P2)-1)*7) -> 46487 | C16: =B16 -> 46487
B17: =DATE($R$2,$S$2,(1-WEEKDAY(DATE($R$2,$S$2,1),2))+(COLUMN(H4)-1)+(ROW(Q2)-1)*7) -> 46488 | C17: =B17 -> 46488
A18: =WEEKNUM($B$18,21) -> 15 | B18: =DATE($R$2,$S$2,(1-WEEKDAY(DATE($R$2,$S$2,1),2))+(COLUMN(B13)-1)+(ROW(K3)-1)*7) -> 46489 | C18: =B18 -> 46489
B19: =DATE($R$2,$S$2,(1-WEEKDAY(DATE($R$2,$S$2,1),2))+(COLUMN(C13)-1)+(ROW(L3)-1)*7) -> 46490 | C19: =B19 -> 46490
B20: =DATE($R$2,$S$2,(1-WEEKDAY(DATE($R$2,$S$2,1),2))+(COLUMN(D13)-1)+(ROW(M3)-1)*7) -> 46491 | C20: =B20 -> 46491
B21: =DATE($R$2,$S$2,(1-WEEKDAY(DATE($R$2,$S$2,1),2))+(COLUMN(E13)-1)+(ROW(N3)-1)*7) -> 46492 | C21: =B21 -> 46492
B22: =DATE($R$2,$S$2,(1-WEEKDAY(DATE($R$2,$S$2,1),2))+(COLUMN(F13)-1)+(ROW(O3)-1)*7) -> 46493 | C22: =B22 -> 46493
B23: =DATE($R$2,$S$2,(1-WEEKDAY(DATE($R$2,$S$2,1),2))+(COLUMN(G13)-1)+(ROW(P3)-1)*7) -> 46494 | C23: =B23 -> 46494
B24: =DATE($R$2,$S$2,(1-WEEKDAY(DATE($R$2,$S$2,1),2))+(COLUMN(H13)-1)+(ROW(Q3)-1)*7) -> 46495 | C24: =B24 -> 46495
A25: =WEEKNUM($B$25,21) -> 16 | B25: =DATE($R$2,$S$2,(1-WEEKDAY(DATE($R$2,$S$2,1),2))+(COLUMN(B22)-1)+(ROW(K4)-1)*7) -> 46496 | C25: =B25 -> 46496
B26: =DATE($R$2,$S$2,(1-WEEKDAY(DATE($R$2,$S$2,1),2))+(COLUMN(C22)-1)+(ROW(L4)-1)*7) -> 46497 | C26: =B26 -> 46497
B27: =DATE($R$2,$S$2,(1-WEEKDAY(DATE($R$2,$S$2,1),2))+(COLUMN(D22)-1)+(ROW(M4)-1)*7) -> 46498 | C27: =B27 -> 46498
B28: =DATE($R$2,$S$2,(1-WEEKDAY(DATE($R$2,$S$2,1),2))+(COLUMN(E22)-1)+(ROW(N4)-1)*7) -> 46499 | C28: =B28 -> 46499
B29: =DATE($R$2,$S$2,(1-WEEKDAY(DATE($R$2,$S$2,1),2))+(COLUMN(F22)-1)+(ROW(O4)-1)*7) -> 46500 | C29: =B29 -> 46500
B30: =DATE($R$2,$S$2,(1-WEEKDAY(DATE($R$2,$S$2,1),2))+(COLUMN(G22)-1)+(ROW(P4)-1)*7) -> 46501 | C30: =B30 -> 46501
B31: =DATE($R$2,$S$2,(1-WEEKDAY(DATE($R$2,$S$2,1),2))+(COLUMN(H22)-1)+(ROW(Q4)-1)*7) -> 46502 | C31: =B31 -> 46502
A32: =WEEKNUM($B$32,21) -> 17 | B32: =DATE($R$2,$S$2,(1-WEEKDAY(DATE($R$2,$S$2,1),2))+(COLUMN(B31)-1)+(ROW(K5)-1)*7) -> 46503 | C32: =B32 -> 46503
B33: =DATE($R$2,$S$2,(1-WEEKDAY(DATE($R$2,$S$2,1),2))+(COLUMN(C31)-1)+(ROW(L5)-1)*7) -> 46504 | C33: =B33 -> 46504
B34: =DATE($R$2,$S$2,(1-WEEKDAY(DATE($R$2,$S$2,1),2))+(COLUMN(D31)-1)+(ROW(M5)-1)*7) -> 46505 | C34: =B34 -> 46505
B35: =DATE($R$2,$S$2,(1-WEEKDAY(DATE($R$2,$S$2,1),2))+(COLUMN(E31)-1)+(ROW(N5)-1)*7) -> 46506 | C35: =B35 -> 46506
B36: =DATE($R$2,$S$2,(1-WEEKDAY(DATE($R$2,$S$2,1),2))+(COLUMN(F31)-1)+(ROW(O5)-1)*7) -> 46507 | C36: =B36 -> 46507
B37: =DATE($R$2,$S$2,(1-WEEKDAY(DATE($R$2,$S$2,1),2))+(COLUMN(G31)-1)+(ROW(P5)-1)*7) -> 46508 | C37: =B37 -> 46508
B38: =DATE($R$2,$S$2,(1-WEEKDAY(DATE($R$2,$S$2,1),2))+(COLUMN(H31)-1)+(ROW(Q5)-1)*7) -> 46509 | C38: =B38 -> 46509

Sheet MAI
G1: =TEXT(DATE(R2,S2,1),"MMMM") -> Mai | I1: =DATE(R2,S2,1) -> 46508 | R1: Jahr | S1: Monat
R2: =JAN!$R$2 -> 2027 | S2: 5
A3: KW
A4: =WEEKNUM($B$4,21) -> 17 | B4: =DATE($R$2,$S$2,(1-WEEKDAY(DATE($R$2,$S$2,1),2))+(COLUMN(B3)-1)+(ROW(K1)-1)*7) -> 46503 | C4: =B4 -> 46503
B5: =DATE($R$2,$S$2,(1-WEEKDAY(DATE($R$2,$S$2,1),2))+(COLUMN(C3)-1)+(ROW(L1)-1)*7) -> 46504 | C5: =B5 -> 46504
B6: =DATE($R$2,$S$2,(1-WEEKDAY(DATE($R$2,$S$2,1),2))+(COLUMN(D3)-1)+(ROW(M1)-1)*7) -> 46505 | C6: =B6 -> 46505
B7: =DATE($R$2,$S$2,(1-WEEKDAY(DATE($R$2,$S$2,1),2))+(COLUMN(E3)-1)+(ROW(N1)-1)*7) -> 46506 | C7: =B7 -> 46506
B8: =DATE($R$2,$S$2,(1-WEEKDAY(DATE($R$2,$S$2,1),2))+(COLUMN(F3)-1)+(ROW(O1)-1)*7) -> 46507 | C8: =B8 -> 46507
B9: =DATE($R$2,$S$2,(1-WEEKDAY(DATE($R$2,$S$2,1),2))+(COLUMN(G3)-1)+(ROW(P1)-1)*7) -> 46508 | C9: =B9 -> 46508
B10: =DATE($R$2,$S$2,(1-WEEKDAY(DATE($R$2,$S$2,1),2))+(COLUMN(H3)-1)+(ROW(Q1)-1)*7) -> 46509 | C10: =B10 -> 46509
A11: =WEEKNUM($B$11,21) -> 18 | B11: =DATE($R$2,$S$2,(1-WEEKDAY(DATE($R$2,$S$2,1),2))+(COLUMN(B4)-1)+(ROW(K2)-1)*7) -> 46510 | C11: =B11 -> 46510
B12: =DATE($R$2,$S$2,(1-WEEKDAY(DATE($R$2,$S$2,1),2))+(COLUMN(C4)-1)+(ROW(L2)-1)*7) -> 46511 | C12: =B12 -> 46511
B13: =DATE($R$2,$S$2,(1-WEEKDAY(DATE($R$2,$S$2,1),2))+(COLUMN(D4)-1)+(ROW(M2)-1)*7) -> 46512 | C13: =B13 -> 46512
B14: =DATE($R$2,$S$2,(1-WEEKDAY(DATE($R$2,$S$2,1),2))+(COLUMN(E4)-1)+(ROW(N2)-1)*7) -> 46513 | C14: =B14 -> 46513
B15: =DATE($R$2,$S$2,(1-WEEKDAY(DATE($R$2,$S$2,1),2))+(COLUMN(F4)-1)+(ROW(O2)-1)*7) -> 46514 | C15: =B15 -> 46514
B16: =DATE($R$2,$S$2,(1-WEEKDAY(DATE($R$2,$S$2,1),2))+(COLUMN(G4)-1)+(ROW(P2)-1)*7) -> 46515 | C16: =B16 -> 46515
B17: =DATE($R$2,$S$2,(1-WEEKDAY(DATE($R$2,$S$2,1),2))+(COLUMN(H4)-1)+(ROW(Q2)-1)*7) -> 46516 | C17: =B17 -> 46516
A18: =WEEKNUM($B$18,21) -> 19 | B18: =DATE($R$2,$S$2,(1-WEEKDAY(DATE($R$2,$S$2,1),2))+(COLUMN(B13)-1)+(ROW(K3)-1)*7) -> 46517 | C18: =B18 -> 46517
B19: =DATE($R$2,$S$2,(1-WEEKDAY(DATE($R$2,$S$2,1),2))+(COLUMN(C13)-1)+(ROW(L3)-1)*7) -> 46518 | C19: =B19 -> 46518
B20: =DATE($R$2,$S$2,(1-WEEKDAY(DATE($R$2,$S$2,1),2))+(COLUMN(D13)-1)+(ROW(M3)-1)*7) -> 46519 | C20: =B20 -> 46519
B21: =DATE($R$2,$S$2,(1-WEEKDAY(DATE($R$2,$S$2,1),2))+(COLUMN(E13)-1)+(ROW(N3)-1)*7) -> 46520 | C21: =B21 -> 46520
B22: =DATE($R$2,$S$2,(1-WEEKDAY(DATE($R$2,$S$2,1),2))+(COLUMN(F13)-1)+(ROW(O3)-1)*7) -> 46521 | C22: =B22 -> 46521
B23: =DATE($R$2,$S$2,(1-WEEKDAY(DATE($R$2,$S$2,1),2))+(COLUMN(G13)-1)+(ROW(P3)-1)*7) -> 46522 | C23: =B23 -> 46522
B24: =DATE($R$2,$S$2,(1-WEEKDAY(DATE($R$2,$S$2,1),2))+(COLUMN(H13)-1)+(ROW(Q3)-1)*7) -> 46523 | C24: =B24 -> 46523
A25: =WEEKNUM($B$25,21) -> 20 | B25: =DATE($R$2,$S$2,(1-WEEKDAY(DATE($R$2,$S$2,1),2))+(COLUMN(B22)-1)+(ROW(K4)-1)*7) -> 46524 | C25: =B25 -> 46524
B26: =DATE($R$2,$S$2,(1-WEEKDAY(DATE($R$2,$S$2,1),2))+(COLUMN(C22)-1)+(ROW(L4)-1)*7) -> 46525 | C26: =B26 -> 46525
B27: =DATE($R$2,$S$2,(1-WEEKDAY(DATE($R$2,$S$2,1),2))+(COLUMN(D22)-1)+(ROW(M4)-1)*7) -> 46526 | C27: =B27 -> 46526
B28: =DATE($R$2,$S$2,(1-WEEKDAY(DATE($R$2,$S$2,1),2))+(COLUMN(E22)-1)+(ROW(N4)-1)*7) -> 46527 | C28: =B28 -> 46527
B29: =DATE($R$2,$S$2,(1-WEEKDAY(DATE($R$2,$S$2,1),2))+(COLUMN(F22)-1)+(ROW(O4)-1)*7) -> 46528 | C29: =B29 -> 46528
B30: =DATE($R$2,$S$2,(1-WEEKDAY(DATE($R$2,$S$2,1),2))+(COLUMN(G22)-1)+(ROW(P4)-1)*7) -> 46529 | C30: =B30 -> 46529
B31: =DATE($R$2,$S$2,(1-WEEKDAY(DATE($R$2,$S$2,1),2))+(COLUMN(H22)-1)+(ROW(Q4)-1)*7) -> 46530 | C31: =B31 -> 46530
A32: =WEEKNUM($B$32,21) -> 21 | B32: =DATE($R$2,$S$2,(1-WEEKDAY(DATE($R$2,$S$2,1),2))+(COLUMN(B31)-1)+(ROW(K5)-1)*7) -> 46531 | C32: =B32 -> 46531
B33: =DATE($R$2,$S$2,(1-WEEKDAY(DATE($R$2,$S$2,1),2))+(COLUMN(C31)-1)+(ROW(L5)-1)*7) -> 46532 | C33: =B33 -> 46532
B34: =DATE($R$2,$S$2,(1-WEEKDAY(DATE($R$2,$S$2,1),2))+(COLUMN(D31)-1)+(ROW(M5)-1)*7) -> 46533 | C34: =B34 -> 46533
B35: =DATE($R$2,$S$2,(1-WEEKDAY(DATE($R$2,$S$2,1),2))+(COLUMN(E31)-1)+(ROW(N5)-1)*7) -> 46534 | C35: =B35 -> 46534
B36: =DATE($R$2,$S$2,(1-WEEKDAY(DATE($R$2,$S$2,1),2))+(COLUMN(F31)-1)+(ROW(O5)-1)*7) -> 46535 | C36: =B36 -> 46535
B37: =DATE($R$2,$S$2,(1-WEEKDAY(DATE($R$2,$S$2,1),2))+(COLUMN(G31)-1)+(ROW(P5)-1)*7) -> 46536 | C37: =B37 -> 46536
B38: =DATE($R$2,$S$2,(1-WEEKDAY(DATE($R$2,$S$2,1),2))+(COLUMN(H31)-1)+(ROW(Q5)-1)*7) -> 46537 | C38: =B38 -> 46537
A39: =WEEKNUM($B$39,21) -> 22 | B39: =DATE($R$2,$S$2,(1-WEEKDAY(DATE($R$2,$S$2,1),2))+(COLUMN(I31)-1)+(ROW(R5)-1)*7) -> 46538 | C39: =B39 -> 46538
B40: =DATE($R$2,$S$2,(1-WEEKDAY(DATE($R$2,$S$2,1),2))+(COLUMN(J31)-1)+(ROW(S5)-1)*7) -> 46539 | C40: =B40 -> 46539
B41: =DATE($R$2,$S$2,(1-WEEKDAY(DATE($R$2,$S$2,1),2))+(COLUMN(K31)-1)+(ROW(T5)-1)*7) -> 46540 | C41: =B41 -> 46540
B42: =DATE($R$2,$S$2,(1-WEEKDAY(DATE($R$2,$S$2,1),2))+(COLUMN(L31)-1)+(ROW(U5)-1)*7) -> 46541 | C42: =B42 -> 46541
B43: =DATE($R$2,$S$2,(1-WEEKDAY(DATE($R$2,$S$2,1),2))+(COLUMN(M31)-1)+(ROW(V5)-1)*7) -> 46542 | C43: =B43 -> 46542
B44: =DATE($R$2,$S$2,(1-WEEKDAY(DATE($R$2,$S$2,1),2))+(COLUMN(N31)-1)+(ROW(X5)-1)*7) -> 46543 | C44: =B44 -> 46543
B45: =DATE($R$2,$S$2,(1-WEEKDAY(DATE($R$2,$S$2,1),2))+(COLUMN(O31)-1)+(ROW(Y5)-1)*7) -> 46544 | C45: =B45 -> 46544

Sheet JUN
G1: =TEXT(DATE(R2,S2,1),"MMMM") -> Juni | I1: =DATE(R2,S2,1) -> 46539 | R1: Jahr | S1: Monat
R2: =JAN!$R$2 -> 2027 | S2: 6
A3: KW
A4: =WEEKNUM($B$4,21) -> 22 | B4: =DATE($R$2,$S$2,(1-WEEKDAY(DATE($R$2,$S$2,1),2))+(COLUMN(B3)-1)+(ROW(K1)-1)*7) -> 46538 | C4: =B4 -> 46538
B5: =DATE($R$2,$S$2,(1-WEEKDAY(DATE($R$2,$S$2,1),2))+(COLUMN(C3)-1)+(ROW(L1)-1)*7) -> 46539 | C5: =B5 -> 46539
B6: =DATE($R$2,$S$2,(1-WEEKDAY(DATE($R$2,$S$2,1),2))+(COLUMN(D3)-1)+(ROW(M1)-1)*7) -> 46540 | C6: =B6 -> 46540
B7: =DATE($R$2,$S$2,(1-WEEKDAY(DATE($R$2,$S$2,1),2))+(COLUMN(E3)-1)+(ROW(N1)-1)*7) -> 46541 | C7: =B7 -> 46541
B8: =DATE($R$2,$S$2,(1-WEEKDAY(DATE($R$2,$S$2,1),2))+(COLUMN(F3)-1)+(ROW(O1)-1)*7) -> 46542 | C8: =B8 -> 46542
B9: =DATE($R$2,$S$2,(1-WEEKDAY(DATE($R$2,$S$2,1),2))+(COLUMN(G3)-1)+(ROW(P1)-1)*7) -> 46543 | C9: =B9 -> 46543
B10: =DATE($R$2,$S$2,(1-WEEKDAY(DATE($R$2,$S$2,1),2))+(COLUMN(H3)-1)+(ROW(Q1)-1)*7) -> 46544 | C10: =B10 -> 46544
A11: =WEEKNUM($B$11,21) -> 23 | B11: =DATE($R$2,$S$2,(1-WEEKDAY(DATE($R$2,$S$2,1),2))+(COLUMN(B4)-1)+(ROW(K2)-1)*7) -> 46545 | C11: =B11 -> 46545
B12: =DATE($R$2,$S$2,(1-WEEKDAY(DATE($R$2,$S$2,1),2))+(COLUMN(C4)-1)+(ROW(L2)-1)*7) -> 46546 | C12: =B12 -> 46546
B13: =DATE($R$2,$S$2,(1-WEEKDAY(DATE($R$2,$S$2,1),2))+(COLUMN(D4)-1)+(ROW(M2)-1)*7) -> 46547 | C13: =B13 -> 46547
B14: =DATE($R$2,$S$2,(1-WEEKDAY(DATE($R$2,$S$2,1),2))+(COLUMN(E4)-1)+(ROW(N2)-1)*7) -> 46548 | C14: =B14 -> 46548
B15: =DATE($R$2,$S$2,(1-WEEKDAY(DATE($R$2,$S$2,1),2))+(COLUMN(F4)-1)+(ROW(O2)-1)*7) -> 46549 | C15: =B15 -> 46549
B16: =DATE($R$2,$S$2,(1-WEEKDAY(DATE($R$2,$S$2,1),2))+(COLUMN(G4)-1)+(ROW(P2)-1)*7) -> 46550 | C16: =B16 -> 46550
B17: =DATE($R$2,$S$2,(1-WEEKDAY(DATE($R$2,$S$2,1),2))+(COLUMN(H4)-1)+(ROW(Q2)-1)*7) -> 46551 | C17: =B17 -> 46551
A18: =WEEKNUM($B$18,21) -> 24 | B18: =DATE($R$2,$S$2,(1-WEEKDAY(DATE($R$2,$S$2,1),2))+(COLUMN(B17)-1)+(ROW(K3)-1)*7) -> 46552 | C18: =B18 -> 46552
B19: =DATE($R$2,$S$2,(1-WEEKDAY(DATE($R$2,$S$2,1),2))+(COLUMN(C13)-1)+(ROW(L3)-1)*7) -> 46553 | C19: =B19 -> 46553
B20: =DATE($R$2,$S$2,(1-WEEKDAY(DATE($R$2,$S$2,1),2))+(COLUMN(D13)-1)+(ROW(M3)-1)*7) -> 46554 | C20: =B20 -> 46554
B21: =DATE($R$2,$S$2,(1-WEEKDAY(DATE($R$2,$S$2,1),2))+(COLUMN(E13)-1)+(ROW(N3)-1)*7) -> 46555 | C21: =B21 -> 46555
B22: =DATE($R$2,$S$2,(1-WEEKDAY(DATE($R$2,$S$2,1),2))+(COLUMN(F13)-1)+(ROW(O3)-1)*7) -> 46556 | C22: =B22 -> 46556
B23: =DATE($R$2,$S$2,(1-WEEKDAY(DATE($R$2,$S$2,1),2))+(COLUMN(G13)-1)+(ROW(P3)-1)*7) -> 46557 | C23: =B23 -> 46557
B24: =DATE($R$2,$S$2,(1-WEEKDAY(DATE($R$2,$S$2,1),2))+(COLUMN(H13)-1)+(ROW(Q3)-1)*7) -> 46558 | C24: =B24 -> 46558
A25: =WEEKNUM($B$25,21) -> 25 | B25: =DATE($R$2,$S$2,(1-WEEKDAY(DATE($R$2,$S$2,1),2))+(COLUMN(B24)-1)+(ROW(K4)-1)*7) -> 46559 | C25: =B25 -> 46559
B26: =DATE($R$2,$S$2,(1-WEEKDAY(DATE($R$2,$S$2,1),2))+(COLUMN(C22)-1)+(ROW(L4)-1)*7) -> 46560 | C26: =B26 -> 46560
B27: =DATE($R$2,$S$2,(1-WEEKDAY(DATE($R$2,$S$2,1),2))+(COLUMN(D22)-1)+(ROW(M4)-1)*7) -> 46561 | C27: =B27 -> 46561
B28: =DATE($R$2,$S$2,(1-WEEKDAY(DATE($R$2,$S$2,1),2))+(COLUMN(E22)-1)+(ROW(N4)-1)*7) -> 46562 | C28: =B28 -> 46562
B29: =DATE($R$2,$S$2,(1-WEEKDAY(DATE($R$2,$S$2,1),2))+(COLUMN(F22)-1)+(ROW(O4)-1)*7) -> 46563 | C29: =B29 -> 46563
B30: =DATE($R$2,$S$2,(1-WEEKDAY(DATE($R$2,$S$2,1),2))+(COLUMN(G22)-1)+(ROW(P4)-1)*7) -> 46564 | C30: =B30 -> 46564
B31: =DATE($R$2,$S$2,(1-WEEKDAY(DATE($R$2,$S$2,1),2))+(COLUMN(H22)-1)+(ROW(Q4)-1)*7) -> 46565 | C31: =B31 -> 46565
A32: =WEEKNUM($B$32,21) -> 26 | B32: =DATE($R$2,$S$2,(1-WEEKDAY(DATE($R$2,$S$2,1),2))+(COLUMN(B31)-1)+(ROW(K5)-1)*7) -> 46566 | C32: =B32 -> 46566
B33: =DATE($R$2,$S$2,(1-WEEKDAY(DATE($R$2,$S$2,1),2))+(COLUMN(C32)-1)+(ROW(L5)-1)*7) -> 46567 | C33: =B33 -> 46567
B34: =DATE($R$2,$S$2,(1-WEEKDAY(DATE($R$2,$S$2,1),2))+(COLUMN(D31)-1)+(ROW(M5)-1)*7) -> 46568 | C34: =B34 -> 46568
B35: =DATE($R$2,$S$2,(1-WEEKDAY(DATE($R$2,$S$2,1),2))+(COLUMN(E31)-1)+(ROW(N5)-1)*7) -> 46569 | C35: =B35 -> 46569
B36: =DATE($R$2,$S$2,(1-WEEKDAY(DATE($R$2,$S$2,1),2))+(COLUMN(F31)-1)+(ROW(O5)-1)*7) -> 46570 | C36: =B36 -> 46570
B37: =DATE($R$2,$S$2,(1-WEEKDAY(DATE($R$2,$S$2,1),2))+(COLUMN(G31)-1)+(ROW(P5)-1)*7) -> 46571 | C37: =B37 -> 46571
B38: =DATE($R$2,$S$2,(1-WEEKDAY(DATE($R$2,$S$2,1),2))+(COLUMN(H31)-1)+(ROW(Q5)-1)*7) -> 46572 | C38: =B38 -> 46572
A39: =WEEKNUM($B$39,21) -> 27 | B39: =DATE($R$2,$S$2,(1-WEEKDAY(DATE($R$2,$S$2,1),2))+(COLUMN(B38)-1)+(ROW(Q6)-1)*7) -> 46573 | C39: =B39 -> 46573

Sheet JUL
G1: =TEXT(DATE(R2,S2,1),"MMMM") -> Juli | I1: =DATE(R2,S2,1) -> 46569 | R1: Jahr | S1: Monat
R2: =JAN!$R$2 -> 2027 | S2: 7
A3: KW
A4: =WEEKNUM($B$4,21) -> 26 | B4: =DATE($R$2,$S$2,(1-WEEKDAY(DATE($R$2,$S$2,1),2))+(COLUMN(B3)-1)+(ROW(K1)-1)*7) -> 46566 | C4: =B4 -> 46566
B5: =DATE($R$2,$S$2,(1-WEEKDAY(DATE($R$2,$S$2,1),2))+(COLUMN(C3)-1)+(ROW(L1)-1)*7) -> 46567 | C5: =B5 -> 46567
B6: =DATE($R$2,$S$2,(1-WEEKDAY(DATE($R$2,$S$2,1),2))+(COLUMN(D3)-1)+(ROW(M1)-1)*7) -> 46568 | C6: =B6 -> 46568
B7: =DATE($R$2,$S$2,(1-WEEKDAY(DATE($R$2,$S$2,1),2))+(COLUMN(E3)-1)+(ROW(N1)-1)*7) -> 46569 | C7: =B7 -> 46569
B8: =DATE($R$2,$S$2,(1-WEEKDAY(DATE($R$2,$S$2,1),2))+(COLUMN(F3)-1)+(ROW(O1)-1)*7) -> 46570 | C8: =B8 -> 46570
B9: =DATE($R$2,$S$2,(1-WEEKDAY(DATE($R$2,$S$2,1),2))+(COLUMN(G3)-1)+(ROW(P1)-1)*7) -> 46571 | C9: =B9 -> 46571
B10: =DATE($R$2,$S$2,(1-WEEKDAY(DATE($R$2,$S$2,1),2))+(COLUMN(H3)-1)+(ROW(Q1)-1)*7) -> 46572 | C10: =B10 -> 46572
A11: =WEEKNUM($B$11,21) -> 27 | B11: =DATE($R$2,$S$2,(1-WEEKDAY(DATE($R$2,$S$2,1),2))+(COLUMN(B4)-1)+(ROW(K2)-1)*7) -> 46573 | C11: =B11 -> 46573
B12: =DATE($R$2,$S$2,(1-WEEKDAY(DATE($R$2,$S$2,1),2))+(COLUMN(C4)-1)+(ROW(L2)-1)*7) -> 46574 | C12: =B12 -> 46574
B13: =DATE($R$2,$S$2,(1-WEEKDAY(DATE($R$2,$S$2,1),2))+(COLUMN(D4)-1)+(ROW(M2)-1)*7) -> 46575 | C13: =B13 -> 46575
B14: =DATE($R$2,$S$2,(1-WEEKDAY(DATE($R$2,$S$2,1),2))+(COLUMN(E4)-1)+(ROW(N2)-1)*7) -> 46576 | C14: =B14 -> 46576
B15: =DATE($R$2,$S$2,(1-WEEKDAY(DATE($R$2,$S$2,1),2))+(COLUMN(F4)-1)+(ROW(O2)-1)*7) -> 46577 | C15: =B15 -> 46577
B16: =DATE($R$2,$S$2,(1-WEEKDAY(DATE($R$2,$S$2,1),2))+(COLUMN(G4)-1)+(ROW(P2)-1)*7) -> 46578 | C16: =B16 -> 46578
B17: =DATE($R$2,$S$2,(1-WEEKDAY(DATE($R$2,$S$2,1),2))+(COLUMN(H4)-1)+(ROW(Q2)-1)*7) -> 46579 | C17: =B17 -> 46579
A18: =WEEKNUM($B$18,21) -> 28 | B18: =DATE($R$2,$S$2,(1-WEEKDAY(DATE($R$2,$S$2,1),2))+(COLUMN(B13)-1)+(ROW(K3)-1)*7) -> 46580 | C18: =B18 -> 46580
B19: =DATE($R$2,$S$2,(1-WEEKDAY(DATE($R$2,$S$2,1),2))+(COLUMN(C13)-1)+(ROW(L3)-1)*7) -> 46581 | C19: =B19 -> 46581
B20: =DATE($R$2,$S$2,(1-WEEKDAY(DATE($R$2,$S$2,1),2))+(COLUMN(D13)-1)+(ROW(M3)-1)*7) -> 46582 | C20: =B20 -> 46582
B21: =DATE($R$2,$S$2,(1-WEEKDAY(DATE($R$2,$S$2,1),2))+(COLUMN(E13)-1)+(ROW(N3)-1)*7) -> 46583 | C21: =B21 -> 46583
B22: =DATE($R$2,$S$2,(1-WEEKDAY(DATE($R$2,$S$2,1),2))+(COLUMN(F13)-1)+(ROW(O3)-1)*7) -> 46584 | C22: =B22 -> 46584
B23: =DATE($R$2,$S$2,(1-WEEKDAY(DATE($R$2,$S$2,1),2))+(COLUMN(G13)-1)+(ROW(P3)-1)*7) -> 46585 | C23: =B23 -> 46585
B24: =DATE($R$2,$S$2,(1-WEEKDAY(DATE($R$2,$S$2,1),2))+(COLUMN(H13)-1)+(ROW(Q3)-1)*7) -> 46586 | C24: =B24 -> 46586
A25: =WEEKNUM($B$25,21) -> 29 | B25: =DATE($R$2,$S$2,(1-WEEKDAY(DATE($R$2,$S$2,1),2))+(COLUMN(B22)-1)+(ROW(K4)-1)*7) -> 46587 | C25: =B25 -> 46587
B26: =DATE($R$2,$S$2,(1-WEEKDAY(DATE($R$2,$S$2,1),2))+(COLUMN(C22)-1)+(ROW(L4)-1)*7) -> 46588 | C26: =B26 -> 46588
B27: =DATE($R$2,$S$2,(1-WEEKDAY(DATE($R$2,$S$2,1),2))+(COLUMN(D22)-1)+(ROW(M4)-1)*7) -> 46589 | C27: =B27 -> 46589
B28: =DATE($R$2,$S$2,(1-WEEKDAY(DATE($R$2,$S$2,1),2))+(COLUMN(E22)-1)+(ROW(N4)-1)*7) -> 46590 | C28: =B28 -> 46590
B29: =DATE($R$2,$S$2,(1-WEEKDAY(DATE($R$2,$S$2,1),2))+(COLUMN(F22)-1)+(ROW(O4)-1)*7) -> 46591 | C29: =B29 -> 46591
B30: =DATE($R$2,$S$2,(1-WEEKDAY(DATE($R$2,$S$2,1),2))+(COLUMN(G22)-1)+(ROW(P4)-1)*7) -> 46592 | C30: =B30 -> 46592
B31: =DATE($R$2,$S$2,(1-WEEKDAY(DATE($R$2,$S$2,1),2))+(COLUMN(H22)-1)+(ROW(Q4)-1)*7) -> 46593 | C31: =B31 -> 46593
A32: =WEEKNUM($B$32,21) -> 30 | B32: =DATE($R$2,$S$2,(1-WEEKDAY(DATE($R$2,$S$2,1),2))+(COLUMN(B31)-1)+(ROW(K5)-1)*7) -> 46594 | C32: =B32 -> 46594
B33: =DATE($R$2,$S$2,(1-WEEKDAY(DATE($R$2,$S$2,1),2))+(COLUMN(C31)-1)+(ROW(L5)-1)*7) -> 46595 | C33: =B33 -> 46595
B34: =DATE($R$2,$S$2,(1-WEEKDAY(DATE($R$2,$S$2,1),2))+(COLUMN(D31)-1)+(ROW(M5)-1)*7) -> 46596 | C34: =B34 -> 46596
B35: =DATE($R$2,$S$2,(1-WEEKDAY(DATE($R$2,$S$2,1),2))+(COLUMN(E31)-1)+(ROW(N5)-1)*7) -> 46597 | C35: =B35 -> 46597
B36: =DATE($R$2,$S$2,(1-WEEKDAY(DATE($R$2,$S$2,1),2))+(COLUMN(F31)-1)+(ROW(O5)-1)*7) -> 46598 | C36: =B36 -> 46598
B37: =DATE($R$2,$S$2,(1-WEEKDAY(DATE($R$2,$S$2,1),2))+(COLUMN(G31)-1)+(ROW(P5)-1)*7) -> 46599 | C37: =B37 -> 46599
B38: =DATE($R$2,$S$2,(1-WEEKDAY(DATE($R$2,$S$2,1),2))+(COLUMN(H31)-1)+(ROW(Q5)-1)*7) -> 46600 | C38: =B38 -> 46600

Sheet AUG
G1: =TEXT(DATE(R2,S2,1),"MMMM") -> August | I1: =DATE(R2,S2,1) -> 46600 | R1: Jahr | S1: Monat
R2: =JAN!$R$2 -> 2027 | S2: 8
A3: KW
A4: =WEEKNUM($B$4,21) -> 30 | B4: =DATE($R$2,$S$2,(1-WEEKDAY(DATE($R$2,$S$2,1),2))+(COLUMN(B3)-1)+(ROW(K1)-1)*7) -> 46594 | C4: =B4 -> 46594
B5: =DATE($R$2,$S$2,(1-WEEKDAY(DATE($R$2,$S$2,1),2))+(COLUMN(C3)-1)+(ROW(L1)-1)*7) -> 46595 | C5: =B5 -> 46595
B6: =DATE($R$2,$S$2,(1-WEEKDAY(DATE($R$2,$S$2,1),2))+(COLUMN(D3)-1)+(ROW(M1)-1)*7) -> 46596 | C6: =B6 -> 46596
B7: =DATE($R$2,$S$2,(1-WEEKDAY(DATE($R$2,$S$2,1),2))+(COLUMN(E3)-1)+(ROW(N1)-1)*7) -> 46597 | C7: =B7 -> 46597
B8: =DATE($R$2,$S$2,(1-WEEKDAY(DATE($R$2,$S$2,1),2))+(COLUMN(F3)-1)+(ROW(O1)-1)*7) -> 46598 | C8: =B8 -> 46598
B9: =DATE($R$2,$S$2,(1-WEEKDAY(DATE($R$2,$S$2,1),2))+(COLUMN(G3)-1)+(ROW(P1)-1)*7) -> 46599 | C9: =B9 -> 46599
B10: =DATE($R$2,$S$2,(1-WEEKDAY(DATE($R$2,$S$2,1),2))+(COLUMN(H3)-1)+(ROW(Q1)-1)*7) -> 46600 | C10: =B10 -> 46600
A11: =WEEKNUM($B$11,21) -> 31 | B11: =DATE($R$2,$S$2,(1-WEEKDAY(DATE($R$2,$S$2,1),2))+(COLUMN(B4)-1)+(ROW(K2)-1)*7) -> 46601 | C11: =B11 -> 46601
B12: =DATE($R$2,$S$2,(1-WEEKDAY(DATE($R$2,$S$2,1),2))+(COLUMN(C4)-1)+(ROW(L2)-1)*7) -> 46602 | C12: =B12 -> 46602
B13: =DATE($R$2,$S$2,(1-WEEKDAY(DATE($R$2,$S$2,1),2))+(COLUMN(D4)-1)+(ROW(M2)-1)*7) -> 46603 | C13: =B13 -> 46603
B14: =DATE($R$2,$S$2,(1-WEEKDAY(DATE($R$2,$S$2,1),2))+(COLUMN(E4)-1)+(ROW(N2)-1)*7) -> 46604 | C14: =B14 -> 46604
B15: =DATE($R$2,$S$2,(1-WEEKDAY(DATE($R$2,$S$2,1),2))+(COLUMN(F4)-1)+(ROW(O2)-1)*7) -> 46605 | C15: =B15 -> 46605
B16: =DATE($R$2,$S$2,(1-WEEKDAY(DATE($R$2,$S$2,1),2))+(COLUMN(G4)-1)+(ROW(P2)-1)*7) -> 46606 | C16: =B16 -> 46606
B17: =DATE($R$2,$S$2,(1-WEEKDAY(DATE($R$2,$S$2,1),2))+(COLUMN(H4)-1)+(ROW(Q2)-1)*7) -> 46607 | C17: =B17 -> 46607
A18: =WEEKNUM($B$18,21) -> 32 | B18: =DATE($R$2,$S$2,(1-WEEKDAY(DATE($R$2,$S$2,1),2))+(COLUMN(B13)-1)+(ROW(K3)-1)*7) -> 46608 | C18: =B18 -> 46608
B19: =DATE($R$2,$S$2,(1-WEEKDAY(DATE($R$2,$S$2,1),2))+(COLUMN(C13)-1)+(ROW(L3)-1)*7) -> 46609 | C19: =B19 -> 46609
B20: =DATE($R$2,$S$2,(1-WEEKDAY(DATE($R$2,$S$2,1),2))+(COLUMN(D13)-1)+(ROW(M3)-1)*7) -> 46610 | C20: =B20 -> 46610
B21: =DATE($R$2,$S$2,(1-WEEKDAY(DATE($R$2,$S$2,1),2))+(COLUMN(E13)-1)+(ROW(N3)-1)*7) -> 46611 | C21: =B21 -> 46611
B22: =DATE($R$2,$S$2,(1-WEEKDAY(DATE($R$2,$S$2,1),2))+(COLUMN(F13)-1)+(ROW(O3)-1)*7) -> 46612 | C22: =B22 -> 46612
B23: =DATE($R$2,$S$2,(1-WEEKDAY(DATE($R$2,$S$2,1),2))+(COLUMN(G13)-1)+(ROW(P3)-1)*7) -> 46613 | C23: =B23 -> 46613
B24: =DATE($R$2,$S$2,(1-WEEKDAY(DATE($R$2,$S$2,1),2))+(COLUMN(H13)-1)+(ROW(Q3)-1)*7) -> 46614 | C24: =B24 -> 46614
A25: =WEEKNUM($B$25,21) -> 33 | B25: =DATE($R$2,$S$2,(1-WEEKDAY(DATE($R$2,$S$2,1),2))+(COLUMN(B22)-1)+(ROW(K4)-1)*7) -> 46615 | C25: =B25 -> 46615
B26: =DATE($R$2,$S$2,(1-WEEKDAY(DATE($R$2,$S$2,1),2))+(COLUMN(C22)-1)+(ROW(L4)-1)*7) -> 46616 | C26: =B26 -> 46616
B27: =DATE($R$2,$S$2,(1-WEEKDAY(DATE($R$2,$S$2,1),2))+(COLUMN(D22)-1)+(ROW(M4)-1)*7) -> 46617 | C27: =B27 -> 46617
B28: =DATE($R$2,$S$2,(1-WEEKDAY(DATE($R$2,$S$2,1),2))+(COLUMN(E22)-1)+(ROW(N4)-1)*7) -> 46618 | C28: =B28 -> 46618
B29: =DATE($R$2,$S$2,(1-WEEKDAY(DATE($R$2,$S$2,1),2))+(COLUMN(F22)-1)+(ROW(O4)-1)*7) -> 46619 | C29: =B29 -> 46619
B30: =DATE($R$2,$S$2,(1-WEEKDAY(DATE($R$2,$S$2,1),2))+(COLUMN(G22)-1)+(ROW(P4)-1)*7) -> 46620 | C30: =B30 -> 46620
B31: =DATE($R$2,$S$2,(1-WEEKDAY(DATE($R$2,$S$2,1),2))+(COLUMN(H22)-1)+(ROW(Q4)-1)*7) -> 46621 | C31: =B31 -> 46621
A32: =WEEKNUM($B$32,21) -> 34 | B32: =DATE($R$2,$S$2,(1-WEEKDAY(DATE($R$2,$S$2,1),2))+(COLUMN(B31)-1)+(ROW(K5)-1)*7) -> 46622 | C32: =B32 -> 46622
B33: =DATE($R$2,$S$2,(1-WEEKDAY(DATE($R$2,$S$2,1),2))+(COLUMN(C31)-1)+(ROW(L5)-1)*7) -> 46623 | C33: =B33 -> 46623
B34: =DATE($R$2,$S$2,(1-WEEKDAY(DATE($R$2,$S$2,1),2))+(COLUMN(D31)-1)+(ROW(M5)-1)*7) -> 46624 | C34: =B34 -> 46624
B35: =DATE($R$2,$S$2,(1-WEEKDAY(DATE($R$2,$S$2,1),2))+(COLUMN(E31)-1)+(ROW(N5)-1)*7) -> 46625 | C35: =B35 -> 46625
B36: =DATE($R$2,$S$2,(1-WEEKDAY(DATE($R$2,$S$2,1),2))+(COLUMN(F31)-1)+(ROW(O5)-1)*7) -> 46626 | C36: =B36 -> 46626
B37: =DATE($R$2,$S$2,(1-WEEKDAY(DATE($R$2,$S$2,1),2))+(COLUMN(G31)-1)+(ROW(P5)-1)*7) -> 46627 | C37: =B37 -> 46627
B38: =DATE($R$2,$S$2,(1-WEEKDAY(DATE($R$2,$S$2,1),2))+(COLUMN(H31)-1)+(ROW(Q5)-1)*7) -> 46628 | C38: =B38 -> 46628
A39: =WEEKNUM($B$39,21) -> 35 | B39: =DATE($R$2,$S$2,(1-WEEKDAY(DATE($R$2,$S$2,1),2))+(COLUMN(I31)-1)+(ROW(R5)-1)*7) -> 46629 | C39: =B39 -> 46629
B40: =DATE($R$2,$S$2,(1-WEEKDAY(DATE($R$2,$S$2,1),2))+(COLUMN(J31)-1)+(ROW(S5)-1)*7) -> 46630 | C40: =B40 -> 46630
B41: =DATE($R$2,$S$2,(1-WEEKDAY(DATE($R$2,$S$2,1),2))+(COLUMN(K31)-1)+(ROW(T5)-1)*7) -> 46631 | C41: =B41 -> 46631
B42: =DATE($R$2,$S$2,(1-WEEKDAY(DATE($R$2,$S$2,1),2))+(COLUMN(L31)-1)+(ROW(U5)-1)*7) -> 46632 | C42: =B42 -> 46632
B43: =DATE($R$2,$S$2,(1-WEEKDAY(DATE($R$2,$S$2,1),2))+(COLUMN(M31)-1)+(ROW(V5)-1)*7) -> 46633 | C43: =B43 -> 46633
B44: =DATE($R$2,$S$2,(1-WEEKDAY(DATE($R$2,$S$2,1),2))+(COLUMN(N31)-1)+(ROW(X5)-1)*7) -> 46634 | C44: =B44 -> 46634
B45: =DATE($R$2,$S$2,(1-WEEKDAY(DATE($R$2,$S$2,1),2))+(COLUMN(O31)-1)+(ROW(Y5)-1)*7) -> 46635 | C45: =B45 -> 46635

Sheet SEP
G1: =TEXT(DATE(R2,S2,1),"MMMM") -> September | I1: =DATE(R2,S2,1) -> 46631 | R1: Jahr | S1: Monat
R2: =JAN!$R$2 -> 2027 | S2: 9
A3: KW
A4: =WEEKNUM($B$4,21) -> 35 | B4: =DATE($R$2,$S$2,(1-WEEKDAY(DATE($R$2,$S$2,1),2))+(COLUMN(B3)-1)+(ROW(K1)-1)*7) -> 46629 | C4: =B4 -> 46629
B5: =DATE($R$2,$S$2,(1-WEEKDAY(DATE($R$2,$S$2,1),2))+(COLUMN(C3)-1)+(ROW(L1)-1)*7) -> 46630 | C5: =B5 -> 46630
B6: =DATE($R$2,$S$2,(1-WEEKDAY(DATE($R$2,$S$2,1),2))+(COLUMN(D3)-1)+(ROW(M1)-1)*7) -> 46631 | C6: =B6 -> 46631
B7: =DATE($R$2,$S$2,(1-WEEKDAY(DATE($R$2,$S$2,1),2))+(COLUMN(E3)-1)+(ROW(N1)-1)*7) -> 46632 | C7: =B7 -> 46632
B8: =DATE($R$2,$S$2,(1-WEEKDAY(DATE($R$2,$S$2,1),2))+(COLUMN(F3)-1)+(ROW(O1)-1)*7) -> 46633 | C8: =B8 -> 46633
B9: =DATE($R$2,$S$2,(1-WEEKDAY(DATE($R$2,$S$2,1),2))+(COLUMN(G3)-1)+(ROW(P1)-1)*7) -> 46634 | C9: =B9 -> 46634
B10: =DATE($R$2,$S$2,(1-WEEKDAY(DATE($R$2,$S$2,1),2))+(COLUMN(H3)-1)+(ROW(Q1)-1)*7) -> 46635 | C10: =B10 -> 46635
A11: =WEEKNUM($B$11,21) -> 36 | B11: =DATE($R$2,$S$2,(1-WEEKDAY(DATE($R$2,$S$2,1),2))+(COLUMN(B4)-1)+(ROW(K2)-1)*7) -> 46636 | C11: =B11 -> 46636
B12: =DATE($R$2,$S$2,(1-WEEKDAY(DATE($R$2,$S$2,1),2))+(COLUMN(C4)-1)+(ROW(L2)-1)*7) -> 46637 | C12: =B12 -> 46637
B13: =DATE($R$2,$S$2,(1-WEEKDAY(DATE($R$2,$S$2,1),2))+(COLUMN(D4)-1)+(ROW(M2)-1)*7) -> 46638 | C13: =B13 -> 46638
B14: =DATE($R$2,$S$2,(1-WEEKDAY(DATE($R$2,$S$2,1),2))+(COLUMN(E4)-1)+(ROW(N2)-1)*7) -> 46639 | C14: =B14 -> 46639
B15: =DATE($R$2,$S$2,(1-WEEKDAY(DATE($R$2,$S$2,1),2))+(COLUMN(F4)-1)+(ROW(O2)-1)*7) -> 46640 | C15: =B15 -> 46640
B16: =DATE($R$2,$S$2,(1-WEEKDAY(DATE($R$2,$S$2,1),2))+(COLUMN(G4)-1)+(ROW(P2)-1)*7) -> 46641 | C16: =B16 -> 46641
B17: =DATE($R$2,$S$2,(1-WEEKDAY(DATE($R$2,$S$2,1),2))+(COLUMN(H4)-1)+(ROW(Q2)-1)*7) -> 46642 | C17: =B17 -> 46642
A18: =WEEKNUM($B$18,21) -> 37 | B18: =DATE($R$2,$S$2,(1-WEEKDAY(DATE($R$2,$S$2,1),2))+(COLUMN(B13)-1)+(ROW(K3)-1)*7) -> 46643 | C18: =B18 -> 46643
B19: =DATE($R$2,$S$2,(1-WEEKDAY(DATE($R$2,$S$2,1),2))+(COLUMN(C13)-1)+(ROW(L3)-1)*7) -> 46644 | C19: =B19 -> 46644
B20: =DATE($R$2,$S$2,(1-WEEKDAY(DATE($R$2,$S$2,1),2))+(COLUMN(D13)-1)+(ROW(M3)-1)*7) -> 46645 | C20: =B20 -> 46645
B21: =DATE($R$2,$S$2,(1-WEEKDAY(DATE($R$2,$S$2,1),2))+(COLUMN(E13)-1)+(ROW(N3)-1)*7) -> 46646 | C21: =B21 -> 46646
B22: =DATE($R$2,$S$2,(1-WEEKDAY(DATE($R$2,$S$2,1),2))+(COLUMN(F13)-1)+(ROW(O3)-1)*7) -> 46647 | C22: =B22 -> 46647
B23: =DATE($R$2,$S$2,(1-WEEKDAY(DATE($R$2,$S$2,1),2))+(COLUMN(G13)-1)+(ROW(P3)-1)*7) -> 46648 | C23: =B23 -> 46648
B24: =DATE($R$2,$S$2,(1-WEEKDAY(DATE($R$2,$S$2,1),2))+(COLUMN(H13)-1)+(ROW(Q3)-1)*7) -> 46649 | C24: =B24 -> 46649
A25: =WEEKNUM($B$25,21) -> 38 | B25: =DATE($R$2,$S$2,(1-WEEKDAY(DATE($R$2,$S$2,1),2))+(COLUMN(B22)-1)+(ROW(K4)-1)*7) -> 46650 | C25: =B25 -> 46650
B26: =DATE($R$2,$S$2,(1-WEEKDAY(DATE($R$2,$S$2,1),2))+(COLUMN(C22)-1)+(ROW(L4)-1)*7) -> 46651 | C26: =B26 -> 46651
B27: =DATE($R$2,$S$2,(1-WEEKDAY(DATE($R$2,$S$2,1),2))+(COLUMN(D22)-1)+(ROW(M4)-1)*7) -> 46652 | C27: =B27 -> 46652
B28: =DATE($R$2,$S$2,(1-WEEKDAY(DATE($R$2,$S$2,1),2))+(COLUMN(E22)-1)+(ROW(N4)-1)*7) -> 46653 | C28: =B28 -> 46653
B29: =DATE($R$2,$S$2,(1-WEEKDAY(DATE($R$2,$S$2,1),2))+(COLUMN(F22)-1)+(ROW(O4)-1)*7) -> 46654 | C29: =B29 -> 46654
B30: =DATE($R$2,$S$2,(1-WEEKDAY(DATE($R$2,$S$2,1),2))+(COLUMN(G22)-1)+(ROW(P4)-1)*7) -> 46655 | C30: =B30 -> 46655
B31: =DATE($R$2,$S$2,(1-WEEKDAY(DATE($R$2,$S$2,1),2))+(COLUMN(H22)-1)+(ROW(Q4)-1)*7) -> 46656 | C31: =B31 -> 46656
A32: =WEEKNUM($B$32,21) -> 39 | B32: =DATE($R$2,$S$2,(1-WEEKDAY(DATE($R$2,$S$2,1),2))+(COLUMN(B31)-1)+(ROW(K5)-1)*7) -> 46657 | C32: =B32 -> 46657
B33: =DATE($R$2,$S$2,(1-WEEKDAY(DATE($R$2,$S$2,1),2))+(COLUMN(C31)-1)+(ROW(L5)-1)*7) -> 46658 | C33: =B33 -> 46658
B34: =DATE($R$2,$S$2,(1-WEEKDAY(DATE($R$2,$S$2,1),2))+(COLUMN(D31)-1)+(ROW(M5)-1)*7) -> 46659 | C34: =B34 -> 46659
B35: =DATE($R$2,$S$2,(1-WEEKDAY(DATE($R$2,$S$2,1),2))+(COLUMN(E31)-1)+(ROW(N5)-1)*7) -> 46660 | C35: =B35 -> 46660
B36: =DATE($R$2,$S$2,(1-WEEKDAY(DATE($R$2,$S$2,1),2))+(COLUMN(F31)-1)+(ROW(O5)-1)*7) -> 46661 | C36: =B36 -> 46661
B37: =DATE($R$2,$S$2,(1-WEEKDAY(DATE($R$2,$S$2,1),2))+(COLUMN(G31)-1)+(ROW(P5)-1)*7) -> 46662 | C37: =B37 -> 46662
B38: =DATE($R$2,$S$2,(1-WEEKDAY(DATE($R$2,$S$2,1),2))+(COLUMN(H31)-1)+(ROW(Q5)-1)*7) -> 46663 | C38: =B38 -> 46663
B39: =DATE($R$2,$S$2,(1-WEEKDAY(DATE($R$2,$S$2,1),2))+(COLUMN(I31)-1)+(ROW(R5)-1)*7) -> 46664 | C39: =B39 -> 46664

Sheet OKT
G1: =TEXT(DATE(R2,S2,1),"MMMM") -> Oktober | I1: =DATE(R2,S2,1) -> 46661 | R1: Jahr | S1: Monat
R2: =JAN!$R$2 -> 2027 | S2: 10
A3: KW
A4: =WEEKNUM($B$4,21) -> 39 | B4: =DATE($R$2,$S$2,(1-WEEKDAY(DATE($R$2,$S$2,1),2))+(COLUMN(B3)-1)+(ROW(K1)-1)*7) -> 46657 | C4: =B4 -> 46657
B5: =DATE($R$2,$S$2,(1-WEEKDAY(DATE($R$2,$S$2,1),2))+(COLUMN(C3)-1)+(ROW(L1)-1)*7) -> 46658 | C5: =B5 -> 46658
B6: =DATE($R$2,$S$2,(1-WEEKDAY(DATE($R$2,$S$2,1),2))+(COLUMN(D3)-1)+(ROW(M1)-1)*7) -> 46659 | C6: =B6 -> 46659
B7: =DATE($R$2,$S$2,(1-WEEKDAY(DATE($R$2,$S$2,1),2))+(COLUMN(E3)-1)+(ROW(N1)-1)*7) -> 46660 | C7: =B7 -> 46660
B8: =DATE($R$2,$S$2,(1-WEEKDAY(DATE($R$2,$S$2,1),2))+(COLUMN(F3)-1)+(ROW(O1)-1)*7) -> 46661 | C8: =B8 -> 46661
B9: =DATE($R$2,$S$2,(1-WEEKDAY(DATE($R$2,$S$2,1),2))+(COLUMN(G3)-1)+(ROW(P1)-1)*7) -> 46662 | C9: =B9 -> 46662
B10: =DATE($R$2,$S$2,(1-WEEKDAY(DATE($R$2,$S$2,1),2))+(COLUMN(H3)-1)+(ROW(Q1)-1)*7) -> 46663 | C10: =B10 -> 46663
A11: =WEEKNUM($B$11,21) -> 40 | B11: =DATE($R$2,$S$2,(1-WEEKDAY(DATE($R$2,$S$2,1),2))+(COLUMN(B4)-1)+(ROW(K2)-1)*7) -> 46664 | C11: =B11 -> 46664
B12: =DATE($R$2,$S$2,(1-WEEKDAY(DATE($R$2,$S$2,1),2))+(COLUMN(C4)-1)+(ROW(L2)-1)*7) -> 46665 | C12: =B12 -> 46665
B13: =DATE($R$2,$S$2,(1-WEEKDAY(DATE($R$2,$S$2,1),2))+(COLUMN(D4)-1)+(ROW(M2)-1)*7) -> 46666 | C13: =B13 -> 46666
B14: =DATE($R$2,$S$2,(1-WEEKDAY(DATE($R$2,$S$2,1),2))+(COLUMN(E4)-1)+(ROW(N2)-1)*7) -> 46667 | C14: =B14 -> 46667
B15: =DATE($R$2,$S$2,(1-WEEKDAY(DATE($R$2,$S$2,1),2))+(COLUMN(F4)-1)+(ROW(O2)-1)*7) -> 46668 | C15: =B15 -> 46668
B16: =DATE($R$2,$S$2,(1-WEEKDAY(DATE($R$2,$S$2,1),2))+(COLUMN(G4)-1)+(ROW(P2)-1)*7) -> 46669 | C16: =B16 -> 46669
B17: =DATE($R$2,$S$2,(1-WEEKDAY(DATE($R$2,$S$2,1),2))+(COLUMN(H4)-1)+(ROW(Q2)-1)*7) -> 46670 | C17: =B17 -> 46670
A18: =WEEKNUM($B$18,21) -> 41 | B18: =DATE($R$2,$S$2,(1-WEEKDAY(DATE($R$2,$S$2,1),2))+(COLUMN(B13)-1)+(ROW(K3)-1)*7) -> 46671 | C18: =B18 -> 46671
B19: =DATE($R$2,$S$2,(1-WEEKDAY(DATE($R$2,$S$2,1),2))+(COLUMN(C13)-1)+(ROW(L3)-1)*7) -> 46672 | C19: =B19 -> 46672
B20: =DATE($R$2,$S$2,(1-WEEKDAY(DATE($R$2,$S$2,1),2))+(COLUMN(D13)-1)+(ROW(M3)-1)*7) -> 46673 | C20: =B20 -> 46673
B21: =DATE($R$2,$S$2,(1-WEEKDAY(DATE($R$2,$S$2,1),2))+(COLUMN(E13)-1)+(ROW(N3)-1)*7) -> 46674 | C21: =B21 -> 46674
B22: =DATE($R$2,$S$2,(1-WEEKDAY(DATE($R$2,$S$2,1),2))+(COLUMN(F13)-1)+(ROW(O3)-1)*7) -> 46675 | C22: =B22 -> 46675
B23: =DATE($R$2,$S$2,(1-WEEKDAY(DATE($R$2,$S$2,1),2))+(COLUMN(G13)-1)+(ROW(P3)-1)*7) -> 46676 | C23: =B23 -> 46676
B24: =DATE($R$2,$S$2,(1-WEEKDAY(DATE($R$2,$S$2,1),2))+(COLUMN(H13)-1)+(ROW(Q3)-1)*7) -> 46677 | C24: =B24 -> 46677
A25: =WEEKNUM($B$25,21) -> 42 | B25: =DATE($R$2,$S$2,(1-WEEKDAY(DATE($R$2,$S$2,1),2))+(COLUMN(B22)-1)+(ROW(K4)-1)*7) -> 46678 | C25: =B25 -> 46678
B26: =DATE($R$2,$S$2,(1-WEEKDAY(DATE($R$2,$S$2,1),2))+(COLUMN(C22)-1)+(ROW(L4)-1)*7) -> 46679 | C26: =B26 -> 46679
B27: =DATE($R$2,$S$2,(1-WEEKDAY(DATE($R$2,$S$2,1),2))+(COLUMN(D22)-1)+(ROW(M4)-1)*7) -> 46680 | C27: =B27 -> 46680
B28: =DATE($R$2,$S$2,(1-WEEKDAY(DATE($R$2,$S$2,1),2))+(COLUMN(E22)-1)+(ROW(N4)-1)*7) -> 46681 | C28: =B28 -> 46681
B29: =DATE($R$2,$S$2,(1-WEEKDAY(DATE($R$2,$S$2,1),2))+(COLUMN(F22)-1)+(ROW(O4)-1)*7) -> 46682 | C29: =B29 -> 46682
B30: =DATE($R$2,$S$2,(1-WEEKDAY(DATE($R$2,$S$2,1),2))+(COLUMN(G22)-1)+(ROW(P4)-1)*7) -> 46683 | C30: =B30 -> 46683
B31: =DATE($R$2,$S$2,(1-WEEKDAY(DATE($R$2,$S$2,1),2))+(COLUMN(H22)-1)+(ROW(Q4)-1)*7) -> 46684 | C31: =B31 -> 46684
A32: =WEEKNUM($B$32,21) -> 43 | B32: =DATE($R$2,$S$2,(1-WEEKDAY(DATE($R$2,$S$2,1),2))+(COLUMN(B31)-1)+(ROW(K5)-1)*7) -> 46685 | C32: =B32 -> 46685
B33: =DATE($R$2,$S$2,(1-WEEKDAY(DATE($R$2,$S$2,1),2))+(COLUMN(C31)-1)+(ROW(L5)-1)*7) -> 46686 | C33: =B33 -> 46686
B34: =DATE($R$2,$S$2,(1-WEEKDAY(DATE($R$2,$S$2,1),2))+(COLUMN(D31)-1)+(ROW(M5)-1)*7) -> 46687 | C34: =B34 -> 46687
B35: =DATE($R$2,$S$2,(1-WEEKDAY(DATE($R$2,$S$2,1),2))+(COLUMN(E31)-1)+(ROW(N5)-1)*7) -> 46688 | C35: =B35 -> 46688
B36: =DATE($R$2,$S$2,(1-WEEKDAY(DATE($R$2,$S$2,1),2))+(COLUMN(F31)-1)+(ROW(O5)-1)*7) -> 46689 | C36: =B36 -> 46689
B37: =DATE($R$2,$S$2,(1-WEEKDAY(DATE($R$2,$S$2,1),2))+(COLUMN(G31)-1)+(ROW(P5)-1)*7) -> 46690 | C37: =B37 -> 46690
B38: =DATE($R$2,$S$2,(1-WEEKDAY(DATE($R$2,$S$2,1),2))+(COLUMN(H31)-1)+(ROW(Q5)-1)*7) -> 46691 | C38: =B38 -> 46691

Sheet NOV
G1: =TEXT(DATE(R2,S2,1),"MMMM") -> November | I1: =DATE(R2,S2,1) -> 46692 | R1: Jahr | S1: Monat
R2: =JAN!$R$2 -> 2027 | S2: 11
A3: KW
A4: =WEEKNUM($B$4,21) -> 44 | B4: =DATE($R$2,$S$2,(1-WEEKDAY(DATE($R$2,$S$2,1),2))+(COLUMN(B3)-1)+(ROW(K1)-1)*7) -> 46692 | C4: =B4 -> 46692
B5: =DATE($R$2,$S$2,(1-WEEKDAY(DATE($R$2,$S$2,1),2))+(COLUMN(C3)-1)+(ROW(L1)-1)*7) -> 46693 | C5: =B5 -> 46693
B6: =DATE($R$2,$S$2,(1-WEEKDAY(DATE($R$2,$S$2,1),2))+(COLUMN(D3)-1)+(ROW(M1)-1)*7) -> 46694 | C6: =B6 -> 46694
B7: =DATE($R$2,$S$2,(1-WEEKDAY(DATE($R$2,$S$2,1),2))+(COLUMN(E3)-1)+(ROW(N1)-1)*7) -> 46695 | C7: =B7 -> 46695
B8: =DATE($R$2,$S$2,(1-WEEKDAY(DATE($R$2,$S$2,1),2))+(COLUMN(F3)-1)+(ROW(O1)-1)*7) -> 46696 | C8: =B8 -> 46696
B9: =DATE($R$2,$S$2,(1-WEEKDAY(DATE($R$2,$S$2,1),2))+(COLUMN(G3)-1)+(ROW(P1)-1)*7) -> 46697 | C9: =B9 -> 46697
B10: =DATE($R$2,$S$2,(1-WEEKDAY(DATE($R$2,$S$2,1),2))+(COLUMN(H3)-1)+(ROW(Q1)-1)*7) -> 46698 | C10: =B10 -> 46698
A11: =WEEKNUM($B$11,21) -> 45 | B11: =DATE($R$2,$S$2,(1-WEEKDAY(DATE($R$2,$S$2,1),2))+(COLUMN(B4)-1)+(ROW(K2)-1)*7) -> 46699 | C11: =B11 -> 46699
B12: =DATE($R$2,$S$2,(1-WEEKDAY(DATE($R$2,$S$2,1),2))+(COLUMN(C4)-1)+(ROW(L2)-1)*7) -> 46700 | C12: =B12 -> 46700
B13: =DATE($R$2,$S$2,(1-WEEKDAY(DATE($R$2,$S$2,1),2))+(COLUMN(D4)-1)+(ROW(M2)-1)*7) -> 46701 | C13: =B13 -> 46701
B14: =DATE($R$2,$S$2,(1-WEEKDAY(DATE($R$2,$S$2,1),2))+(COLUMN(E4)-1)+(ROW(N2)-1)*7) -> 46702 | C14: =B14 -> 46702
B15: =DATE($R$2,$S$2,(1-WEEKDAY(DATE($R$2,$S$2,1),2))+(COLUMN(F4)-1)+(ROW(O2)-1)*7) -> 46703 | C15: =B15 -> 46703
B16: =DATE($R$2,$S$2,(1-WEEKDAY(DATE($R$2,$S$2,1),2))+(COLUMN(G4)-1)+(ROW(P2)-1)*7) -> 46704 | C16: =B16 -> 46704
B17: =DATE($R$2,$S$2,(1-WEEKDAY(DATE($R$2,$S$2,1),2))+(COLUMN(H4)-1)+(ROW(Q2)-1)*7) -> 46705 | C17: =B17 -> 46705
A18: =WEEKNUM($B$18,21) -> 46 | B18: =DATE($R$2,$S$2,(1-WEEKDAY(DATE($R$2,$S$2,1),2))+(COLUMN(B13)-1)+(ROW(K3)-1)*7) -> 46706 | C18: =B18 -> 46706
B19: =DATE($R$2,$S$2,(1-WEEKDAY(DATE($R$2,$S$2,1),2))+(COLUMN(C13)-1)+(ROW(L3)-1)*7) -> 46707 | C19: =B19 -> 46707
B20: =DATE($R$2,$S$2,(1-WEEKDAY(DATE($R$2,$S$2,1),2))+(COLUMN(D13)-1)+(ROW(M3)-1)*7) -> 46708 | C20: =B20 -> 46708
B21: =DATE($R$2,$S$2,(1-WEEKDAY(DATE($R$2,$S$2,1),2))+(COLUMN(E13)-1)+(ROW(N3)-1)*7) -> 46709 | C21: =B21 -> 46709
B22: =DATE($R$2,$S$2,(1-WEEKDAY(DATE($R$2,$S$2,1),2))+(COLUMN(F13)-1)+(ROW(O3)-1)*7) -> 46710 | C22: =B22 -> 46710
B23: =DATE($R$2,$S$2,(1-WEEKDAY(DATE($R$2,$S$2,1),2))+(COLUMN(G13)-1)+(ROW(P3)-1)*7) -> 46711 | C23: =B23 -> 46711
B24: =DATE($R$2,$S$2,(1-WEEKDAY(DATE($R$2,$S$2,1),2))+(COLUMN(H13)-1)+(ROW(Q3)-1)*7) -> 46712 | C24: =B24 -> 46712
A25: =WEEKNUM($B$25,21) -> 47 | B25: =DATE($R$2,$S$2,(1-WEEKDAY(DATE($R$2,$S$2,1),2))+(COLUMN(B22)-1)+(ROW(K4)-1)*7) -> 46713 | C25: =B25 -> 46713
B26: =DATE($R$2,$S$2,(1-WEEKDAY(DATE($R$2,$S$2,1),2))+(COLUMN(C22)-1)+(ROW(L4)-1)*7) -> 46714 | C26: =B26 -> 46714
B27: =DATE($R$2,$S$2,(1-WEEKDAY(DATE($R$2,$S$2,1),2))+(COLUMN(D22)-1)+(ROW(M4)-1)*7) -> 46715 | C27: =B27 -> 46715
B28: =DATE($R$2,$S$2,(1-WEEKDAY(DATE($R$2,$S$2,1),2))+(COLUMN(E22)-1)+(ROW(N4)-1)*7) -> 46716 | C28: =B28 -> 46716
B29: =DATE($R$2,$S$2,(1-WEEKDAY(DATE($R$2,$S$2,1),2))+(COLUMN(F22)-1)+(ROW(O4)-1)*7) -> 46717 | C29: =B29 -> 46717
B30: =DATE($R$2,$S$2,(1-WEEKDAY(DATE($R$2,$S$2,1),2))+(COLUMN(G22)-1)+(ROW(P4)-1)*7) -> 46718 | C30: =B30 -> 46718
B31: =DATE($R$2,$S$2,(1-WEEKDAY(DATE($R$2,$S$2,1),2))+(COLUMN(H22)-1)+(ROW(Q4)-1)*7) -> 46719 | C31: =B31 -> 46719
A32: =WEEKNUM($B$32,21) -> 48 | B32: =DATE($R$2,$S$2,(1-WEEKDAY(DATE($R$2,$S$2,1),2))+(COLUMN(B31)-1)+(ROW(K5)-1)*7) -> 46720 | C32: =B32 -> 46720
B33: =DATE($R$2,$S$2,(1-WEEKDAY(DATE($R$2,$S$2,1),2))+(COLUMN(C31)-1)+(ROW(L5)-1)*7) -> 46721 | C33: =B33 -> 46721
B34: =DATE($R$2,$S$2,(1-WEEKDAY(DATE($R$2,$S$2,1),2))+(COLUMN(D31)-1)+(ROW(M5)-1)*7) -> 46722 | C34: =B34 -> 46722
B35: =DATE($R$2,$S$2,(1-WEEKDAY(DATE($R$2,$S$2,1),2))+(COLUMN(E31)-1)+(ROW(N5)-1)*7) -> 46723 | C35: =B35 -> 46723
B36: =DATE($R$2,$S$2,(1-WEEKDAY(DATE($R$2,$S$2,1),2))+(COLUMN(F31)-1)+(ROW(O5)-1)*7) -> 46724 | C36: =B36 -> 46724
B37: =DATE($R$2,$S$2,(1-WEEKDAY(DATE($R$2,$S$2,1),2))+(COLUMN(G31)-1)+(ROW(P5)-1)*7) -> 46725 | C37: =B37 -> 46725
B38: =DATE($R$2,$S$2,(1-WEEKDAY(DATE($R$2,$S$2,1),2))+(COLUMN(H31)-1)+(ROW(Q5)-1)*7) -> 46726 | C38: =B38 -> 46726
A39: =WEEKNUM($B$39,21) -> 49 | B39: =DATE($R$2,$S$2,(1-WEEKDAY(DATE($R$2,$S$2,1),2))+(COLUMN(I31)-1)+(ROW(R5)-1)*7) -> 46727 | C39: =B39 -> 46727
B40: =DATE($R$2,$S$2,(1-WEEKDAY(DATE($R$2,$S$2,1),2))+(COLUMN(J31)-1)+(ROW(S5)-1)*7) -> 46728 | C40: =B40 -> 46728
B41: =DATE($R$2,$S$2,(1-WEEKDAY(DATE($R$2,$S$2,1),2))+(COLUMN(K31)-1)+(ROW(T5)-1)*7) -> 46729 | C41: =B41 -> 46729
B42: =DATE($R$2,$S$2,(1-WEEKDAY(DATE($R$2,$S$2,1),2))+(COLUMN(L31)-1)+(ROW(U5)-1)*7) -> 46730 | C42: =B42 -> 46730
B43: =DATE($R$2,$S$2,(1-WEEKDAY(DATE($R$2,$S$2,1),2))+(COLUMN(M31)-1)+(ROW(V5)-1)*7) -> 46731 | C43: =B43 -> 46731
B44: =DATE($R$2,$S$2,(1-WEEKDAY(DATE($R$2,$S$2,1),2))+(COLUMN(N31)-1)+(ROW(X5)-1)*7) -> 46732 | C44: =B44 -> 46732
B45: =DATE($R$2,$S$2,(1-WEEKDAY(DATE($R$2,$S$2,1),2))+(COLUMN(O31)-1)+(ROW(Y5)-1)*7) -> 46733 | C45: =B45 -> 46733

Sheet DEZ
G1: =TEXT(DATE(R2,S2,1),"MMMM") -> Dezember | I1: =DATE(R2,S2,1) -> 46722 | R1: Jahr | S1: Monat
R2: =JAN!$R$2 -> 2027 | S2: 12
A3: KW
A4: =WEEKNUM($B$4,21) -> 48 | B4: =DATE($R$2,$S$2,(1-WEEKDAY(DATE($R$2,$S$2,1),2))+(COLUMN(B3)-1)+(ROW(K1)-1)*7) -> 46720 | C4: =B4 -> 46720
B5: =DATE($R$2,$S$2,(1-WEEKDAY(DATE($R$2,$S$2,1),2))+(COLUMN(C3)-1)+(ROW(L1)-1)*7) -> 46721 | C5: =B5 -> 46721
B6: =DATE($R$2,$S$2,(1-WEEKDAY(DATE($R$2,$S$2,1),2))+(COLUMN(D3)-1)+(ROW(M1)-1)*7) -> 46722 | C6: =B6 -> 46722
B7: =DATE($R$2,$S$2,(1-WEEKDAY(DATE($R$2,$S$2,1),2))+(COLUMN(E3)-1)+(ROW(N1)-1)*7) -> 46723 | C7: =B7 -> 46723
B8: =DATE($R$2,$S$2,(1-WEEKDAY(DATE($R$2,$S$2,1),2))+(COLUMN(F3)-1)+(ROW(O1)-1)*7) -> 46724 | C8: =B8 -> 46724
B9: =DATE($R$2,$S$2,(1-WEEKDAY(DATE($R$2,$S$2,1),2))+(COLUMN(G3)-1)+(ROW(P1)-1)*7) -> 46725 | C9: =B9 -> 46725
B10: =DATE($R$2,$S$2,(1-WEEKDAY(DATE($R$2,$S$2,1),2))+(COLUMN(H3)-1)+(ROW(Q1)-1)*7) -> 46726 | C10: =B10 -> 46726
A11: =WEEKNUM($B$11,21) -> 49 | B11: =DATE($R$2,$S$2,(1-WEEKDAY(DATE($R$2,$S$2,1),2))+(COLUMN(B4)-1)+(ROW(K2)-1)*7) -> 46727 | C11: =B11 -> 46727
B12: =DATE($R$2,$S$2,(1-WEEKDAY(DATE($R$2,$S$2,1),2))+(COLUMN(C4)-1)+(ROW(L2)-1)*7) -> 46728 | C12: =B12 -> 46728
B13: =DATE($R$2,$S$2,(1-WEEKDAY(DATE($R$2,$S$2,1),2))+(COLUMN(D4)-1)+(ROW(M2)-1)*7) -> 46729 | C13: =B13 -> 46729
B14: =DATE($R$2,$S$2,(1-WEEKDAY(DATE($R$2,$S$2,1),2))+(COLUMN(E4)-1)+(ROW(N2)-1)*7) -> 46730 | C14: =B14 -> 46730
B15: =DATE($R$2,$S$2,(1-WEEKDAY(DATE($R$2,$S$2,1),2))+(COLUMN(F4)-1)+(ROW(O2)-1)*7) -> 46731 | C15: =B15 -> 46731
B16: =DATE($R$2,$S$2,(1-WEEKDAY(DATE($R$2,$S$2,1),2))+(COLUMN(G4)-1)+(ROW(P2)-1)*7) -> 46732 | C16: =B16 -> 46732
B17: =DATE($R$2,$S$2,(1-WEEKDAY(DATE($R$2,$S$2,1),2))+(COLUMN(H4)-1)+(ROW(Q2)-1)*7) -> 46733 | C17: =B17 -> 46733
A18: =WEEKNUM($B$18,21) -> 50 | B18: =DATE($R$2,$S$2,(1-WEEKDAY(DATE($R$2,$S$2,1),2))+(COLUMN(B13)-1)+(ROW(K3)-1)*7) -> 46734 | C18: =B18 -> 46734
B19: =DATE($R$2,$S$2,(1-WEEKDAY(DATE($R$2,$S$2,1),2))+(COLUMN(C13)-1)+(ROW(L3)-1)*7) -> 46735 | C19: =B19 -> 46735
B20: =DATE($R$2,$S$2,(1-WEEKDAY(DATE($R$2,$S$2,1),2))+(COLUMN(D13)-1)+(ROW(M3)-1)*7) -> 46736 | C20: =B20 -> 46736
B21: =DATE($R$2,$S$2,(1-WEEKDAY(DATE($R$2,$S$2,1),2))+(COLUMN(E13)-1)+(ROW(N3)-1)*7) -> 46737 | C21: =B21 -> 46737
B22: =DATE($R$2,$S$2,(1-WEEKDAY(DATE($R$2,$S$2,1),2))+(COLUMN(F13)-1)+(ROW(O3)-1)*7) -> 46738 | C22: =B22 -> 46738
B23: =DATE($R$2,$S$2,(1-WEEKDAY(DATE($R$2,$S$2,1),2))+(COLUMN(G13)-1)+(ROW(P3)-1)*7) -> 46739 | C23: =B23 -> 46739
B24: =DATE($R$2,$S$2,(1-WEEKDAY(DATE($R$2,$S$2,1),2))+(COLUMN(H13)-1)+(ROW(Q3)-1)*7) -> 46740 | C24: =B24 -> 46740
A25: =WEEKNUM($B$25,21) -> 51 | B25: =DATE($R$2,$S$2,(1-WEEKDAY(DATE($R$2,$S$2,1),2))+(COLUMN(B22)-1)+(ROW(K4)-1)*7) -> 46741 | C25: =B25 -> 46741
B26: =DATE($R$2,$S$2,(1-WEEKDAY(DATE($R$2,$S$2,1),2))+(COLUMN(C22)-1)+(ROW(L4)-1)*7) -> 46742 | C26: =B26 -> 46742
B27: =DATE($R$2,$S$2,(1-WEEKDAY(DATE($R$2,$S$2,1),2))+(COLUMN(D22)-1)+(ROW(M4)-1)*7) -> 46743 | C27: =B27 -> 46743
B28: =DATE($R$2,$S$2,(1-WEEKDAY(DATE($R$2,$S$2,1),2))+(COLUMN(E22)-1)+(ROW(N4)-1)*7) -> 46744 | C28: =B28 -> 46744
B29: =DATE($R$2,$S$2,(1-WEEKDAY(DATE($R$2,$S$2,1),2))+(COLUMN(F22)-1)+(ROW(O4)-1)*7) -> 46745 | C29: =B29 -> 46745
B30: =DATE($R$2,$S$2,(1-WEEKDAY(DATE($R$2,$S$2,1),2))+(COLUMN(G22)-1)+(ROW(P4)-1)*7) -> 46746 | C30: =B30 -> 46746
B31: =DATE($R$2,$S$2,(1-WEEKDAY(DATE($R$2,$S$2,1),2))+(COLUMN(H22)-1)+(ROW(Q4)-1)*7) -> 46747 | C31: =B31 -> 46747
A32: =WEEKNUM($B$32,21) -> 52 | B32: =DATE($R$2,$S$2,(1-WEEKDAY(DATE($R$2,$S$2,1),2))+(COLUMN(B31)-1)+(ROW(K5)-1)*7) -> 46748 | C32: =B32 -> 46748
B33: =DATE($R$2,$S$2,(1-WEEKDAY(DATE($R$2,$S$2,1),2))+(COLUMN(C31)-1)+(ROW(L5)-1)*7) -> 46749 | C33: =B33 -> 46749
B34: =DATE($R$2,$S$2,(1-WEEKDAY(DATE($R$2,$S$2,1),2))+(COLUMN(D31)-1)+(ROW(M5)-1)*7) -> 46750 | C34: =B34 -> 46750
B35: =DATE($R$2,$S$2,(1-WEEKDAY(DATE($R$2,$S$2,1),2))+(COLUMN(E31)-1)+(ROW(N5)-1)*7) -> 46751 | C35: =B35 -> 46751
B36: =DATE($R$2,$S$2,(1-WEEKDAY(DATE($R$2,$S$2,1),2))+(COLUMN(F31)-1)+(ROW(O5)-1)*7) -> 46752 | C36: =B36 -> 46752
B37: =DATE($R$2,$S$2,(1-WEEKDAY(DATE($R$2,$S$2,1),2))+(COLUMN(G31)-1)+(ROW(P5)-1)*7) -> 46753 | C37: =B37 -> 46753
B38: =DATE($R$2,$S$2,(1-WEEKDAY(DATE($R$2,$S$2,1),2))+(COLUMN(H31)-1)+(ROW(Q5)-1)*7) -> 46754 | C38: =B38 -> 46754
A39: =WEEKNUM($B$39,21) -> 1 | B39: =DATE($R$2,$S$2,(1-WEEKDAY(DATE($R$2,$S$2,1),2))+(COLUMN(I31)-1)+(ROW(R5)-1)*7) -> 46755 | C39: =B39 -> 46755
B40: =DATE($R$2,$S$2,(1-WEEKDAY(DATE($R$2,$S$2,1),2))+(COLUMN(J31)-1)+(ROW(S5)-1)*7) -> 46756 | C40: =B40 -> 46756

Sheet Feiertage
A1: Datum | B1: Jahr | C1: Tag | D1: Feiertag? | E1: Bezeihnung | F1: Land | G1: Gesetz.? | I1: So. | J1: Feiertag am Sonntag | N1: 2027 | O1: =DATE($N$1,3,28)+MOD(24-MOD($N$1,19)*10.63,29)-MOD(TRUNC($N$1*5/4)+MOD(24-MOD($N$1,19)*10.63,29)+1,7) -> 46474 | P1: =DATEVALUE("25.12."&$N$1) -> 46746 | R1: X | S1: Markierter Feiertag
A2: =DATEVALUE("01.01."&$N$1) -> 46388 | B2: =IF(D2="x",A2,"") -> 46388 | C2: =IF(D2="x",A2,"") -> 46388 | D2: x | E2: Neujahr | F2: DE / AT / CH | G2: Ja
A3: =DATEVALUE("02.01."&$N$1) -> 46389 | B3: =IF(D3="x",A3,"") | C3: =IF(D3="x",A3,"") | E3: Berchtoldstag | F3: CH | G3: Ja | I3: =IF(B3=MONTH(TODAY()),E3,"")
A4: =DATEVALUE("06.01."&$N$1) -> 46393 | B4: =IF(D4="x",A4,"") | C4: =IF(D4="x",A4,"") | E4: Helige 3 Könige | F4: DE / AT / CH | G4: Ja | I4: =IF(B4=MONTH(TODAY()),E4,"")
A5: =DATEVALUE("08.03."&$N$1) -> 46454 | B5: =IF(D5="x",A5,"") | C5: =IF(D5="x",A5,"") | E5: Internationaler Frauentag | F5: DE | G5: Ja | I5: =IF(B5=MONTH(TODAY()),E5,"")
A6: =DATEVALUE("19.03."&$N$1) -> 46465 | B6: =IF(D6="x",A6,"") | C6: =IF(D6="x",A6,"") | E6: St. Josef | F6: CH | G6: Ja | I6: =IF(B6=MONTH(TODAY()),E6,"")
A7: =$O$1-2 -> 46472 | B7: =IF(D7="x",A7,"") -> 46472 | C7: =IF(D7="x",A7,"") -> 46472 | D7: x | E7: Karfreitag | F7: DE / CH | G7: Ja | I7: =IF(B7=MONTH(TODAY()),E7,"")
A8: =DATE($N$1,3,28)+MOD(24-MOD($N$1,19)*10.63,29)-MOD(TRUNC($N$1*5/4)+MOD(24-MOD($N$1,19)*10.63,29)+1,7) -> 46474 | B8: =IF(D8="x",A8,"") | C8: =IF(D8="x",A8,"") | E8: Ostersonntag | F8: DE / AT / CH | G8: Ja | I8: =IF(B8=MONTH(TODAY()),E8,"")
A9: =$O$1+1 -> 46475 | B9: =IF(D9="x",A9,"") -> 46475 | C9: =IF(D9="x",A9,"") -> 46475 | D9: x | E9: Ostermontag | F9: DE / AT | G9: Ja | I9: =IF(B9=MONTH(TODAY()),E9,"")
A10: =TRUNC(((4&-$N$1)+1)/7)*7+5+(DAY($O$1-3)<8)*7 -> 46478 | B10: =IF(D10="x",A10,"") | C10: =IF(D10="x",A10,"") | E10: Näfelser Fahrt | F10: CH | G10: Ja | I10: =IF(B10=MONTH(TODAY()),E10,"")
A11: =DATE(N1,4,1)+MOD(8-WEEKDAY(DATE(N1,4,1),2),7)+14+IF(DATE(N1,4,1)+MOD(8-WEEKDAY(DATE(N1,4,1),2),7)+14=$O$1+1,7,0) -> 46496 | B11: =IF(D11="x",A11,"") | C11: =IF(D11="x",A11,"") | E11: Sechseläuten | F11: CH | G11: Ja | I11: =IF(B11=MONTH(TODAY()),E11,"")
A12: =DATEVALUE("01.05."&$N$1) -> 46508 | B12: =IF(D12="x",A12,"") -> 46508 | C12: =IF(D12="x",A12,"") -> 46508 | D12: x | E12: Tag der Arbeit | F12: DE / CH | G12: Ja | I12: =IF(B12=MONTH(TODAY()),E12,"")
A13: =DATEVALUE("01.05."&$N$1) -> 46508 | B13: =IF(D13="x",A13,"") | C13: =IF(D13="x",A13,"") | E13: Staatsfeiertag | F13: AT | G13: Ja | I13: =IF(B13=MONTH(TODAY()),E13,"")
A14: =$O$1+39 -> 46513 | B14: =IF(D14="x",A14,"") -> 46513 | C14: =IF(D14="x",A14,"") -> 46513 | D14: x | E14: Christi Himmelfahrt | F14: DE / AT / CH | G14: Ja | I14: =IF(B14=MONTH(TODAY()),E14,"")
A15: =$O$1+49 -> 46523 | B15: =IF(D15="x",A15,"") | C15: =IF(D15="x",A15,"") | E15: Pfingstsonntag | F15: DE / AT | G15: Ja | I15: =IF(B15=MONTH(TODAY()),E15,"")
A16: =$O$1+50 -> 46524 | B16: =IF(D16="x",A16,"") -> 46524 | C16: =IF(D16="x",A16,"") -> 46524 | D16: x | E16: Pfingstmontag | F16: DE / AT / CH | G16: Ja | I16: =IF(B16=MONTH(TODAY()),E16,"")
A17: =$O$1+60 -> 46534 | B17: =IF(D17="x",A17,"") | C17: =IF(D17="x",A17,"") | E17: Fronleichnam | F17: DE / AT / CH | G17: Ja | I17: =IF(B17=MONTH(TODAY()),E17,"")
A18: =DATEVALUE("29.06."&$N$1) -> 46567 | B18: =IF(D18="x",A18,"") | C18: =IF(D18="x",A18,"") | E18: Peter und Paul | F18: CH | G18: Ja | I18: =IF(B18=MONTH(TODAY()),E18,"")
A19: =DATEVALUE("01.08."&$N$1) -> 46600 | B19: =IF(D19="x",A19,"") | C19: =IF(D19="x",A19,"") | E19: Nationalfeiertag CH | F19: CH | G19: Ja | I19: =IF(B19=MONTH(TODAY()),E19,"")
A20: =DATEVALUE("08.08."&$N$1) -> 46607 | B20: =IF(D20="x",A20,"") | C20: =IF(D20="x",A20,"") | E20: Augsburger Friedensfest | F20: DE | G20: Ja | I20: =IF(B20=MONTH(TODAY()),E20,"")
A21: =DATEVALUE("15.08."&$N$1) -> 46614 | B21: =IF(D21="x",A21,"") | C21: =IF(D21="x",A21,"") | E21: Mariä Himmelfahrt | F21: DE / AT / CH | G21: Ja | I21: =IF(B21=MONTH(TODAY()),E21,"")
A22: =DATE($N$1,9,1)+11-WEEKDAY(DATE($N$1,9,1),2) -> 46639 | B22: =IF(D22="x",A22,"") | C22: =IF(D22="x",A22,"") | E22: Genfer Bettag | F22: CH | G22: Ja | I22: =IF(B22=MONTH(TODAY()),E22,"")
A23: =DATE($N$1,9,1)+15-WEEKDAY(DATE($N$1,9,1),2) -> 46643 | B23: =IF(D23="x",A23,"") | C23: =IF(D23="x",A23,"") | E23: Knabenschiessen | F23: CH | G23: Ja | I23: =IF(B23=MONTH(TODAY()),E23,"")
A24: =DATE($N$1,9,1)+21-WEEKDAY(DATE($N$1,9,1),2) -> 46649 | B24: =IF(D24="x",A24,"") | C24: =IF(D24="x",A24,"") | E24: Eidgenössischer Dank-, Buss- und Bettag | F24: CH | G24: Ja | I24: =IF(B24=MONTH(TODAY()),E24,"")
A25: =DATEVALUE("20.09."&$N$1) -> 46650 | B25: =IF(D25="x",A25,"") | C25: =IF(D25="x",A25,"") | E25: Weltkindertag | F25: DE | G25: Ja | I25: =IF(B25=MONTH(TODAY()),E25,"")
A26: =DATEVALUE("22.09."&$N$1) -> 46652 | B26: =IF(D26="x",A26,"") | C26: =IF(D26="x",A26,"") | E26: Mauritiustag | F26: CH | G26: Ja | I26: =IF(B26=MONTH(TODAY()),E26,"")
A27: =DATEVALUE("25.09."&$N$1) -> 46655 | B27: =IF(D27="x",A27,"") | C27: =IF(D27="x",A27,"") | E27: St. Niklaus von Flüe | F27: CH | G27: Ja | I27: =IF(B27=MONTH(TODAY()),E27,"")
A28: =DATEVALUE("02.10."&$N$1) -> 46662 | B28: =IF(D28="x",A28,"") | C28: =IF(D28="x",A28,"") | E28: St. Leodegar | F28: CH | G28: Ja | I28: =IF(B28=MONTH(TODAY()),E28,"")
A29: =DATEVALUE("03.10."&$N$1) -> 46663 | B29: =IF(D29="x",A29,"") -> 46663 | C29: =IF(D29="x",A29,"") -> 46663 | D29: x | E29: Tag der deutschen Einheit | F29: DE | G29: Ja | I29: =IF(B29=MONTH(TODAY()),E29,"")
A30: =DATEVALUE("26.10."&$N$1) -> 46686 | B30: =IF(D30="x",A30,"") | C30: =IF(D30="x",A30,"") | E30: Nationalfeiertag (AT) | F30: AT | G30: Ja | I30: =IF(B30=MONTH(TODAY()),E30,"")
A31: =DATEVALUE("31.10."&$N$1) -> 46691 | B31: =IF(D31="x",A31,"") | C31: =IF(D31="x",A31,"") | E31: Reformationstag | F31: DE | G31: Ja | I31: =IF(B31=MONTH(TODAY()),E31,"")
A32: =DATEVALUE("01.11."&$N$1) -> 46692 | B32: =IF(D32="x",A32,"") | C32: =IF(D32="x",A32,"") | E32: Allerheiligen | F32: DE / AT / CH | G32: Ja | I32: =IF(B32=MONTH(TODAY()),E32,"")
A33: =DATE($N$1,12,25)-WEEKDAY(DATE($N$1,12,25),2)-32 -> 46708 | B33: =IF(D33="x",A33,"") | C33: =IF(D33="x",A33,"") | E33: Buß- und Bettag | F33: DE | G33: Ja | I33: =IF(B33=MONTH(TODAY()),E33,"")
A34: =DATEVALUE("08.12."&$N$1) -> 46729 | B34: =IF(D34="x",A34,"") | C34: =IF(D34="x",A34,"") | E34: Mariä Empfängnis | F34: CH / AT | G34: Ja | I34: =IF(B34=MONTH(TODAY()),E34,"")
A35: =DATEVALUE("25.12."&$N$1) -> 46746 | B35: =IF(D35="x",A35,"") -> 46746 | C35: =IF(D35="x",A35,"") -> 46746 | D35: x | E35: 1. Weihnachtstag | F35: DE / AT / CH | G35: Ja | I35: =IF(B35=MONTH(TODAY()),E35,"")
A36: =DATEVALUE("26.12."&$N$1) -> 46747 | B36: =IF(D36="x",A36,"") -> 46747 | C36: =IF(D36="x",A36,"") -> 46747 | D36: x | E36: 2. Weihnachtstag | F36: DE / AT / CH | G36: Ja | I36: =IF(B36=MONTH(TODAY()),E36,"")
A37: =$O$1-1 -> 46473 | B37: =IF(D37="x",A37,"") | C37: =IF(D37="x",A37,"") | E37: Karsamstag | F37: DE | G37: Nein | I37: =IF(B37=MONTH(TODAY()),E37,"")
A38: =DATE($N$1,12,25)-WEEKDAY(DATE($N$1,12,25),2)-21 -> 46719 | B38: =IF(D38="x",A38,"") | C38: =IF(D38="x",A38,"") | E38: 1. Advent | F38: DE / AT / CH | G38: Nein | I38: =IF(B38=MONTH(TODAY()),E38,"")
A39: =DATEVALUE("06.12."&$N$1) -> 46727 | B39: =IF(D39="x",A39,"") | C39: =IF(D39="x",A39,"") | E39: Nikolaus | F39: DE / AT / CH | G39: Nein | I39: =IF(B39=MONTH(TODAY()),E39,"")
A40: =DATE($N$1,12,25)-WEEKDAY(DATE($N$1,12,25),2)-14 -> 46726 | B40: =IF(D40="x",A40,"") | C40: =IF(D40="x",A40,"") | E40: 2. Advent | F40: DE / AT / CH | G40: Nein | I40: =IF(B40=MONTH(TODAY()),E40,"")
A41: =DATE($N$1,12,25)-WEEKDAY(DATE($N$1,12,25),2)-7 -> 46733 | B41: =IF(D41="x",A41,"") | C41: =IF(D41="x",A41,"") | E41: 3. Advent | F41: DE / AT / CH | G41: Nein | I41: =IF(B41=MONTH(TODAY()),E41,"")
A42: =DATE($N$1,12,25)-WEEKDAY(DATE($N$1,12,25),2) -> 46740 | B42: =IF(D42="x",A42,"") | C42: =IF(D42="x",A42,"") | E42: 4. Advent | F42: DE / AT / CH | G42: Nein | I42: =IF(B42=MONTH(TODAY()),E42,"")
A43: =DATEVALUE("24.12."&$N$1) -> 46745 | B43: =IF(D43="x",A43,"") | C43: =IF(D43="x",A43,"") | E43: Heiligabend | F43: DE / AT / CH | G43: Nein | I43: =IF(B43=MONTH(TODAY()),E43,"")
A44: =DATEVALUE("31.12."&$N$1) -> 46752 | B44: =IF(D44="x",A44,"") | C44: =IF(D44="x",A44,"") | E44: Silvester | F44: DE / AT / CH | G44: Nein | I44: =IF(B44=MONTH(TODAY()),E44,"")
B45: =IF(D45="x",A45,"") | C45: =IF(D45="x",A45,"")
B46: =IF(D46="x",A46,"") | C46: =IF(D46="x",A46,"")
B47: =IF(D47="x",A47,"") | C47: =IF(D47="x",A47,"")
B48: =IF(D48="x",A48,"") | C48: =IF(D48="x",A48,"")
B49: =IF(D49="x",A49,"") | C49: =IF(D49="x",A49,"")
B50: =IF(D50="x",A50,"") | C50: =IF(D50="x",A50,"")
B51: =IF(D51="x",A51,"") | C51: =IF(D51="x",A51,"")
