Workbook

Sheet Januar
B1: Arbeitszeittabelle
B2: Monat | D2: Sollstunden pro Monat | E2: Arbeitsstd. geleistet | F2: Reguläre Arbeitsstd. | G2: Überstunden
B3: 46023 | D3: 3.3333333 | E3: =SUM(G5:G35) -> 0 | F3: =IFERROR(IF(E3<=D3,E3,D3),"") -> 0 | G3: =IFERROR(E3-F3, "") -> 0
B4: Datum | D4: Beginn | E4: Mittagspause | F4: Ende | G4: Arbeitsstunden
B5: =B3 -> 46023 | C5: =B5 -> 46023 | G5: =IF(F5,IF(D5,IF(D5>F5,F5+"24:00"-D5,F5-D5)-E5,""),"")
B6: =B5+1 -> 46024 | C6: =B6 -> 46024 | G6: =IF(F6,IF(D6,IF(D6>F6,F6+"24:00"-D6,F6-D6)-E6,""),"")
B7: =B6+1 -> 46025 | C7: =B7 -> 46025 | G7: =IF(F7,IF(D7,IF(D7>F7,F7+"24:00"-D7,F7-D7)-E7,""),"")
B8: =B7+1 -> 46026 | C8: =B8 -> 46026 | G8: =IF(F8,IF(D8,IF(D8>F8,F8+"24:00"-D8,F8-D8)-E8,""),"")
B9: =B8+1 -> 46027 | C9: =B9 -> 46027 | G9: =IF(F9,IF(D9,IF(D9>F9,F9+"24:00"-D9,F9-D9)-E9,""),"")
B10: =B9+1 -> 46028 | C10: =B10 -> 46028 | G10: =IF(F10,IF(D10,IF(D10>F10,F10+"24:00"-D10,F10-D10)-E10,""),"")
B11: =B10+1 -> 46029 | C11: =B11 -> 46029 | G11: =IF(F11,IF(D11,IF(D11>F11,F11+"24:00"-D11,F11-D11)-E11,""),"")
B12: =B11+1 -> 46030 | C12: =B12 -> 46030 | G12: =IF(F12,IF(D12,IF(D12>F12,F12+"24:00"-D12,F12-D12)-E12,""),"")
B13: =B12+1 -> 46031 | C13: =B13 -> 46031 | G13: =IF(F13,IF(D13,IF(D13>F13,F13+"24:00"-D13,F13-D13)-E13,""),"")
B14: =B13+1 -> 46032 | C14: =B14 -> 46032 | G14: =IF(F14,IF(D14,IF(D14>F14,F14+"24:00"-D14,F14-D14)-E14,""),"")
B15: =B14+1 -> 46033 | C15: =B15 -> 46033 | G15: =IF(F15,IF(D15,IF(D15>F15,F15+"24:00"-D15,F15-D15)-E15,""),"")
B16: =B15+1 -> 46034 | C16: =B16 -> 46034 | G16: =IF(F16,IF(D16,IF(D16>F16,F16+"24:00"-D16,F16-D16)-E16,""),"")
B17: =B16+1 -> 46035 | C17: =B17 -> 46035 | G17: =IF(F17,IF(D17,IF(D17>F17,F17+"24:00"-D17,F17-D17)-E17,""),"")
... B35: =B34+1 -> 46053 | C35: =B35 -> 46053 | G35: =IF(F35,IF(D35,IF(D35>F35,F35+"24:00"-D35,F35-D35)-E35,""),"")

Sheet Februar
B1: Arbeitszeittabelle
B2: Monat | D2: Sollstunden pro Monat | E2: Arbeitsstd. geleistet | F2: Reguläre Arbeitsstd. | G2: Überstunden
B3: =EDATE(Januar!$B$3,1) -> 46054 | D3: 3.3333333 | E3: =SUM(G5:G32) -> 0 | F3: =IFERROR(IF(E3<=D3,E3,D3),"") -> 0 | G3: =IFERROR(E3-F3, "") -> 0
B4: Datum | D4: Beginn | E4: Mittagspause | F4: Ende | G4: Arbeitsstunden
B5: =B3 -> 46054 | C5: =B5 -> 46054 | G5: =IF(F5,IF(D5,IF(D5>F5,F5+"24:00"-D5,F5-D5)-E5,""),"")
B6: =B5+1 -> 46055 | C6: =B6 -> 46055 | G6: =IF(F6,IF(D6,IF(D6>F6,F6+"24:00"-D6,F6-D6)-E6,""),"")
B7: =B6+1 -> 46056 | C7: =B7 -> 46056 | G7: =IF(F7,IF(D7,IF(D7>F7,F7+"24:00"-D7,F7-D7)-E7,""),"")
B8: =B7+1 -> 46057 | C8: =B8 -> 46057 | G8: =IF(F8,IF(D8,IF(D8>F8,F8+"24:00"-D8,F8-D8)-E8,""),"")
B9: =B8+1 -> 46058 | C9: =B9 -> 46058 | G9: =IF(F9,IF(D9,IF(D9>F9,F9+"24:00"-D9,F9-D9)-E9,""),"")
B10: =B9+1 -> 46059 | C10: =B10 -> 46059 | G10: =IF(F10,IF(D10,IF(D10>F10,F10+"24:00"-D10,F10-D10)-E10,""),"")
B11: =B10+1 -> 46060 | C11: =B11 -> 46060 | G11: =IF(F11,IF(D11,IF(D11>F11,F11+"24:00"-D11,F11-D11)-E11,""),"")
B12: =B11+1 -> 46061 | C12: =B12 -> 46061 | G12: =IF(F12,IF(D12,IF(D12>F12,F12+"24:00"-D12,F12-D12)-E12,""),"")
B13: =B12+1 -> 46062 | C13: =B13 -> 46062 | G13: =IF(F13,IF(D13,IF(D13>F13,F13+"24:00"-D13,F13-D13)-E13,""),"")
B14: =B13+1 -> 46063 | C14: =B14 -> 46063 | G14: =IF(F14,IF(D14,IF(D14>F14,F14+"24:00"-D14,F14-D14)-E14,""),"")
B15: =B14+1 -> 46064 | C15: =B15 -> 46064 | G15: =IF(F15,IF(D15,IF(D15>F15,F15+"24:00"-D15,F15-D15)-E15,""),"")
B16: =B15+1 -> 46065 | C16: =B16 -> 46065 | G16: =IF(F16,IF(D16,IF(D16>F16,F16+"24:00"-D16,F16-D16)-E16,""),"")
B17: =B16+1 -> 46066 | C17: =B17 -> 46066 | G17: =IF(F17,IF(D17,IF(D17>F17,F17+"24:00"-D17,F17-D17)-E17,""),"")
... B33: =B32+1 -> 46082 | C33: =B33 -> 46082 | G33: =IF(F33,IF(D33,IF(D33>F33,F33+"24:00"-D33,F33-D33)-E33,""),"")

Sheet März
B1: Arbeitszeittabelle
B2: Monat | D2: Sollstunden pro Monat | E2: Arbeitsstd. geleistet | F2: Reguläre Arbeitsstd. | G2: Überstunden
B3: =EDATE(Februar!$B$3,1) -> 46082 | D3: 3.3333333 | E3: =SUM(G5:G35) -> 0 | F3: =IFERROR(IF(E3<=D3,E3,D3),"") -> 0 | G3: =IFERROR(E3-F3, "") -> 0
B4: Datum | D4: Beginn | E4: Mittagspause | F4: Ende | G4: Arbeitsstunden
B5: =B3 -> 46082 | C5: =B5 -> 46082 | G5: =IF(F5,IF(D5,IF(D5>F5,F5+"24:00"-D5,F5-D5)-E5,""),"")
B6: =B5+1 -> 46083 | C6: =B6 -> 46083 | G6: =IF(F6,IF(D6,IF(D6>F6,F6+"24:00"-D6,F6-D6)-E6,""),"")
B7: =B6+1 -> 46084 | C7: =B7 -> 46084 | G7: =IF(F7,IF(D7,IF(D7>F7,F7+"24:00"-D7,F7-D7)-E7,""),"")
B8: =B7+1 -> 46085 | C8: =B8 -> 46085 | G8: =IF(F8,IF(D8,IF(D8>F8,F8+"24:00"-D8,F8-D8)-E8,""),"")
B9: =B8+1 -> 46086 | C9: =B9 -> 46086 | G9: =IF(F9,IF(D9,IF(D9>F9,F9+"24:00"-D9,F9-D9)-E9,""),"")
B10: =B9+1 -> 46087 | C10: =B10 -> 46087 | G10: =IF(F10,IF(D10,IF(D10>F10,F10+"24:00"-D10,F10-D10)-E10,""),"")
B11: =B10+1 -> 46088 | C11: =B11 -> 46088 | G11: =IF(F11,IF(D11,IF(D11>F11,F11+"24:00"-D11,F11-D11)-E11,""),"")
B12: =B11+1 -> 46089 | C12: =B12 -> 46089 | G12: =IF(F12,IF(D12,IF(D12>F12,F12+"24:00"-D12,F12-D12)-E12,""),"")
B13: =B12+1 -> 46090 | C13: =B13 -> 46090 | G13: =IF(F13,IF(D13,IF(D13>F13,F13+"24:00"-D13,F13-D13)-E13,""),"")
B14: =B13+1 -> 46091 | C14: =B14 -> 46091 | G14: =IF(F14,IF(D14,IF(D14>F14,F14+"24:00"-D14,F14-D14)-E14,""),"")
B15: =B14+1 -> 46092 | C15: =B15 -> 46092 | G15: =IF(F15,IF(D15,IF(D15>F15,F15+"24:00"-D15,F15-D15)-E15,""),"")
B16: =B15+1 -> 46093 | C16: =B16 -> 46093 | G16: =IF(F16,IF(D16,IF(D16>F16,F16+"24:00"-D16,F16-D16)-E16,""),"")
B17: =B16+1 -> 46094 | C17: =B17 -> 46094 | G17: =IF(F17,IF(D17,IF(D17>F17,F17+"24:00"-D17,F17-D17)-E17,""),"")
... B35: =B34+1 -> 46112 | C35: =B35 -> 46112 | G35: =IF(F35,IF(D35,IF(D35>F35,F35+"24:00"-D35,F35-D35)-E35,""),"")

Sheet April
B1: Arbeitszeittabelle
B2: Monat | D2: Sollstunden pro Monat | E2: Arbeitsstd. geleistet | F2: Reguläre Arbeitsstd. | G2: Überstunden
B3: =EDATE(März!$B$3,1) -> 46113 | D3: 3.3333333 | E3: =SUM(G5:G34) -> 0 | F3: =IFERROR(IF(E3<=D3,E3,D3),"") -> 0 | G3: =IFERROR(E3-F3, "") -> 0
B4: Datum | D4: Beginn | E4: Mittagspause | F4: Ende | G4: Arbeitsstunden
B5: =B3 -> 46113 | C5: =B5 -> 46113 | G5: =IF(F5,IF(D5,IF(D5>F5,F5+"24:00"-D5,F5-D5)-E5,""),"")
B6: =B5+1 -> 46114 | C6: =B6 -> 46114 | G6: =IF(F6,IF(D6,IF(D6>F6,F6+"24:00"-D6,F6-D6)-E6,""),"")
B7: =B6+1 -> 46115 | C7: =B7 -> 46115 | G7: =IF(F7,IF(D7,IF(D7>F7,F7+"24:00"-D7,F7-D7)-E7,""),"")
B8: =B7+1 -> 46116 | C8: =B8 -> 46116 | G8: =IF(F8,IF(D8,IF(D8>F8,F8+"24:00"-D8,F8-D8)-E8,""),"")
B9: =B8+1 -> 46117 | C9: =B9 -> 46117 | G9: =IF(F9,IF(D9,IF(D9>F9,F9+"24:00"-D9,F9-D9)-E9,""),"")
B10: =B9+1 -> 46118 | C10: =B10 -> 46118 | G10: =IF(F10,IF(D10,IF(D10>F10,F10+"24:00"-D10,F10-D10)-E10,""),"")
B11: =B10+1 -> 46119 | C11: =B11 -> 46119 | G11: =IF(F11,IF(D11,IF(D11>F11,F11+"24:00"-D11,F11-D11)-E11,""),"")
B12: =B11+1 -> 46120 | C12: =B12 -> 46120 | G12: =IF(F12,IF(D12,IF(D12>F12,F12+"24:00"-D12,F12-D12)-E12,""),"")
B13: =B12+1 -> 46121 | C13: =B13 -> 46121 | G13: =IF(F13,IF(D13,IF(D13>F13,F13+"24:00"-D13,F13-D13)-E13,""),"")
B14: =B13+1 -> 46122 | C14: =B14 -> 46122 | G14: =IF(F14,IF(D14,IF(D14>F14,F14+"24:00"-D14,F14-D14)-E14,""),"")
B15: =B14+1 -> 46123 | C15: =B15 -> 46123 | G15: =IF(F15,IF(D15,IF(D15>F15,F15+"24:00"-D15,F15-D15)-E15,""),"")
B16: =B15+1 -> 46124 | C16: =B16 -> 46124 | G16: =IF(F16,IF(D16,IF(D16>F16,F16+"24:00"-D16,F16-D16)-E16,""),"")
B17: =B16+1 -> 46125 | C17: =B17 -> 46125 | G17: =IF(F17,IF(D17,IF(D17>F17,F17+"24:00"-D17,F17-D17)-E17,""),"")
... B34: =B33+1 -> 46142 | C34: =B34 -> 46142 | G34: =IF(F34,IF(D34,IF(D34>F34,F34+"24:00"-D34,F34-D34)-E34,""),"")

Sheet Mai
B1: Arbeitszeittabelle
B2: Monat | D2: Sollstunden pro Monat | E2: Arbeitsstd. geleistet | F2: Reguläre Arbeitsstd. | G2: Überstunden
B3: =EDATE(April!$B$3,1) -> 46143 | D3: 3.3333333 | E3: =SUM(G5:G35) -> 0 | F3: =IFERROR(IF(E3<=D3,E3,D3),"") -> 0 | G3: =IFERROR(E3-F3, "") -> 0
B4: Datum | D4: Beginn | E4: Mittagspause | F4: Ende | G4: Arbeitsstunden
B5: =B3 -> 46143 | C5: =B5 -> 46143 | G5: =IF(F5,IF(D5,IF(D5>F5,F5+"24:00"-D5,F5-D5)-E5,""),"")
B6: =B5+1 -> 46144 | C6: =B6 -> 46144 | G6: =IF(F6,IF(D6,IF(D6>F6,F6+"24:00"-D6,F6-D6)-E6,""),"")
B7: =B6+1 -> 46145 | C7: =B7 -> 46145 | G7: =IF(F7,IF(D7,IF(D7>F7,F7+"24:00"-D7,F7-D7)-E7,""),"")
B8: =B7+1 -> 46146 | C8: =B8 -> 46146 | G8: =IF(F8,IF(D8,IF(D8>F8,F8+"24:00"-D8,F8-D8)-E8,""),"")
B9: =B8+1 -> 46147 | C9: =B9 -> 46147 | G9: =IF(F9,IF(D9,IF(D9>F9,F9+"24:00"-D9,F9-D9)-E9,""),"")
B10: =B9+1 -> 46148 | C10: =B10 -> 46148 | G10: =IF(F10,IF(D10,IF(D10>F10,F10+"24:00"-D10,F10-D10)-E10,""),"")
B11: =B10+1 -> 46149 | C11: =B11 -> 46149 | G11: =IF(F11,IF(D11,IF(D11>F11,F11+"24:00"-D11,F11-D11)-E11,""),"")
B12: =B11+1 -> 46150 | C12: =B12 -> 46150 | G12: =IF(F12,IF(D12,IF(D12>F12,F12+"24:00"-D12,F12-D12)-E12,""),"")
B13: =B12+1 -> 46151 | C13: =B13 -> 46151 | G13: =IF(F13,IF(D13,IF(D13>F13,F13+"24:00"-D13,F13-D13)-E13,""),"")
B14: =B13+1 -> 46152 | C14: =B14 -> 46152 | G14: =IF(F14,IF(D14,IF(D14>F14,F14+"24:00"-D14,F14-D14)-E14,""),"")
B15: =B14+1 -> 46153 | C15: =B15 -> 46153 | G15: =IF(F15,IF(D15,IF(D15>F15,F15+"24:00"-D15,F15-D15)-E15,""),"")
B16: =B15+1 -> 46154 | C16: =B16 -> 46154 | G16: =IF(F16,IF(D16,IF(D16>F16,F16+"24:00"-D16,F16-D16)-E16,""),"")
B17: =B16+1 -> 46155 | C17: =B17 -> 46155 | G17: =IF(F17,IF(D17,IF(D17>F17,F17+"24:00"-D17,F17-D17)-E17,""),"")
... B35: =B34+1 -> 46173 | C35: =B35 -> 46173 | G35: =IF(F35,IF(D35,IF(D35>F35,F35+"24:00"-D35,F35-D35)-E35,""),"")

Sheet Juni
B1: Arbeitszeittabelle
B2: Monat | D2: Sollstunden pro Monat | E2: Arbeitsstd. geleistet | F2: Reguläre Arbeitsstd. | G2: Überstunden
B3: =EDATE(Mai!$B$3,1) -> 46174 | D3: 3.3333333 | E3: =SUM(G5:G34) -> 0 | F3: =IFERROR(IF(E3<=D3,E3,D3),"") -> 0 | G3: =IFERROR(E3-F3, "") -> 0
B4: Datum | D4: Beginn | E4: Mittagspause | F4: Ende | G4: Arbeitsstunden
B5: =B3 -> 46174 | C5: =B5 -> 46174 | G5: =IF(F5,IF(D5,IF(D5>F5,F5+"24:00"-D5,F5-D5)-E5,""),"")
B6: =B5+1 -> 46175 | C6: =B6 -> 46175 | G6: =IF(F6,IF(D6,IF(D6>F6,F6+"24:00"-D6,F6-D6)-E6,""),"")
B7: =B6+1 -> 46176 | C7: =B7 -> 46176 | G7: =IF(F7,IF(D7,IF(D7>F7,F7+"24:00"-D7,F7-D7)-E7,""),"")
B8: =B7+1 -> 46177 | C8: =B8 -> 46177 | G8: =IF(F8,IF(D8,IF(D8>F8,F8+"24:00"-D8,F8-D8)-E8,""),"")
B9: =B8+1 -> 46178 | C9: =B9 -> 46178 | G9: =IF(F9,IF(D9,IF(D9>F9,F9+"24:00"-D9,F9-D9)-E9,""),"")
B10: =B9+1 -> 46179 | C10: =B10 -> 46179 | G10: =IF(F10,IF(D10,IF(D10>F10,F10+"24:00"-D10,F10-D10)-E10,""),"")
B11: =B10+1 -> 46180 | C11: =B11 -> 46180 | G11: =IF(F11,IF(D11,IF(D11>F11,F11+"24:00"-D11,F11-D11)-E11,""),"")
B12: =B11+1 -> 46181 | C12: =B12 -> 46181 | G12: =IF(F12,IF(D12,IF(D12>F12,F12+"24:00"-D12,F12-D12)-E12,""),"")
B13: =B12+1 -> 46182 | C13: =B13 -> 46182 | G13: =IF(F13,IF(D13,IF(D13>F13,F13+"24:00"-D13,F13-D13)-E13,""),"")
B14: =B13+1 -> 46183 | C14: =B14 -> 46183 | G14: =IF(F14,IF(D14,IF(D14>F14,F14+"24:00"-D14,F14-D14)-E14,""),"")
B15: =B14+1 -> 46184 | C15: =B15 -> 46184 | G15: =IF(F15,IF(D15,IF(D15>F15,F15+"24:00"-D15,F15-D15)-E15,""),"")
B16: =B15+1 -> 46185 | C16: =B16 -> 46185 | G16: =IF(F16,IF(D16,IF(D16>F16,F16+"24:00"-D16,F16-D16)-E16,""),"")
B17: =B16+1 -> 46186 | C17: =B17 -> 46186 | G17: =IF(F17,IF(D17,IF(D17>F17,F17+"24:00"-D17,F17-D17)-E17,""),"")
... B34: =B33+1 -> 46203 | C34: =B34 -> 46203 | G34: =IF(F34,IF(D34,IF(D34>F34,F34+"24:00"-D34,F34-D34)-E34,""),"")

Sheet Juli
B1: Arbeitszeittabelle
B2: Monat | D2: Sollstunden pro Monat | E2: Arbeitsstd. geleistet | F2: Reguläre Arbeitsstd. | G2: Überstunden
B3: =EDATE(Juni!$B$3,1) -> 46204 | D3: 3.3333333 | E3: =SUM(G5:G35) -> 0 | F3: =IFERROR(IF(E3<=D3,E3,D3),"") -> 0 | G3: =IFERROR(E3-F3, "") -> 0
B4: Datum | D4: Beginn | E4: Mittagspause | F4: Ende | G4: Arbeitsstunden
B5: =B3 -> 46204 | C5: =B5 -> 46204 | G5: =IF(F5,IF(D5,IF(D5>F5,F5+"24:00"-D5,F5-D5)-E5,""),"")
B6: =B5+1 -> 46205 | C6: =B6 -> 46205 | G6: =IF(F6,IF(D6,IF(D6>F6,F6+"24:00"-D6,F6-D6)-E6,""),"")
B7: =B6+1 -> 46206 | C7: =B7 -> 46206 | G7: =IF(F7,IF(D7,IF(D7>F7,F7+"24:00"-D7,F7-D7)-E7,""),"")
B8: =B7+1 -> 46207 | C8: =B8 -> 46207 | G8: =IF(F8,IF(D8,IF(D8>F8,F8+"24:00"-D8,F8-D8)-E8,""),"")
B9: =B8+1 -> 46208 | C9: =B9 -> 46208 | G9: =IF(F9,IF(D9,IF(D9>F9,F9+"24:00"-D9,F9-D9)-E9,""),"")
B10: =B9+1 -> 46209 | C10: =B10 -> 46209 | G10: =IF(F10,IF(D10,IF(D10>F10,F10+"24:00"-D10,F10-D10)-E10,""),"")
B11: =B10+1 -> 46210 | C11: =B11 -> 46210 | G11: =IF(F11,IF(D11,IF(D11>F11,F11+"24:00"-D11,F11-D11)-E11,""),"")
B12: =B11+1 -> 46211 | C12: =B12 -> 46211 | G12: =IF(F12,IF(D12,IF(D12>F12,F12+"24:00"-D12,F12-D12)-E12,""),"")
B13: =B12+1 -> 46212 | C13: =B13 -> 46212 | G13: =IF(F13,IF(D13,IF(D13>F13,F13+"24:00"-D13,F13-D13)-E13,""),"")
B14: =B13+1 -> 46213 | C14: =B14 -> 46213 | G14: =IF(F14,IF(D14,IF(D14>F14,F14+"24:00"-D14,F14-D14)-E14,""),"")
B15: =B14+1 -> 46214 | C15: =B15 -> 46214 | G15: =IF(F15,IF(D15,IF(D15>F15,F15+"24:00"-D15,F15-D15)-E15,""),"")
B16: =B15+1 -> 46215 | C16: =B16 -> 46215 | G16: =IF(F16,IF(D16,IF(D16>F16,F16+"24:00"-D16,F16-D16)-E16,""),"")
B17: =B16+1 -> 46216 | C17: =B17 -> 46216 | G17: =IF(F17,IF(D17,IF(D17>F17,F17+"24:00"-D17,F17-D17)-E17,""),"")
... B35: =B34+1 -> 46234 | C35: =B35 -> 46234 | G35: =IF(F35,IF(D35,IF(D35>F35,F35+"24:00"-D35,F35-D35)-E35,""),"")

Sheet August
B1: Arbeitszeittabelle
B2: Monat | D2: Sollstunden pro Monat | E2: Arbeitsstd. geleistet | F2: Reguläre Arbeitsstd. | G2: Überstunden
B3: =EDATE(Juli!$B$3,1) -> 46235 | D3: 3.3333333 | E3: =SUM(G5:G35) -> 0 | F3: =IFERROR(IF(E3<=D3,E3,D3),"") -> 0 | G3: =IFERROR(E3-F3, "") -> 0
B4: Datum | D4: Beginn | E4: Mittagspause | F4: Ende | G4: Arbeitsstunden
B5: =B3 -> 46235 | C5: =B5 -> 46235 | G5: =IF(F5,IF(D5,IF(D5>F5,F5+"24:00"-D5,F5-D5)-E5,""),"")
B6: =B5+1 -> 46236 | C6: =B6 -> 46236 | G6: =IF(F6,IF(D6,IF(D6>F6,F6+"24:00"-D6,F6-D6)-E6,""),"")
B7: =B6+1 -> 46237 | C7: =B7 -> 46237 | G7: =IF(F7,IF(D7,IF(D7>F7,F7+"24:00"-D7,F7-D7)-E7,""),"")
B8: =B7+1 -> 46238 | C8: =B8 -> 46238 | G8: =IF(F8,IF(D8,IF(D8>F8,F8+"24:00"-D8,F8-D8)-E8,""),"")
B9: =B8+1 -> 46239 | C9: =B9 -> 46239 | G9: =IF(F9,IF(D9,IF(D9>F9,F9+"24:00"-D9,F9-D9)-E9,""),"")
B10: =B9+1 -> 46240 | C10: =B10 -> 46240 | G10: =IF(F10,IF(D10,IF(D10>F10,F10+"24:00"-D10,F10-D10)-E10,""),"")
B11: =B10+1 -> 46241 | C11: =B11 -> 46241 | G11: =IF(F11,IF(D11,IF(D11>F11,F11+"24:00"-D11,F11-D11)-E11,""),"")
B12: =B11+1 -> 46242 | C12: =B12 -> 46242 | G12: =IF(F12,IF(D12,IF(D12>F12,F12+"24:00"-D12,F12-D12)-E12,""),"")
B13: =B12+1 -> 46243 | C13: =B13 -> 46243 | G13: =IF(F13,IF(D13,IF(D13>F13,F13+"24:00"-D13,F13-D13)-E13,""),"")
B14: =B13+1 -> 46244 | C14: =B14 -> 46244 | G14: =IF(F14,IF(D14,IF(D14>F14,F14+"24:00"-D14,F14-D14)-E14,""),"")
B15: =B14+1 -> 46245 | C15: =B15 -> 46245 | G15: =IF(F15,IF(D15,IF(D15>F15,F15+"24:00"-D15,F15-D15)-E15,""),"")
B16: =B15+1 -> 46246 | C16: =B16 -> 46246 | G16: =IF(F16,IF(D16,IF(D16>F16,F16+"24:00"-D16,F16-D16)-E16,""),"")
B17: =B16+1 -> 46247 | C17: =B17 -> 46247 | G17: =IF(F17,IF(D17,IF(D17>F17,F17+"24:00"-D17,F17-D17)-E17,""),"")
... B35: =B34+1 -> 46265 | C35: =B35 -> 46265 | G35: =IF(F35,IF(D35,IF(D35>F35,F35+"24:00"-D35,F35-D35)-E35,""),"")

Sheet September
B1: Arbeitszeittabelle
B2: Monat | D2: Sollstunden pro Monat | E2: Arbeitsstd. geleistet | F2: Reguläre Arbeitsstd. | G2: Überstunden
B3: =EDATE(August!$B$3,1) -> 46266 | D3: 3.3333333 | E3: =SUM(G5:G34) -> 0 | F3: =IFERROR(IF(E3<=D3,E3,D3),"") -> 0 | G3: =IFERROR(E3-F3, "") -> 0
B4: Datum | D4: Beginn | E4: Mittagspause | F4: Ende | G4: Arbeitsstunden
B5: =B3 -> 46266 | C5: =B5 -> 46266 | G5: =IF(F5,IF(D5,IF(D5>F5,F5+"24:00"-D5,F5-D5)-E5,""),"")
B6: =B5+1 -> 46267 | C6: =B6 -> 46267 | G6: =IF(F6,IF(D6,IF(D6>F6,F6+"24:00"-D6,F6-D6)-E6,""),"")
B7: =B6+1 -> 46268 | C7: =B7 -> 46268 | G7: =IF(F7,IF(D7,IF(D7>F7,F7+"24:00"-D7,F7-D7)-E7,""),"")
B8: =B7+1 -> 46269 | C8: =B8 -> 46269 | G8: =IF(F8,IF(D8,IF(D8>F8,F8+"24:00"-D8,F8-D8)-E8,""),"")
B9: =B8+1 -> 46270 | C9: =B9 -> 46270 | G9: =IF(F9,IF(D9,IF(D9>F9,F9+"24:00"-D9,F9-D9)-E9,""),"")
B10: =B9+1 -> 46271 | C10: =B10 -> 46271 | G10: =IF(F10,IF(D10,IF(D10>F10,F10+"24:00"-D10,F10-D10)-E10,""),"")
B11: =B10+1 -> 46272 | C11: =B11 -> 46272 | G11: =IF(F11,IF(D11,IF(D11>F11,F11+"24:00"-D11,F11-D11)-E11,""),"")
B12: =B11+1 -> 46273 | C12: =B12 -> 46273 | G12: =IF(F12,IF(D12,IF(D12>F12,F12+"24:00"-D12,F12-D12)-E12,""),"")
B13: =B12+1 -> 46274 | C13: =B13 -> 46274 | G13: =IF(F13,IF(D13,IF(D13>F13,F13+"24:00"-D13,F13-D13)-E13,""),"")
B14: =B13+1 -> 46275 | C14: =B14 -> 46275 | G14: =IF(F14,IF(D14,IF(D14>F14,F14+"24:00"-D14,F14-D14)-E14,""),"")
B15: =B14+1 -> 46276 | C15: =B15 -> 46276 | G15: =IF(F15,IF(D15,IF(D15>F15,F15+"24:00"-D15,F15-D15)-E15,""),"")
B16: =B15+1 -> 46277 | C16: =B16 -> 46277 | G16: =IF(F16,IF(D16,IF(D16>F16,F16+"24:00"-D16,F16-D16)-E16,""),"")
B17: =B16+1 -> 46278 | C17: =B17 -> 46278 | G17: =IF(F17,IF(D17,IF(D17>F17,F17+"24:00"-D17,F17-D17)-E17,""),"")
... B34: =B33+1 -> 46295 | C34: =B34 -> 46295 | G34: =IF(F34,IF(D34,IF(D34>F34,F34+"24:00"-D34,F34-D34)-E34,""),"")

Sheet Oktober
B1: Arbeitszeittabelle
B2: Monat | D2: Sollstunden pro Monat | E2: Arbeitsstd. geleistet | F2: Reguläre Arbeitsstd. | G2: Überstunden
B3: =EDATE(September!$B$3,1) -> 46296 | D3: 3.3333333 | E3: =SUM(G5:G35) -> 0 | F3: =IFERROR(IF(E3<=D3,E3,D3),"") -> 0 | G3: =IFERROR(E3-F3, "") -> 0
B4: Datum | D4: Beginn | E4: Mittagspause | F4: Ende | G4: Arbeitsstunden
B5: =B3 -> 46296 | C5: =B5 -> 46296 | G5: =IF(F5,IF(D5,IF(D5>F5,F5+"24:00"-D5,F5-D5)-E5,""),"")
B6: =B5+1 -> 46297 | C6: =B6 -> 46297 | G6: =IF(F6,IF(D6,IF(D6>F6,F6+"24:00"-D6,F6-D6)-E6,""),"")
B7: =B6+1 -> 46298 | C7: =B7 -> 46298 | G7: =IF(F7,IF(D7,IF(D7>F7,F7+"24:00"-D7,F7-D7)-E7,""),"")
B8: =B7+1 -> 46299 | C8: =B8 -> 46299 | G8: =IF(F8,IF(D8,IF(D8>F8,F8+"24:00"-D8,F8-D8)-E8,""),"")
B9: =B8+1 -> 46300 | C9: =B9 -> 46300 | G9: =IF(F9,IF(D9,IF(D9>F9,F9+"24:00"-D9,F9-D9)-E9,""),"")
B10: =B9+1 -> 46301 | C10: =B10 -> 46301 | G10: =IF(F10,IF(D10,IF(D10>F10,F10+"24:00"-D10,F10-D10)-E10,""),"")
B11: =B10+1 -> 46302 | C11: =B11 -> 46302 | G11: =IF(F11,IF(D11,IF(D11>F11,F11+"24:00"-D11,F11-D11)-E11,""),"")
B12: =B11+1 -> 46303 | C12: =B12 -> 46303 | G12: =IF(F12,IF(D12,IF(D12>F12,F12+"24:00"-D12,F12-D12)-E12,""),"")
B13: =B12+1 -> 46304 | C13: =B13 -> 46304 | G13: =IF(F13,IF(D13,IF(D13>F13,F13+"24:00"-D13,F13-D13)-E13,""),"")
B14: =B13+1 -> 46305 | C14: =B14 -> 46305 | G14: =IF(F14,IF(D14,IF(D14>F14,F14+"24:00"-D14,F14-D14)-E14,""),"")
B15: =B14+1 -> 46306 | C15: =B15 -> 46306 | G15: =IF(F15,IF(D15,IF(D15>F15,F15+"24:00"-D15,F15-D15)-E15,""),"")
B16: =B15+1 -> 46307 | C16: =B16 -> 46307 | G16: =IF(F16,IF(D16,IF(D16>F16,F16+"24:00"-D16,F16-D16)-E16,""),"")
B17: =B16+1 -> 46308 | C17: =B17 -> 46308 | G17: =IF(F17,IF(D17,IF(D17>F17,F17+"24:00"-D17,F17-D17)-E17,""),"")
... B35: =B34+1 -> 46326 | C35: =B35 -> 46326 | G35: =IF(F35,IF(D35,IF(D35>F35,F35+"24:00"-D35,F35-D35)-E35,""),"")

Sheet November
B1: Arbeitszeittabelle
B2: Monat | D2: Sollstunden pro Monat | E2: Arbeitsstd. geleistet | F2: Reguläre Arbeitsstd. | G2: Überstunden
B3: =EDATE(Oktober!$B$3,1) -> 46327 | D3: 3.3333333 | E3: =SUM(G5:G34) -> 0 | F3: =IFERROR(IF(E3<=D3,E3,D3),"") -> 0 | G3: =IFERROR(E3-F3, "") -> 0
B4: Datum | D4: Beginn | E4: Mittagspause | F4: Ende | G4: Arbeitsstunden
B5: =B3 -> 46327 | C5: =B5 -> 46327 | G5: =IF(F5,IF(D5,IF(D5>F5,F5+"24:00"-D5,F5-D5)-E5,""),"")
B6: =B5+1 -> 46328 | C6: =B6 -> 46328 | G6: =IF(F6,IF(D6,IF(D6>F6,F6+"24:00"-D6,F6-D6)-E6,""),"")
B7: =B6+1 -> 46329 | C7: =B7 -> 46329 | G7: =IF(F7,IF(D7,IF(D7>F7,F7+"24:00"-D7,F7-D7)-E7,""),"")
B8: =B7+1 -> 46330 | C8: =B8 -> 46330 | G8: =IF(F8,IF(D8,IF(D8>F8,F8+"24:00"-D8,F8-D8)-E8,""),"")
B9: =B8+1 -> 46331 | C9: =B9 -> 46331 | G9: =IF(F9,IF(D9,IF(D9>F9,F9+"24:00"-D9,F9-D9)-E9,""),"")
B10: =B9+1 -> 46332 | C10: =B10 -> 46332 | G10: =IF(F10,IF(D10,IF(D10>F10,F10+"24:00"-D10,F10-D10)-E10,""),"")
B11: =B10+1 -> 46333 | C11: =B11 -> 46333 | G11: =IF(F11,IF(D11,IF(D11>F11,F11+"24:00"-D11,F11-D11)-E11,""),"")
B12: =B11+1 -> 46334 | C12: =B12 -> 46334 | G12: =IF(F12,IF(D12,IF(D12>F12,F12+"24:00"-D12,F12-D12)-E12,""),"")
B13: =B12+1 -> 46335 | C13: =B13 -> 46335 | G13: =IF(F13,IF(D13,IF(D13>F13,F13+"24:00"-D13,F13-D13)-E13,""),"")
B14: =B13+1 -> 46336 | C14: =B14 -> 46336 | G14: =IF(F14,IF(D14,IF(D14>F14,F14+"24:00"-D14,F14-D14)-E14,""),"")
B15: =B14+1 -> 46337 | C15: =B15 -> 46337 | G15: =IF(F15,IF(D15,IF(D15>F15,F15+"24:00"-D15,F15-D15)-E15,""),"")
B16: =B15+1 -> 46338 | C16: =B16 -> 46338 | G16: =IF(F16,IF(D16,IF(D16>F16,F16+"24:00"-D16,F16-D16)-E16,""),"")
B17: =B16+1 -> 46339 | C17: =B17 -> 46339 | G17: =IF(F17,IF(D17,IF(D17>F17,F17+"24:00"-D17,F17-D17)-E17,""),"")
... B34: =B33+1 -> 46356 | C34: =B34 -> 46356 | G34: =IF(F34,IF(D34,IF(D34>F34,F34+"24:00"-D34,F34-D34)-E34,""),"")

Sheet Dezember
B1: Arbeitszeittabelle
B2: Monat | D2: Sollstunden pro Monat | E2: Arbeitsstd. geleistet | F2: Reguläre Arbeitsstd. | G2: Überstunden
B3: =EDATE(November!$B$3,1) -> 46357 | D3: 3.3333333 | E3: =SUM(G5:G35) -> 0 | F3: =IFERROR(IF(E3<=D3,E3,D3),"") -> 0 | G3: =IFERROR(E3-F3, "") -> 0
B4: Datum | D4: Beginn | E4: Mittagspause | F4: Ende | G4: Arbeitsstunden
B5: =B3 -> 46357 | C5: =B5 -> 46357 | G5: =IF(F5,IF(D5,IF(D5>F5,F5+"24:00"-D5,F5-D5)-E5,""),"")
B6: =B5+1 -> 46358 | C6: =B6 -> 46358 | G6: =IF(F6,IF(D6,IF(D6>F6,F6+"24:00"-D6,F6-D6)-E6,""),"")
B7: =B6+1 -> 46359 | C7: =B7 -> 46359 | G7: =IF(F7,IF(D7,IF(D7>F7,F7+"24:00"-D7,F7-D7)-E7,""),"")
B8: =B7+1 -> 46360 | C8: =B8 -> 46360 | G8: =IF(F8,IF(D8,IF(D8>F8,F8+"24:00"-D8,F8-D8)-E8,""),"")
B9: =B8+1 -> 46361 | C9: =B9 -> 46361 | G9: =IF(F9,IF(D9,IF(D9>F9,F9+"24:00"-D9,F9-D9)-E9,""),"")
B10: =B9+1 -> 46362 | C10: =B10 -> 46362 | G10: =IF(F10,IF(D10,IF(D10>F10,F10+"24:00"-D10,F10-D10)-E10,""),"")
B11: =B10+1 -> 46363 | C11: =B11 -> 46363 | G11: =IF(F11,IF(D11,IF(D11>F11,F11+"24:00"-D11,F11-D11)-E11,""),"")
B12: =B11+1 -> 46364 | C12: =B12 -> 46364 | G12: =IF(F12,IF(D12,IF(D12>F12,F12+"24:00"-D12,F12-D12)-E12,""),"")
B13: =B12+1 -> 46365 | C13: =B13 -> 46365 | G13: =IF(F13,IF(D13,IF(D13>F13,F13+"24:00"-D13,F13-D13)-E13,""),"")
B14: =B13+1 -> 46366 | C14: =B14 -> 46366 | G14: =IF(F14,IF(D14,IF(D14>F14,F14+"24:00"-D14,F14-D14)-E14,""),"")
B15: =B14+1 -> 46367 | C15: =B15 -> 46367 | G15: =IF(F15,IF(D15,IF(D15>F15,F15+"24:00"-D15,F15-D15)-E15,""),"")
B16: =B15+1 -> 46368 | C16: =B16 -> 46368 | G16: =IF(F16,IF(D16,IF(D16>F16,F16+"24:00"-D16,F16-D16)-E16,""),"")
B17: =B16+1 -> 46369 | C17: =B17 -> 46369 | G17: =IF(F17,IF(D17,IF(D17>F17,F17+"24:00"-D17,F17-D17)-E17,""),"")
... B35: =B34+1 -> 46387 | C35: =B35 -> 46387 | G35: =IF(F35,IF(D35,IF(D35>F35,F35+"24:00"-D35,F35-D35)-E35,""),"")

Sheet Feiertage
A1: Datum | B1: =YEAR(Januar!B3) -> 2026 | C1: Feiertag?
A2: =DATEVALUE("01.01."&$B$1) -> 46023 | B2: =IF(C2="x",A2,0) -> 46023 | C2: x | D2: Neujahr
A3: =DATEVALUE("02.01."&$B$1) -> 46024 | B3: =IF(C3="x",A3,0) -> 0 | D3: Berchtoldstag
A4: =DATEVALUE("06.01."&$B$1) -> 46028 | B4: =IF(C4="x",A4,0) -> 0 | D4: Heilige 3 Könige
A5: =A8-48 -> 46069 | B5: =IF(C5="x",A5,0) -> 46069 | C5: x | D5: Rosenmontag
A6: =A8-2 -> 46115 | B6: =IF(C6="x",A6,0) -> 46115 | C6: x | D6: Karfreitag
A7: =A8-1 -> 46116 | B7: =IF(C7="x",A7,0) -> 0 | D7: Ostersamstag
A8: =DOLLAR((DAY(MINUTE($B$1/38)/2+55) & ".4." & $B$1)/7,)*7-IF(YEAR(1)=1904,5,6) -> 46117 | B8: =IF(C8="x",A8,0) -> 46117 | C8: x | D8: Ostersonntag
A9: =A8+1 -> 46118 | B9: =IF(C9="x",A9,0) -> 46118 | C9: x | D9: Ostermontag
A10: =DATEVALUE("01.05."&$B$1) -> 46143 | B10: =IF(C10="x",A10,0) -> 46143 | C10: x | D10: Tag der Arbeit
A11: =DATE($B$1,5,1)+15-WEEKDAY(DATE($B$1,5,1)) -> 46152 | B11: =IF(C11="x",A11,0) -> 0 | D11: Muttertag
A12: =A9+39 -> 46157 | B12: =IF(C12="x",A12,0) -> 46157 | C12: x | D12: Christi Himmelfahrt
A13: =A8+48 -> 46165 | B13: =IF(C13="x",A13,0) -> 0 | D13: Pfingstsamstag
A14: =A8+49 -> 46166 | B14: =IF(C14="x",A14,0) -> 0 | D14: Pfingstsonntag
A15: =A8+50 -> 46167 | B15: =IF(C15="x",A15,0) -> 46167 | C15: x | D15: Pfingstmontag
A16: =A8+60 -> 46177 | B16: =IF(C16="x",A16,0) -> 0 | D16: Fronleichnam
A17: =DATEVALUE("01.08."&$B$1) -> 46235 | B17: =IF(C17="x",A17,0) -> 0 | D17: Nationalfeiertag (CH)
A18: =DATEVALUE("08.08."&$B$1) -> 46242 | B18: =IF(C18="x",A18,0) -> 0 | D18: Augsburger Friedensfest
A19: =DATEVALUE("15.08."&$B$1) -> 46249 | B19: =IF(C19="x",A19,0) -> 0 | D19: Mariä Himmelfahrt
A20: =DATEVALUE("20.09."&$B$1) -> 46285 | B20: =IF(C20="x",A20,0) -> 0 | D20: Weltkindertag
A21: =DATE($B$1,10,1)+7-WEEKDAY(DATE($B$1,10,1),2) -> 46299 | B21: =IF(C21="x",A21,0) -> 0 | D21: Erntedankfest
A22: =DATEVALUE("03.10."&$B$1) -> 46298 | B22: =IF(C22="x",A22,0) -> 46298 | C22: x | D22: Tag der deutschen Einheit (D)
A23: =DATEVALUE("31.10."&$B$1) -> 46326 | B23: =IF(C23="x",A23,0) -> 0 | D23: Reformationstag
A24: =DATEVALUE("01.11."&$B$1) -> 46327 | B24: =IF(C24="x",A24,0) -> 46327 | C24: x | D24: Allerheiligen
A25: =DATE($B$1,12,25)-WEEKDAY(DATE($B$1,12,25),2)-35 -> 46341 | B25: =IF(C25="x",A25,0) -> 0 | D25: Volkstrauertag
A26: =DATE($B$1,12,25)-WEEKDAY(DATE($B$1,12,25),2)-32 -> 46344 | B26: =IF(C26="x",A26,0) -> 46344 | C26: x | D26: Buß- und Bettag
A27: =DATE($B$1,12,25)-WEEKDAY(DATE($B$1,12,25),2)-28 -> 46348 | B27: =IF(C27="x",A27,0) -> 0 | D27: Totensonntag/Ewigkeitssontag
A28: =DATE($B$1,12,25)-WEEKDAY(DATE($B$1,12,25),2)-21 -> 46355 | B28: =IF(C28="x",A28,0) -> 0 | D28: 1. Advent
A29: =DATE($B$1,12,25)-WEEKDAY(DATE($B$1,12,25),2)-14 -> 46362 | B29: =IF(C29="x",A29,0) -> 0 | D29: 2. Advent
A30: =DATE($B$1,12,25)-WEEKDAY(DATE($B$1,12,25),2)-7 -> 46369 | B30: =IF(C30="x",A30,0) -> 0 | D30: 3. Advent
A31: =DATE($B$1,12,25)-WEEKDAY(DATE($B$1,12,25),2) -> 46376 | B31: =IF(C31="x",A31,0) -> 0 | D31: 4. Advent
A32: =DATEVALUE("24.12."&$B$1) -> 46380 | B32: =IF(C32="x",A32,0) -> 46380 | C32: x | D32: Heilig Abend
A33: =DATEVALUE("25.12."&$B$1) -> 46381 | B33: =IF(C33="x",A33,0) -> 46381 | C33: x | D33: 1. Weihnachtstag
A34: =DATEVALUE("26.12."&$B$1) -> 46382 | B34: =IF(C34="x",A34,0) -> 46382 | C34: x | D34: 2. Weihnachtstag
A35: =DATEVALUE("31.12."&$B$1) -> 46387 | B35: =IF(C35="x",A35,0) -> 46387 | C35: x | D35: Silvester
B36: =IF(C36="x",A36,0) -> 0
B37: =IF(C37="x",A37,0) -> 0
B38: =IF(C38="x",A38,0) -> 0
B39: =IF(C39="x",A39,0) -> 0
B40: =IF(C40="x",A40,0) -> 0
B41: =IF(C41="x",A41,0) -> 0
B42: =IF(C42="x",A42,0) -> 0
B43: =IF(C43="x",A43,0) -> 0
B44: =IF(C44="x",A44,0) -> 0
B45: =IF(C45="x",A45,0) -> 0
B46: =IF(C46="x",A46,0) -> 0
B47: =IF(C47="x",A47,0) -> 0
... B49: =IF(C49="x",A49,0) -> 0
