Workbook

Sheet Aug 26
D1: Anwesenheitsliste Klasse 1a | AC1: =DATE(Feiertage!$O$1,8,1) -> 46235
B3: Schule geschlossen | AC3: =COUNTIF(D3:AB3,"X") -> 0 | AD3: Tage geschlossen
AC4: [x] Anwesend | AD4: [e] entschuldigt | AE4: [k] krank | AF4: [u] unentschuldigt | AG4: Geburtstag | AH4: Alter
B5: KW | D5: 32 | I5: =D5+1 -> 33 | N5: =I5+1 -> 34 | S5: =N5+1 -> 35 | X5: =S5+1 -> 36
D6: =D7 -> 46237 | E6: =E7 -> 46238 | F6: =F7 -> 46239 | G6: =G7 -> 46240 | H6: =H7 -> 46241 | I6: =I7 -> 46244 | J6: =J7 -> 46245 | K6: =K7 -> 46246 | ... AB6: =AB7 -> 46269
B7: Name | C7: Vorname | D7: =DATE(Feiertage!$O$1,1,1)+(D5-IF(WEEKDAY(DATE(Feiertage!$O$1,1,1),2)>4,0,1))*7+1-1+1-WEEKDAY(DATE(Feiertage!$O$1,1,1)+(D5-IF(WEEKDAY(DATE(Feiertage!$O$1,1,1),2)>4,0,1))*7,2) -> 46237 | E7: =D7+1 -> 46238 | F7: =E7+1 -> 46239 | G7: =F7+1 -> 46240 | H7: =G7+1 -> 46241 | I7: =DATE(Feiertage!$O$1,1,1)+(I5-IF(WEEKDAY(DATE(Feiertage!$O$1,1,1),2)>4,0,1))*7+1-1+1-WEEKDAY(DATE(Feiertage!$O$1,1,1)+(I5-IF(WEEKDAY(DATE(Feiertage!$O$1,1,1),2)>4,0,1))*7,2) -> 46244 | J7: =I7+1 -> 46245 | K7: =J7+1 -> 46246 | L7: =K7+1 -> 46247 | M7: =L7+1 -> 46248 | N7: =DATE(Feiertage!$O$1,1,1)+(N5-IF(WEEKDAY(DATE(Feiertage!$O$1,1,1),2)>4,0,1))*7+1-1+1-WEEKDAY(DATE(Feiertage!$O$1,1,1)+(N5-IF(WEEKDAY(DATE(Feiertage!$O$1,1,1),2)>4,0,1))*7,2) -> 46251 | O7: =N7+1 -> 46252 | P7: =O7+1 -> 46253 | Q7: =P7+1 -> 46254 | R7: =Q7+1 -> 46255 | S7: =DATE(Feiertage!$O$1,1,1)+(S5-IF(WEEKDAY(DATE(Feiertage!$O$1,1,1),2)>4,0,1))*7+1-1+1-WEEKDAY(DATE(Feiertage!$O$1,1,1)+(S5-IF(WEEKDAY(DATE(Feiertage!$O$1,1,1),2)>4,0,1))*7,2) -> 46258 | T7: =S7+1 -> 46259 | U7: =T7+1 -> 46260 | V7: =U7+1 -> 46261 | W7: =V7+1 -> 46262 | X7: =DATE(Feiertage!$O$1,1,1)+(X5-IF(WEEKDAY(DATE(Feiertage!$O$1,1,1),2)>4,0,1))*7+1-1+1-WEEKDAY(DATE(Feiertage!$O$1,1,1)+(X5-IF(WEEKDAY(DATE(Feiertage!$O$1,1,1),2)>4,0,1))*7,2) -> 46265 | Y7: =X7+1 -> 46266 | Z7: =Y7+1 -> 46267 | AA7: =Z7+1 -> 46268 | AB7: =AA7+1 -> 46269
A8: 1 | B8: Schmidt | C8: Julia | AC8: =COUNTIF(D8:AB8,"X") -> 0 | AD8: =COUNTIF(D8:AB8,"e") -> 0 | AE8: =COUNTIF(D8:AB8,"k") -> 0 | AF8: =COUNTIF(D8:AB8,"u") -> 0 | AG8: 42970 | AH8: =IF(AG8="","",DATEDIF(AG8,TODAY(),"Y")) -> 9
A9: 2 | B9: Muster | C9: Markus | J9: x | K9: x | L9: x | M9: x | N9: x | O9: x | P9: x | AC9: =COUNTIF(D9:AB9,"X") -> 7 | AD9: =COUNTIF(D9:AB9,"e") -> 0 | AE9: =COUNTIF(D9:AB9,"k") -> 0 | AF9: =COUNTIF(D9:AB9,"u") -> 0 | AG9: 41958 | AH9: =IF(AG9="","",DATEDIF(AG9,TODAY(),"Y")) -> 11
A10: 3 | B10: Name 3 | C10: Vorname 3 | O10: e | P10: e | Q10: e | S10: x | T10: x | U10: x | V10: x | W10: u | X10: u | Y10: u | Z10: k | AA10: k | AB10: k | AC10: =COUNTIF(D10:AB10,"X") -> 4 | AD10: =COUNTIF(D10:AB10,"e") -> 3 | AE10: =COUNTIF(D10:AB10,"k") -> 3 | AF10: =COUNTIF(D10:AB10,"u") -> 3 | AG10: 42590 | AH10: =IF(AG10="","",DATEDIF(AG10,TODAY(),"Y")) -> 10
A11: 4 | B11: Name 4 | C11: Vorname 4 | AC11: =COUNTIF(D11:AB11,"X") -> 0 | AD11: =COUNTIF(D11:AB11,"e") -> 0 | AE11: =COUNTIF(D11:AB11,"k") -> 0 | AF11: =COUNTIF(D11:AB11,"u") -> 0 | AH11: =IF(AG11="","",DATEDIF(AG11,TODAY(),"Y"))
A12: 5 | B12: Name 5 | C12: Vorname 5 | J12: x | K12: x | L12: x | M12: k | N12: k | O12: x | P12: x | Q12: k | S12: k | T12: k | U12: k | V12: k | W12: k | AC12: =COUNTIF(D12:AB12,"X") -> 5 | AD12: =COUNTIF(D12:AB12,"e") -> 0 | AE12: =COUNTIF(D12:AB12,"k") -> 8 | AF12: =COUNTIF(D12:AB12,"u") -> 0 | AH12: =IF(AG12="","",DATEDIF(AG12,TODAY(),"Y"))
A13: 6 | B13: Name 6 | C13: Vorname 6 | AC13: =COUNTIF(D13:AB13,"X") -> 0 | AD13: =COUNTIF(D13:AB13,"e") -> 0 | AE13: =COUNTIF(D13:AB13,"k") -> 0 | AF13: =COUNTIF(D13:AB13,"u") -> 0 | AH13: =IF(AG13="","",DATEDIF(AG13,TODAY(),"Y"))
A14: 7 | B14: Max | C14: Mustermann | AC14: =COUNTIF(D14:AB14,"X") -> 0 | AD14: =COUNTIF(D14:AB14,"e") -> 0 | AE14: =COUNTIF(D14:AB14,"k") -> 0 | AF14: =COUNTIF(D14:AB14,"u") -> 0 | AH14: =IF(AG14="","",DATEDIF(AG14,TODAY(),"Y"))
A15: 8 | B15: Name 8 | C15: Vorname 8 | AC15: =COUNTIF(D15:AB15,"X") -> 0 | AD15: =COUNTIF(D15:AB15,"e") -> 0 | AE15: =COUNTIF(D15:AB15,"k") -> 0 | AF15: =COUNTIF(D15:AB15,"u") -> 0 | AH15: =IF(AG15="","",DATEDIF(AG15,TODAY(),"Y"))
A16: 9 | B16: Name 9 | C16: Vorname 9 | AC16: =COUNTIF(D16:AB16,"X") -> 0 | AD16: =COUNTIF(D16:AB16,"e") -> 0 | AE16: =COUNTIF(D16:AB16,"k") -> 0 | AF16: =COUNTIF(D16:AB16,"u") -> 0 | AH16: =IF(AG16="","",DATEDIF(AG16,TODAY(),"Y"))
A17: 10 | B17: Name 10 | C17: Vorname 10 | AC17: =COUNTIF(D17:AB17,"X") -> 0 | AD17: =COUNTIF(D17:AB17,"e") -> 0 | AE17: =COUNTIF(D17:AB17,"k") -> 0 | AF17: =COUNTIF(D17:AB17,"u") -> 0 | AH17: =IF(AG17="","",DATEDIF(AG17,TODAY(),"Y"))
A18: 11 | B18: Name 11 | C18: Vorname 11 | AC18: =COUNTIF(D18:AB18,"X") -> 0 | AD18: =COUNTIF(D18:AB18,"e") -> 0 | AE18: =COUNTIF(D18:AB18,"k") -> 0 | AF18: =COUNTIF(D18:AB18,"u") -> 0 | AH18: =IF(AG18="","",DATEDIF(AG18,TODAY(),"Y"))
A19: 12 | B19: Name 12 | C19: Vorname 12 | AC19: =COUNTIF(D19:AB19,"X") -> 0 | AD19: =COUNTIF(D19:AB19,"e") -> 0 | AE19: =COUNTIF(D19:AB19,"k") -> 0 | AF19: =COUNTIF(D19:AB19,"u") -> 0 | AH19: =IF(AG19="","",DATEDIF(AG19,TODAY(),"Y"))
A20: 13 | B20: Name 13 | C20: Vorname 13 | AC20: =COUNTIF(D20:AB20,"X") -> 0 | AD20: =COUNTIF(D20:AB20,"e") -> 0 | AE20: =COUNTIF(D20:AB20,"k") -> 0 | AF20: =COUNTIF(D20:AB20,"u") -> 0 | AH20: =IF(AG20="","",DATEDIF(AG20,TODAY(),"Y"))
A21: 14 | B21: Name 14 | C21: Vorname 14 | AC21: =COUNTIF(D21:AB21,"X") -> 0 | AD21: =COUNTIF(D21:AB21,"e") -> 0 | AE21: =COUNTIF(D21:AB21,"k") -> 0 | AF21: =COUNTIF(D21:AB21,"u") -> 0 | AH21: =IF(AG21="","",DATEDIF(AG21,TODAY(),"Y"))
A22: 15 | B22: Name 15 | C22: Vorname 15 | AC22: =COUNTIF(D22:AB22,"X") -> 0 | AD22: =COUNTIF(D22:AB22,"e") -> 0 | AE22: =COUNTIF(D22:AB22,"k") -> 0 | AF22: =COUNTIF(D22:AB22,"u") -> 0 | AH22: =IF(AG22="","",DATEDIF(AG22,TODAY(),"Y"))
A23: 16 | B23: Name 16 | C23: Vorname 16 | AC23: =COUNTIF(D23:AB23,"X") -> 0 | AD23: =COUNTIF(D23:AB23,"e") -> 0 | AE23: =COUNTIF(D23:AB23,"k") -> 0 | AF23: =COUNTIF(D23:AB23,"u") -> 0 | AH23: =IF(AG23="","",DATEDIF(AG23,TODAY(),"Y"))
A24: 17 | B24: Name 17 | C24: Vorname 17 | AC24: =COUNTIF(D24:AB24,"X") -> 0 | AD24: =COUNTIF(D24:AB24,"e") -> 0 | AE24: =COUNTIF(D24:AB24,"k") -> 0 | AF24: =COUNTIF(D24:AB24,"u") -> 0 | AH24: =IF(AG24="","",DATEDIF(AG24,TODAY(),"Y"))
... A42: 35 | B42: Name 35 | C42: Vorname 35 | AC42: =COUNTIF(D42:AB42,"X") -> 0 | AD42: =COUNTIF(D42:AB42,"e") -> 0 | AE42: =COUNTIF(D42:AB42,"k") -> 0 | AF42: =COUNTIF(D42:AB42,"u") -> 0 | AH42: =IF(AG42="","",DATEDIF(AG42,TODAY(),"Y"))
B43: [X] Anwesend | D43: =COUNTIF(D8:D42,"X") -> 0 | E43: =COUNTIF(E8:E42,"X") -> 0 | F43: =COUNTIF(F8:F42,"X") -> 0 | G43: =COUNTIF(G8:G42,"X") -> 0 | H43: =COUNTIF(H8:H42,"X") -> 0 | I43: =COUNTIF(I8:I42,"X") -> 0 | J43: =COUNTIF(J8:J42,"X") -> 2 | K43: =COUNTIF(K8:K42,"X") -> 2 | ... AB43: =COUNTIF(AB8:AB42,"X") -> 0
B44: [e] entschuldigt | D44: =COUNTIF(D8:D42,"e") -> 0 | E44: =COUNTIF(E8:E42,"e") -> 0 | F44: =COUNTIF(F8:F42,"e") -> 0 | G44: =COUNTIF(G8:G42,"e") -> 0 | H44: =COUNTIF(H8:H42,"e") -> 0 | I44: =COUNTIF(I8:I42,"e") -> 0 | J44: =COUNTIF(J8:J42,"e") -> 0 | K44: =COUNTIF(K8:K42,"e") -> 0 | ... AB44: =COUNTIF(AB8:AB42,"e") -> 0
B45: [k] krank | D45: =COUNTIF(D8:D42,"k") -> 0 | E45: =COUNTIF(E8:E42,"k") -> 0 | F45: =COUNTIF(F8:F42,"k") -> 0 | G45: =COUNTIF(G8:G42,"k") -> 0 | H45: =COUNTIF(H8:H42,"k") -> 0 | I45: =COUNTIF(I8:I42,"k") -> 0 | J45: =COUNTIF(J8:J42,"k") -> 0 | K45: =COUNTIF(K8:K42,"k") -> 0 | ... AB45: =COUNTIF(AB8:AB42,"k") -> 1
B46: [u] unentschuldigt | D46: =COUNTIF(D8:D42,"u") -> 0 | E46: =COUNTIF(E8:E42,"u") -> 0 | F46: =COUNTIF(F8:F42,"u") -> 0 | G46: =COUNTIF(G8:G42,"u") -> 0 | H46: =COUNTIF(H8:H42,"u") -> 0 | I46: =COUNTIF(I8:I42,"u") -> 0 | J46: =COUNTIF(J8:J42,"u") -> 0 | K46: =COUNTIF(K8:K42,"u") -> 0 | ... AB46: =COUNTIF(AB8:AB42,"u") -> 0

Sheet Sep 26
D1: ='Aug 26'!$D$1 -> Anwesenheitsliste Klasse 1a | AC1: =DATE(Feiertage!$O$1,9,1) -> 46266
B3: Schule geschlossen | AC3: =COUNTIF(D3:AB3,"X") -> 0 | AD3: Tage geschlossen
AC4: [x] Anwesend | AD4: [e] entschuldigt | AE4: [k] krank | AF4: [u] unentschuldigt | AG4: Geburtstag | AH4: Alter
B5: KW | D5: 36 | I5: =D5+1 -> 37 | N5: =I5+1 -> 38 | S5: =N5+1 -> 39 | X5: =S5+1 -> 40
D6: =D7 -> 46265 | E6: =E7 -> 46266 | F6: =F7 -> 46267 | G6: =G7 -> 46268 | H6: =H7 -> 46269 | I6: =I7 -> 46272 | J6: =J7 -> 46273 | K6: =K7 -> 46274 | ... AB6: =AB7 -> 46297
B7: Name | C7: Vorname | D7: =DATE(Feiertage!$O$1,1,1)+(D5-IF(WEEKDAY(DATE(Feiertage!$O$1,1,1),2)>4,0,1))*7+1-1+1-WEEKDAY(DATE(Feiertage!$O$1,1,1)+(D5-IF(WEEKDAY(DATE(Feiertage!$O$1,1,1),2)>4,0,1))*7,2) -> 46265 | E7: =D7+1 -> 46266 | F7: =E7+1 -> 46267 | G7: =F7+1 -> 46268 | H7: =G7+1 -> 46269 | I7: =DATE(Feiertage!$O$1,1,1)+(I5-IF(WEEKDAY(DATE(Feiertage!$O$1,1,1),2)>4,0,1))*7+1-1+1-WEEKDAY(DATE(Feiertage!$O$1,1,1)+(I5-IF(WEEKDAY(DATE(Feiertage!$O$1,1,1),2)>4,0,1))*7,2) -> 46272 | J7: =I7+1 -> 46273 | K7: =J7+1 -> 46274 | L7: =K7+1 -> 46275 | M7: =L7+1 -> 46276 | N7: =DATE(Feiertage!$O$1,1,1)+(N5-IF(WEEKDAY(DATE(Feiertage!$O$1,1,1),2)>4,0,1))*7+1-1+1-WEEKDAY(DATE(Feiertage!$O$1,1,1)+(N5-IF(WEEKDAY(DATE(Feiertage!$O$1,1,1),2)>4,0,1))*7,2) -> 46279 | O7: =N7+1 -> 46280 | P7: =O7+1 -> 46281 | Q7: =P7+1 -> 46282 | R7: =Q7+1 -> 46283 | S7: =DATE(Feiertage!$O$1,1,1)+(S5-IF(WEEKDAY(DATE(Feiertage!$O$1,1,1),2)>4,0,1))*7+1-1+1-WEEKDAY(DATE(Feiertage!$O$1,1,1)+(S5-IF(WEEKDAY(DATE(Feiertage!$O$1,1,1),2)>4,0,1))*7,2) -> 46286 | T7: =S7+1 -> 46287 | U7: =T7+1 -> 46288 | V7: =U7+1 -> 46289 | W7: =V7+1 -> 46290 | X7: =DATE(Feiertage!$O$1,1,1)+(X5-IF(WEEKDAY(DATE(Feiertage!$O$1,1,1),2)>4,0,1))*7+1-1+1-WEEKDAY(DATE(Feiertage!$O$1,1,1)+(X5-IF(WEEKDAY(DATE(Feiertage!$O$1,1,1),2)>4,0,1))*7,2) -> 46293 | Y7: =X7+1 -> 46294 | Z7: =Y7+1 -> 46295 | AA7: =Z7+1 -> 46296 | AB7: =AA7+1 -> 46297
A8: 1 | B8: =IF('Aug 26'!B8="","",'Aug 26'!B8) -> Schmidt | C8: =IF('Aug 26'!C8="","",'Aug 26'!C8) -> Julia | AC8: =COUNTIF(D8:AB8,"X") -> 0 | AD8: =COUNTIF(D8:AB8,"e") -> 0 | AE8: =COUNTIF(D8:AB8,"k") -> 0 | AF8: =COUNTIF(D8:AB8,"u") -> 0 | AG8: =IF('Aug 26'!AG8="","",'Aug 26'!AG8) -> 42970 | AH8: =IF(AG8="","",DATEDIF(AG8,TODAY(),"Y")) -> 9
A9: 2 | B9: =IF('Aug 26'!B9="","",'Aug 26'!B9) -> Muster | C9: =IF('Aug 26'!C9="","",'Aug 26'!C9) -> Markus | AC9: =COUNTIF(D9:AB9,"X") -> 0 | AD9: =COUNTIF(D9:AB9,"e") -> 0 | AE9: =COUNTIF(D9:AB9,"k") -> 0 | AF9: =COUNTIF(D9:AB9,"u") -> 0 | AG9: =IF('Aug 26'!AG9="","",'Aug 26'!AG9) -> 41958 | AH9: =IF(AG9="","",DATEDIF(AG9,TODAY(),"Y")) -> 11
A10: 3 | B10: =IF('Aug 26'!B10="","",'Aug 26'!B10) -> Name 3 | C10: =IF('Aug 26'!C10="","",'Aug 26'!C10) -> Vorname 3 | AC10: =COUNTIF(D10:AB10,"X") -> 0 | AD10: =COUNTIF(D10:AB10,"e") -> 0 | AE10: =COUNTIF(D10:AB10,"k") -> 0 | AF10: =COUNTIF(D10:AB10,"u") -> 0 | AG10: =IF('Aug 26'!AG10="","",'Aug 26'!AG10) -> 42590 | AH10: =IF(AG10="","",DATEDIF(AG10,TODAY(),"Y")) -> 10
A11: 4 | B11: =IF('Aug 26'!B11="","",'Aug 26'!B11) -> Name 4 | C11: =IF('Aug 26'!C11="","",'Aug 26'!C11) -> Vorname 4 | AC11: =COUNTIF(D11:AB11,"X") -> 0 | AD11: =COUNTIF(D11:AB11,"e") -> 0 | AE11: =COUNTIF(D11:AB11,"k") -> 0 | AF11: =COUNTIF(D11:AB11,"u") -> 0 | AG11: =IF('Aug 26'!AG11="","",'Aug 26'!AG11) | AH11: =IF(AG11="","",DATEDIF(AG11,TODAY(),"Y"))
A12: 5 | B12: =IF('Aug 26'!B12="","",'Aug 26'!B12) -> Name 5 | C12: =IF('Aug 26'!C12="","",'Aug 26'!C12) -> Vorname 5 | AC12: =COUNTIF(D12:AB12,"X") -> 0 | AD12: =COUNTIF(D12:AB12,"e") -> 0 | AE12: =COUNTIF(D12:AB12,"k") -> 0 | AF12: =COUNTIF(D12:AB12,"u") -> 0 | AG12: =IF('Aug 26'!AG12="","",'Aug 26'!AG12) | AH12: =IF(AG12="","",DATEDIF(AG12,TODAY(),"Y"))
A13: 6 | B13: =IF('Aug 26'!B13="","",'Aug 26'!B13) -> Name 6 | C13: =IF('Aug 26'!C13="","",'Aug 26'!C13) -> Vorname 6 | AC13: =COUNTIF(D13:AB13,"X") -> 0 | AD13: =COUNTIF(D13:AB13,"e") -> 0 | AE13: =COUNTIF(D13:AB13,"k") -> 0 | AF13: =COUNTIF(D13:AB13,"u") -> 0 | AG13: =IF('Aug 26'!AG13="","",'Aug 26'!AG13) | AH13: =IF(AG13="","",DATEDIF(AG13,TODAY(),"Y"))
A14: 7 | B14: =IF('Aug 26'!B14="","",'Aug 26'!B14) -> Max | C14: =IF('Aug 26'!C14="","",'Aug 26'!C14) -> Mustermann | AC14: =COUNTIF(D14:AB14,"X") -> 0 | AD14: =COUNTIF(D14:AB14,"e") -> 0 | AE14: =COUNTIF(D14:AB14,"k") -> 0 | AF14: =COUNTIF(D14:AB14,"u") -> 0 | AG14: =IF('Aug 26'!AG14="","",'Aug 26'!AG14) | AH14: =IF(AG14="","",DATEDIF(AG14,TODAY(),"Y"))
A15: 8 | B15: =IF('Aug 26'!B15="","",'Aug 26'!B15) -> Name 8 | C15: =IF('Aug 26'!C15="","",'Aug 26'!C15) -> Vorname 8 | AC15: =COUNTIF(D15:AB15,"X") -> 0 | AD15: =COUNTIF(D15:AB15,"e") -> 0 | AE15: =COUNTIF(D15:AB15,"k") -> 0 | AF15: =COUNTIF(D15:AB15,"u") -> 0 | AG15: =IF('Aug 26'!AG15="","",'Aug 26'!AG15) | AH15: =IF(AG15="","",DATEDIF(AG15,TODAY(),"Y"))
A16: 9 | B16: =IF('Aug 26'!B16="","",'Aug 26'!B16) -> Name 9 | C16: =IF('Aug 26'!C16="","",'Aug 26'!C16) -> Vorname 9 | AC16: =COUNTIF(D16:AB16,"X") -> 0 | AD16: =COUNTIF(D16:AB16,"e") -> 0 | AE16: =COUNTIF(D16:AB16,"k") -> 0 | AF16: =COUNTIF(D16:AB16,"u") -> 0 | AG16: =IF('Aug 26'!AG16="","",'Aug 26'!AG16) | AH16: =IF(AG16="","",DATEDIF(AG16,TODAY(),"Y"))
A17: 10 | B17: =IF('Aug 26'!B17="","",'Aug 26'!B17) -> Name 10 | C17: =IF('Aug 26'!C17="","",'Aug 26'!C17) -> Vorname 10 | AC17: =COUNTIF(D17:AB17,"X") -> 0 | AD17: =COUNTIF(D17:AB17,"e") -> 0 | AE17: =COUNTIF(D17:AB17,"k") -> 0 | AF17: =COUNTIF(D17:AB17,"u") -> 0 | AG17: =IF('Aug 26'!AG17="","",'Aug 26'!AG17) | AH17: =IF(AG17="","",DATEDIF(AG17,TODAY(),"Y"))
A18: 11 | B18: =IF('Aug 26'!B18="","",'Aug 26'!B18) -> Name 11 | C18: =IF('Aug 26'!C18="","",'Aug 26'!C18) -> Vorname 11 | AC18: =COUNTIF(D18:AB18,"X") -> 0 | AD18: =COUNTIF(D18:AB18,"e") -> 0 | AE18: =COUNTIF(D18:AB18,"k") -> 0 | AF18: =COUNTIF(D18:AB18,"u") -> 0 | AG18: =IF('Aug 26'!AG18="","",'Aug 26'!AG18) | AH18: =IF(AG18="","",DATEDIF(AG18,TODAY(),"Y"))
A19: 12 | B19: =IF('Aug 26'!B19="","",'Aug 26'!B19) -> Name 12 | C19: =IF('Aug 26'!C19="","",'Aug 26'!C19) -> Vorname 12 | AC19: =COUNTIF(D19:AB19,"X") -> 0 | AD19: =COUNTIF(D19:AB19,"e") -> 0 | AE19: =COUNTIF(D19:AB19,"k") -> 0 | AF19: =COUNTIF(D19:AB19,"u") -> 0 | AG19: =IF('Aug 26'!AG19="","",'Aug 26'!AG19) | AH19: =IF(AG19="","",DATEDIF(AG19,TODAY(),"Y"))
... A42: 35 | B42: =IF('Aug 26'!B42="","",'Aug 26'!B42) -> Name 35 | C42: =IF('Aug 26'!C42="","",'Aug 26'!C42) -> Vorname 35 | AC42: =COUNTIF(D42:AB42,"X") -> 0 | AD42: =COUNTIF(D42:AB42,"e") -> 0 | AE42: =COUNTIF(D42:AB42,"k") -> 0 | AF42: =COUNTIF(D42:AB42,"u") -> 0 | AG42: =IF('Aug 26'!AG42="","",'Aug 26'!AG42) | AH42: =IF(AG42="","",DATEDIF(AG42,TODAY(),"Y"))
B43: [X] Anwesend | D43: =COUNTIF(D8:D42,"X") -> 0 | E43: =COUNTIF(E8:E42,"X") -> 0 | F43: =COUNTIF(F8:F42,"X") -> 0 | G43: =COUNTIF(G8:G42,"X") -> 0 | H43: =COUNTIF(H8:H42,"X") -> 0 | I43: =COUNTIF(I8:I42,"X") -> 0 | J43: =COUNTIF(J8:J42,"X") -> 0 | K43: =COUNTIF(K8:K42,"X") -> 0 | ... AB43: =COUNTIF(AB8:AB42,"X") -> 0
B44: [e] entschuldigt | D44: =COUNTIF(D8:D42,"e") -> 0 | E44: =COUNTIF(E8:E42,"e") -> 0 | F44: =COUNTIF(F8:F42,"e") -> 0 | G44: =COUNTIF(G8:G42,"e") -> 0 | H44: =COUNTIF(H8:H42,"e") -> 0 | I44: =COUNTIF(I8:I42,"e") -> 0 | J44: =COUNTIF(J8:J42,"e") -> 0 | K44: =COUNTIF(K8:K42,"e") -> 0 | ... AB44: =COUNTIF(AB8:AB42,"e") -> 0
B45: [k] krank | D45: =COUNTIF(D8:D42,"k") -> 0 | E45: =COUNTIF(E8:E42,"k") -> 0 | F45: =COUNTIF(F8:F42,"k") -> 0 | G45: =COUNTIF(G8:G42,"k") -> 0 | H45: =COUNTIF(H8:H42,"k") -> 0 | I45: =COUNTIF(I8:I42,"k") -> 0 | J45: =COUNTIF(J8:J42,"k") -> 0 | K45: =COUNTIF(K8:K42,"k") -> 0 | ... AB45: =COUNTIF(AB8:AB42,"k") -> 0
B46: [u] unentschuldigt | D46: =COUNTIF(D8:D42,"u") -> 0 | E46: =COUNTIF(E8:E42,"u") -> 0 | F46: =COUNTIF(F8:F42,"u") -> 0 | G46: =COUNTIF(G8:G42,"u") -> 0 | H46: =COUNTIF(H8:H42,"u") -> 0 | I46: =COUNTIF(I8:I42,"u") -> 0 | J46: =COUNTIF(J8:J42,"u") -> 0 | K46: =COUNTIF(K8:K42,"u") -> 0 | ... AB46: =COUNTIF(AB8:AB42,"u") -> 0

Sheet Okt 26
D1: ='Aug 26'!$D$1 -> Anwesenheitsliste Klasse 1a | AC1: =DATE(Feiertage!$O$1,10,1) -> 46296
B3: Schule geschlossen | AC3: =COUNTIF(D3:AB3,"X") -> 0 | AD3: Tage geschlossen
AC4: [x] Anwesend | AD4: [e] entschuldigt | AE4: [k] krank | AF4: [u] unentschuldigt | AG4: Geburtstag | AH4: Alter
B5: KW | D5: 40 | I5: =D5+1 -> 41 | N5: =I5+1 -> 42 | S5: =N5+1 -> 43 | X5: =S5+1 -> 44
D6: =D7 -> 46293 | E6: =E7 -> 46294 | F6: =F7 -> 46295 | G6: =G7 -> 46296 | H6: =H7 -> 46297 | I6: =I7 -> 46300 | J6: =J7 -> 46301 | K6: =K7 -> 46302 | ... AB6: =AB7 -> 46325
B7: Name | C7: Vorname | D7: =DATE(Feiertage!$O$1,1,1)+(D5-IF(WEEKDAY(DATE(Feiertage!$O$1,1,1),2)>4,0,1))*7+1-1+1-WEEKDAY(DATE(Feiertage!$O$1,1,1)+(D5-IF(WEEKDAY(DATE(Feiertage!$O$1,1,1),2)>4,0,1))*7,2) -> 46293 | E7: =D7+1 -> 46294 | F7: =E7+1 -> 46295 | G7: =F7+1 -> 46296 | H7: =G7+1 -> 46297 | I7: =DATE(Feiertage!$O$1,1,1)+(I5-IF(WEEKDAY(DATE(Feiertage!$O$1,1,1),2)>4,0,1))*7+1-1+1-WEEKDAY(DATE(Feiertage!$O$1,1,1)+(I5-IF(WEEKDAY(DATE(Feiertage!$O$1,1,1),2)>4,0,1))*7,2) -> 46300 | J7: =I7+1 -> 46301 | K7: =J7+1 -> 46302 | L7: =K7+1 -> 46303 | M7: =L7+1 -> 46304 | N7: =DATE(Feiertage!$O$1,1,1)+(N5-IF(WEEKDAY(DATE(Feiertage!$O$1,1,1),2)>4,0,1))*7+1-1+1-WEEKDAY(DATE(Feiertage!$O$1,1,1)+(N5-IF(WEEKDAY(DATE(Feiertage!$O$1,1,1),2)>4,0,1))*7,2) -> 46307 | O7: =N7+1 -> 46308 | P7: =O7+1 -> 46309 | Q7: =P7+1 -> 46310 | R7: =Q7+1 -> 46311 | S7: =DATE(Feiertage!$O$1,1,1)+(S5-IF(WEEKDAY(DATE(Feiertage!$O$1,1,1),2)>4,0,1))*7+1-1+1-WEEKDAY(DATE(Feiertage!$O$1,1,1)+(S5-IF(WEEKDAY(DATE(Feiertage!$O$1,1,1),2)>4,0,1))*7,2) -> 46314 | T7: =S7+1 -> 46315 | U7: =T7+1 -> 46316 | V7: =U7+1 -> 46317 | W7: =V7+1 -> 46318 | X7: =DATE(Feiertage!$O$1,1,1)+(X5-IF(WEEKDAY(DATE(Feiertage!$O$1,1,1),2)>4,0,1))*7+1-1+1-WEEKDAY(DATE(Feiertage!$O$1,1,1)+(X5-IF(WEEKDAY(DATE(Feiertage!$O$1,1,1),2)>4,0,1))*7,2) -> 46321 | Y7: =X7+1 -> 46322 | Z7: =Y7+1 -> 46323 | AA7: =Z7+1 -> 46324 | AB7: =AA7+1 -> 46325
A8: 1 | B8: =IF('Sep 26'!B8="","",'Sep 26'!B8) -> Schmidt | C8: =IF('Sep 26'!C8="","",'Sep 26'!C8) -> Julia | AC8: =COUNTIF(D8:AB8,"X") -> 0 | AD8: =COUNTIF(D8:AB8,"e") -> 0 | AE8: =COUNTIF(D8:AB8,"k") -> 0 | AF8: =COUNTIF(D8:AB8,"u") -> 0 | AG8: =IF('Sep 26'!AG8="","",'Sep 26'!AG8) -> 42970 | AH8: =IF(AG8="","",DATEDIF(AG8,TODAY(),"Y")) -> 9
A9: 2 | B9: =IF('Sep 26'!B9="","",'Sep 26'!B9) -> Muster | C9: =IF('Sep 26'!C9="","",'Sep 26'!C9) -> Markus | AC9: =COUNTIF(D9:AB9,"X") -> 0 | AD9: =COUNTIF(D9:AB9,"e") -> 0 | AE9: =COUNTIF(D9:AB9,"k") -> 0 | AF9: =COUNTIF(D9:AB9,"u") -> 0 | AG9: =IF('Sep 26'!AG9="","",'Sep 26'!AG9) -> 41958 | AH9: =IF(AG9="","",DATEDIF(AG9,TODAY(),"Y")) -> 11
A10: 3 | B10: =IF('Sep 26'!B10="","",'Sep 26'!B10) -> Name 3 | C10: =IF('Sep 26'!C10="","",'Sep 26'!C10) -> Vorname 3 | AC10: =COUNTIF(D10:AB10,"X") -> 0 | AD10: =COUNTIF(D10:AB10,"e") -> 0 | AE10: =COUNTIF(D10:AB10,"k") -> 0 | AF10: =COUNTIF(D10:AB10,"u") -> 0 | AG10: =IF('Sep 26'!AG10="","",'Sep 26'!AG10) -> 42590 | AH10: =IF(AG10="","",DATEDIF(AG10,TODAY(),"Y")) -> 10
A11: 4 | B11: =IF('Sep 26'!B11="","",'Sep 26'!B11) -> Name 4 | C11: =IF('Sep 26'!C11="","",'Sep 26'!C11) -> Vorname 4 | AC11: =COUNTIF(D11:AB11,"X") -> 0 | AD11: =COUNTIF(D11:AB11,"e") -> 0 | AE11: =COUNTIF(D11:AB11,"k") -> 0 | AF11: =COUNTIF(D11:AB11,"u") -> 0 | AG11: =IF('Sep 26'!AG11="","",'Sep 26'!AG11) | AH11: =IF(AG11="","",DATEDIF(AG11,TODAY(),"Y"))
A12: 5 | B12: =IF('Sep 26'!B12="","",'Sep 26'!B12) -> Name 5 | C12: =IF('Sep 26'!C12="","",'Sep 26'!C12) -> Vorname 5 | AC12: =COUNTIF(D12:AB12,"X") -> 0 | AD12: =COUNTIF(D12:AB12,"e") -> 0 | AE12: =COUNTIF(D12:AB12,"k") -> 0 | AF12: =COUNTIF(D12:AB12,"u") -> 0 | AG12: =IF('Sep 26'!AG12="","",'Sep 26'!AG12) | AH12: =IF(AG12="","",DATEDIF(AG12,TODAY(),"Y"))
A13: 6 | B13: =IF('Sep 26'!B13="","",'Sep 26'!B13) -> Name 6 | C13: =IF('Sep 26'!C13="","",'Sep 26'!C13) -> Vorname 6 | AC13: =COUNTIF(D13:AB13,"X") -> 0 | AD13: =COUNTIF(D13:AB13,"e") -> 0 | AE13: =COUNTIF(D13:AB13,"k") -> 0 | AF13: =COUNTIF(D13:AB13,"u") -> 0 | AG13: =IF('Sep 26'!AG13="","",'Sep 26'!AG13) | AH13: =IF(AG13="","",DATEDIF(AG13,TODAY(),"Y"))
A14: 7 | B14: =IF('Sep 26'!B14="","",'Sep 26'!B14) -> Max | C14: =IF('Sep 26'!C14="","",'Sep 26'!C14) -> Mustermann | AC14: =COUNTIF(D14:AB14,"X") -> 0 | AD14: =COUNTIF(D14:AB14,"e") -> 0 | AE14: =COUNTIF(D14:AB14,"k") -> 0 | AF14: =COUNTIF(D14:AB14,"u") -> 0 | AG14: =IF('Sep 26'!AG14="","",'Sep 26'!AG14) | AH14: =IF(AG14="","",DATEDIF(AG14,TODAY(),"Y"))
A15: 8 | B15: =IF('Sep 26'!B15="","",'Sep 26'!B15) -> Name 8 | C15: =IF('Sep 26'!C15="","",'Sep 26'!C15) -> Vorname 8 | AC15: =COUNTIF(D15:AB15,"X") -> 0 | AD15: =COUNTIF(D15:AB15,"e") -> 0 | AE15: =COUNTIF(D15:AB15,"k") -> 0 | AF15: =COUNTIF(D15:AB15,"u") -> 0 | AG15: =IF('Sep 26'!AG15="","",'Sep 26'!AG15) | AH15: =IF(AG15="","",DATEDIF(AG15,TODAY(),"Y"))
A16: 9 | B16: =IF('Sep 26'!B16="","",'Sep 26'!B16) -> Name 9 | C16: =IF('Sep 26'!C16="","",'Sep 26'!C16) -> Vorname 9 | AC16: =COUNTIF(D16:AB16,"X") -> 0 | AD16: =COUNTIF(D16:AB16,"e") -> 0 | AE16: =COUNTIF(D16:AB16,"k") -> 0 | AF16: =COUNTIF(D16:AB16,"u") -> 0 | AG16: =IF('Sep 26'!AG16="","",'Sep 26'!AG16) | AH16: =IF(AG16="","",DATEDIF(AG16,TODAY(),"Y"))
A17: 10 | B17: =IF('Sep 26'!B17="","",'Sep 26'!B17) -> Name 10 | C17: =IF('Sep 26'!C17="","",'Sep 26'!C17) -> Vorname 10 | AC17: =COUNTIF(D17:AB17,"X") -> 0 | AD17: =COUNTIF(D17:AB17,"e") -> 0 | AE17: =COUNTIF(D17:AB17,"k") -> 0 | AF17: =COUNTIF(D17:AB17,"u") -> 0 | AG17: =IF('Sep 26'!AG17="","",'Sep 26'!AG17) | AH17: =IF(AG17="","",DATEDIF(AG17,TODAY(),"Y"))
A18: 11 | B18: =IF('Sep 26'!B18="","",'Sep 26'!B18) -> Name 11 | C18: =IF('Sep 26'!C18="","",'Sep 26'!C18) -> Vorname 11 | AC18: =COUNTIF(D18:AB18,"X") -> 0 | AD18: =COUNTIF(D18:AB18,"e") -> 0 | AE18: =COUNTIF(D18:AB18,"k") -> 0 | AF18: =COUNTIF(D18:AB18,"u") -> 0 | AG18: =IF('Sep 26'!AG18="","",'Sep 26'!AG18) | AH18: =IF(AG18="","",DATEDIF(AG18,TODAY(),"Y"))
A19: 12 | B19: =IF('Sep 26'!B19="","",'Sep 26'!B19) -> Name 12 | C19: =IF('Sep 26'!C19="","",'Sep 26'!C19) -> Vorname 12 | AC19: =COUNTIF(D19:AB19,"X") -> 0 | AD19: =COUNTIF(D19:AB19,"e") -> 0 | AE19: =COUNTIF(D19:AB19,"k") -> 0 | AF19: =COUNTIF(D19:AB19,"u") -> 0 | AG19: =IF('Sep 26'!AG19="","",'Sep 26'!AG19) | AH19: =IF(AG19="","",DATEDIF(AG19,TODAY(),"Y"))
... A42: 35 | B42: =IF('Sep 26'!B42="","",'Sep 26'!B42) -> Name 35 | C42: =IF('Sep 26'!C42="","",'Sep 26'!C42) -> Vorname 35 | AC42: =COUNTIF(D42:AB42,"X") -> 0 | AD42: =COUNTIF(D42:AB42,"e") -> 0 | AE42: =COUNTIF(D42:AB42,"k") -> 0 | AF42: =COUNTIF(D42:AB42,"u") -> 0 | AG42: =IF('Sep 26'!AG42="","",'Sep 26'!AG42) | AH42: =IF(AG42="","",DATEDIF(AG42,TODAY(),"Y"))
B43: [X] Anwesend | D43: =COUNTIF(D8:D42,"X") -> 0 | E43: =COUNTIF(E8:E42,"X") -> 0 | F43: =COUNTIF(F8:F42,"X") -> 0 | G43: =COUNTIF(G8:G42,"X") -> 0 | H43: =COUNTIF(H8:H42,"X") -> 0 | I43: =COUNTIF(I8:I42,"X") -> 0 | J43: =COUNTIF(J8:J42,"X") -> 0 | K43: =COUNTIF(K8:K42,"X") -> 0 | ... AB43: =COUNTIF(AB8:AB42,"X") -> 0
B44: [e] entschuldigt | D44: =COUNTIF(D8:D42,"e") -> 0 | E44: =COUNTIF(E8:E42,"e") -> 0 | F44: =COUNTIF(F8:F42,"e") -> 0 | G44: =COUNTIF(G8:G42,"e") -> 0 | H44: =COUNTIF(H8:H42,"e") -> 0 | I44: =COUNTIF(I8:I42,"e") -> 0 | J44: =COUNTIF(J8:J42,"e") -> 0 | K44: =COUNTIF(K8:K42,"e") -> 0 | ... AB44: =COUNTIF(AB8:AB42,"e") -> 0
B45: [k] krank | D45: =COUNTIF(D8:D42,"k") -> 0 | E45: =COUNTIF(E8:E42,"k") -> 0 | F45: =COUNTIF(F8:F42,"k") -> 0 | G45: =COUNTIF(G8:G42,"k") -> 0 | H45: =COUNTIF(H8:H42,"k") -> 0 | I45: =COUNTIF(I8:I42,"k") -> 0 | J45: =COUNTIF(J8:J42,"k") -> 0 | K45: =COUNTIF(K8:K42,"k") -> 0 | ... AB45: =COUNTIF(AB8:AB42,"k") -> 0
B46: [u] unentschuldigt | D46: =COUNTIF(D8:D42,"u") -> 0 | E46: =COUNTIF(E8:E42,"u") -> 0 | F46: =COUNTIF(F8:F42,"u") -> 0 | G46: =COUNTIF(G8:G42,"u") -> 0 | H46: =COUNTIF(H8:H42,"u") -> 0 | I46: =COUNTIF(I8:I42,"u") -> 0 | J46: =COUNTIF(J8:J42,"u") -> 0 | K46: =COUNTIF(K8:K42,"u") -> 0 | ... AB46: =COUNTIF(AB8:AB42,"u") -> 0

Sheet Feiertage
A1: Datum 2027 | B1: Jahr 25 | C1: Jahr 24 | D1: Datum 2026 | E1: Tag 25 | F1: Feiertag? | G1: Bezeichnung | H1: Land | I1: Gesetz.? | K1: So. | L1: Feiertag am Sonntag | O1: 2026 | P1: 2027 | Q1: =DATE($P$1,3,28)+MOD(24-MOD($P$1,19)*10.63,29)-MOD(TRUNC($P$1*5/4)+MOD(24-MOD($P$1,19)*10.63,29)+1,7) -> 46474 | R1: =DATEVALUE("25.12."&$P$1) -> 46746 | S1: =DATE($O$1,3,28)+MOD(24-MOD($O$1,19)*10.63,29)-MOD(TRUNC($O$1*5/4)+MOD(24-MOD($O$1,19)*10.63,29)+1,7) -> 46117 | T1: =DATEVALUE("25.12."&$O$1) -> 46381 | U1: X | V1: Markierter Feiertag
A2: =DATEVALUE("01.01."&$P$1) -> 46388 | B2: =IF(F2="x",A2,"") -> 46388 | C2: =IF(F2="x",Tabelle1[[#This Row],[Datum 2026]],"") -> 46023 | D2: =DATEVALUE("01.01."&$O$1) -> 46023 | E2: =IF(F2="x",A2,"") -> 46388 | F2: x | G2: Neujahr | H2: DE / AT / CH | I2: Ja
A3: =DATEVALUE("02.01."&$P$1) -> 46389 | B3: =IF(F3="x",A3,"") | C3: =IF(F3="x",Tabelle1[[#This Row],[Datum 2026]],"") | D3: =DATEVALUE("02.01."&$O$1) -> 46024 | E3: =IF(F3="x",A3,"") | G3: Berchtoldstag | H3: CH | I3: Ja | K3: =IF(B3=MONTH(TODAY()),G3,"")
A4: =DATEVALUE("06.01."&$P$1) -> 46393 | B4: =IF(F4="x",A4,"") -> 46393 | C4: =IF(F4="x",Tabelle1[[#This Row],[Datum 2026]],"") -> 46028 | D4: =DATEVALUE("06.01."&$O$1) -> 46028 | E4: =IF(F4="x",A4,"") -> 46393 | F4: x | G4: Heilige Drei Könige | H4: DE / AT / CH | I4: Ja | K4: =IF(B4=MONTH(TODAY()),G4,"")
A5: =DATEVALUE("08.03."&$P$1) -> 46454 | B5: =IF(F5="x",A5,"") | C5: =IF(F5="x",Tabelle1[[#This Row],[Datum 2026]],"") | D5: =DATEVALUE("08.03."&$O$1) -> 46089 | E5: =IF(F5="x",A5,"") | G5: Internationaler Frauentag | H5: DE | I5: Ja | K5: =IF(B5=MONTH(TODAY()),G5,"")
A6: =DATEVALUE("19.03."&$P$1) -> 46465 | B6: =IF(F6="x",A6,"") | C6: =IF(F6="x",Tabelle1[[#This Row],[Datum 2026]],"") | D6: =DATEVALUE("19.03."&$O$1) -> 46100 | E6: =IF(F6="x",A6,"") | G6: St. Josef | H6: CH | I6: Ja | K6: =IF(B6=MONTH(TODAY()),G6,"")
A7: =$Q$1-2 -> 46472 | B7: =IF(F7="x",A7,"") -> 46472 | C7: =IF(F7="x",Tabelle1[[#This Row],[Datum 2026]],"") -> 46115 | D7: =$S$1-2 -> 46115 | E7: =IF(F7="x",A7,"") -> 46472 | F7: x | G7: Karfreitag | H7: DE / CH | I7: Ja | K7: =IF(B7=MONTH(TODAY()),G7,"")
A8: =$Q$1-1 -> 46473 | B8: =IF(F8="x",A8,"") | C8: =IF(F8="x",Tabelle1[[#This Row],[Datum 2026]],"") | D8: =$S$1-1 -> 46116 | E8: =IF(F8="x",A8,"") | G8: Karsamstag | H8: DE | I8: Nein | K8: =IF(B8=MONTH(TODAY()),G8,"")
A9: =DATE($P$1,3,28)+MOD(24-MOD($P$1,19)*10.63,29)-MOD(TRUNC($P$1*5/4)+MOD(24-MOD($P$1,19)*10.63,29)+1,7) -> 46474 | B9: =IF(F9="x",A9,"") | C9: =IF(F9="x",Tabelle1[[#This Row],[Datum 2026]],"") | D9: =DATE($O$1,3,28)+MOD(24-MOD($O$1,19)*10.63,29)-MOD(TRUNC($O$1*5/4)+MOD(24-MOD($O$1,19)*10.63,29)+1,7) -> 46117 | E9: =IF(F9="x",A9,"") | G9: Ostersonntag | H9: DE / AT / CH | I9: Ja | K9: =IF(B9=MONTH(TODAY()),G9,"")
A10: =$Q$1+1 -> 46475 | B10: =IF(F10="x",A10,"") -> 46475 | C10: =IF(F10="x",Tabelle1[[#This Row],[Datum 2026]],"") -> 46118 | D10: =$S$1+1 -> 46118 | E10: =IF(F10="x",A10,"") -> 46475 | F10: x | G10: Ostermontag | H10: DE / AT | I10: Ja | K10: =IF(B10=MONTH(TODAY()),G10,"")
A11: =TRUNC(((4&-$P$1)+1)/7)*7+5+(DAY($Q$1-3)<8)*7 -> 46478 | B11: =IF(F11="x",A11,"") | C11: =IF(F11="x",Tabelle1[[#This Row],[Datum 2026]],"") | D11: =TRUNC(((4&-$O$1)+1)/7)*7+5+(DAY($S$1-3)<8)*7 -> 46121 | E11: =IF(F11="x",A11,"") | G11: Näfelser Fahrt | H11: CH | I11: Ja | K11: =IF(B11=MONTH(TODAY()),G11,"")
A12: =DATE($P$1,4,19)+1-WEEKDAY(DATE($P$1,4,19),2) -> 46496 | B12: =IF(F12="x",A12,"") | C12: =IF(F12="x",Tabelle1[[#This Row],[Datum 2026]],"") | D12: =DATE($O$1,4,25)+1-WEEKDAY(DATE($O$1,4,25),2) -> 46132 | E12: =IF(F12="x",A12,"") | G12: Sechseläuten | H12: CH | I12: Ja | K12: =IF(B12=MONTH(TODAY()),G12,"")
A13: =DATEVALUE("01.05."&$P$1) -> 46508 | B13: =IF(F13="x",A13,"") -> 46508 | C13: =IF(F13="x",Tabelle1[[#This Row],[Datum 2026]],"") -> 46143 | D13: =DATEVALUE("01.05."&$O$1) -> 46143 | E13: =IF(F13="x",A13,"") -> 46508 | F13: x | G13: Tag der Arbeit | H13: DE / CH | I13: Ja | K13: =IF(B13=MONTH(TODAY()),G13,"")
A14: =DATEVALUE("01.05."&$P$1) -> 46508 | B14: =IF(F14="x",A14,"") | C14: =IF(F14="x",Tabelle1[[#This Row],[Datum 2026]],"") | D14: =DATEVALUE("01.05."&$O$1) -> 46143 | E14: =IF(F14="x",A14,"") | G14: Staatsfeiertag | H14: AT | I14: Ja | K14: =IF(B14=MONTH(TODAY()),G14,"")
A15: =$Q$1+39 -> 46513 | B15: =IF(F15="x",A15,"") -> 46513 | C15: =IF(F15="x",Tabelle1[[#This Row],[Datum 2026]],"") -> 46156 | D15: =$S$1+39 -> 46156 | E15: =IF(F15="x",A15,"") -> 46513 | F15: x | G15: Christi Himmelfahrt | H15: DE / AT / CH | I15: Ja | K15: =IF(B15=MONTH(TODAY()),G15,"")
A16: =$Q$1+49 -> 46523 | B16: =IF(F16="x",A16,"") -> 46523 | C16: =IF(F16="x",Tabelle1[[#This Row],[Datum 2026]],"") -> 46166 | D16: =$S$1+49 -> 46166 | E16: =IF(F16="x",A16,"") -> 46523 | F16: x | G16: Pfingstsonntag | H16: DE / AT | I16: Ja | K16: =IF(B16=MONTH(TODAY()),G16,"")
A17: =$Q$1+50 -> 46524 | B17: =IF(F17="x",A17,"") -> 46524 | C17: =IF(F17="x",Tabelle1[[#This Row],[Datum 2026]],"") -> 46167 | D17: =$S$1+50 -> 46167 | E17: =IF(F17="x",A17,"") -> 46524 | F17: x | G17: Pfingstmontag | H17: DE / AT / CH | I17: Ja | K17: =IF(B17=MONTH(TODAY()),G17,"")
A18: =$Q$1+60 -> 46534 | B18: =IF(F18="x",A18,"") | C18: =IF(F18="x",Tabelle1[[#This Row],[Datum 2026]],"") | D18: =$S$1+60 -> 46177 | E18: =IF(F18="x",A18,"") | G18: Fronleichnam | H18: DE / AT / CH | I18: Ja | K18: =IF(B18=MONTH(TODAY()),G18,"")
A19: =DATEVALUE("29.06."&$P$1) -> 46567 | B19: =IF(F19="x",A19,"") | C19: =IF(F19="x",Tabelle1[[#This Row],[Datum 2026]],"") | D19: =DATEVALUE("29.06."&$O$1) -> 46202 | E19: =IF(F19="x",A19,"") | G19: Peter und Paul | H19: CH | I19: Ja | K19: =IF(B19=MONTH(TODAY()),G19,"")
A20: =DATEVALUE("01.08."&$P$1) -> 46600 | B20: =IF(F20="x",A20,"") | C20: =IF(F20="x",Tabelle1[[#This Row],[Datum 2026]],"") | D20: =DATEVALUE("01.08."&$O$1) -> 46235 | E20: =IF(F20="x",A20,"") | G20: Nationalfeiertag CH | H20: CH | I20: Ja | K20: =IF(B20=MONTH(TODAY()),G20,"")
A21: =DATEVALUE("08.08."&$P$1) -> 46607 | B21: =IF(F21="x",A21,"") | C21: =IF(F21="x",Tabelle1[[#This Row],[Datum 2026]],"") | D21: =DATEVALUE("08.08."&$O$1) -> 46242 | E21: =IF(F21="x",A21,"") | G21: Augsburger Friedensfest | H21: DE | I21: Ja | K21: =IF(B21=MONTH(TODAY()),G21,"")
A22: =DATEVALUE("15.08."&$P$1) -> 46614 | B22: =IF(F22="x",A22,"") -> 46614 | C22: =IF(F22="x",Tabelle1[[#This Row],[Datum 2026]],"") -> 46249 | D22: =DATEVALUE("15.08."&$O$1) -> 46249 | E22: =IF(F22="x",A22,"") -> 46614 | F22: x | G22: Mariä Himmelfahrt | H22: DE / AT / CH | I22: Ja | K22: =IF(B22=MONTH(TODAY()),G22,"")
A23: =DATE($P$1,9,1)+11-WEEKDAY(DATE($P$1,9,1),2) -> 46639 | B23: =IF(F23="x",A23,"") | C23: =IF(F23="x",Tabelle1[[#This Row],[Datum 2026]],"") | D23: =DATE($O$1,9,1)+11-WEEKDAY(DATE($O$1,9,1),2) -> 46275 | E23: =IF(F23="x",A23,"") | G23: Genfer Bettag | H23: CH | I23: Ja | K23: =IF(B23=MONTH(TODAY()),G23,"")
A24: =DATE($P$1,9,1)+15-WEEKDAY(DATE($P$1,9,1),2) -> 46643 | B24: =IF(F24="x",A24,"") | C24: =IF(F24="x",Tabelle1[[#This Row],[Datum 2026]],"") | D24: =DATE($O$1,9,1)+15-WEEKDAY(DATE($O$1,9,1),2) -> 46279 | E24: =IF(F24="x",A24,"") | G24: Knabenschiessen | H24: CH | I24: Ja | K24: =IF(B24=MONTH(TODAY()),G24,"")
A25: =DATE($P$1,9,1)+21-WEEKDAY(DATE($P$1,9,1),2) -> 46649 | B25: =IF(F25="x",A25,"") | C25: =IF(F25="x",Tabelle1[[#This Row],[Datum 2026]],"") | D25: =DATE($O$1,9,1)+21-WEEKDAY(DATE($O$1,9,1),2) -> 46285 | E25: =IF(F25="x",A25,"") | G25: Eidgenössischer Dank-, Buss- und Bettag | H25: CH | I25: Ja | K25: =IF(B25=MONTH(TODAY()),G25,"")
A26: =DATEVALUE("20.09."&$P$1) -> 46650 | B26: =IF(F26="x",A26,"") | C26: =IF(F26="x",Tabelle1[[#This Row],[Datum 2026]],"") | D26: =DATEVALUE("20.09."&$O$1) -> 46285 | E26: =IF(F26="x",A26,"") | G26: Weltkindertag | H26: DE | I26: Ja | K26: =IF(B26=MONTH(TODAY()),G26,"")
A27: =DATEVALUE("22.09."&$P$1) -> 46652 | B27: =IF(F27="x",A27,"") | C27: =IF(F27="x",Tabelle1[[#This Row],[Datum 2026]],"") | D27: =DATEVALUE("22.09."&$O$1) -> 46287 | E27: =IF(F27="x",A27,"") | G27: Mauritiustag | H27: CH | I27: Ja | K27: =IF(B27=MONTH(TODAY()),G27,"")
A28: =DATEVALUE("25.09."&$P$1) -> 46655 | B28: =IF(F28="x",A28,"") | C28: =IF(F28="x",Tabelle1[[#This Row],[Datum 2026]],"") | D28: =DATEVALUE("25.09."&$O$1) -> 46290 | E28: =IF(F28="x",A28,"") | G28: St. Niklaus von Flüe | H28: CH | I28: Ja | K28: =IF(B28=MONTH(TODAY()),G28,"")
A29: =DATEVALUE("02.10."&$P$1) -> 46662 | B29: =IF(F29="x",A29,"") | C29: =IF(F29="x",Tabelle1[[#This Row],[Datum 2026]],"") | D29: =DATEVALUE("02.10."&$O$1) -> 46297 | E29: =IF(F29="x",A29,"") | G29: St. Leodegar | H29: CH | I29: Ja | K29: =IF(B29=MONTH(TODAY()),G29,"")
A30: =DATEVALUE("03.10."&$P$1) -> 46663 | B30: =IF(F30="x",A30,"") -> 46663 | C30: =IF(F30="x",Tabelle1[[#This Row],[Datum 2026]],"") -> 46298 | D30: =DATEVALUE("03.10."&$O$1) -> 46298 | E30: =IF(F30="x",A30,"") -> 46663 | F30: x | G30: Tag der deutschen Einheit | H30: DE | I30: Ja | K30: =IF(B30=MONTH(TODAY()),G30,"")
A31: =DATEVALUE("26.10."&$P$1) -> 46686 | B31: =IF(F31="x",A31,"") | C31: =IF(F31="x",Tabelle1[[#This Row],[Datum 2026]],"") | D31: =DATEVALUE("26.10."&$O$1) -> 46321 | E31: =IF(F31="x",A31,"") | G31: Nationalfeiertag (AT) | H31: AT | I31: Ja | K31: =IF(B31=MONTH(TODAY()),G31,"")
A32: =DATEVALUE("31.10."&$P$1) -> 46691 | B32: =IF(F32="x",A32,"") | C32: =IF(F32="x",Tabelle1[[#This Row],[Datum 2026]],"") | D32: =DATEVALUE("31.10."&$O$1) -> 46326 | E32: =IF(F32="x",A32,"") | G32: Reformationstag | H32: DE | I32: Ja | K32: =IF(B32=MONTH(TODAY()),G32,"")
A33: =DATEVALUE("01.11."&$P$1) -> 46692 | B33: =IF(F33="x",A33,"") | C33: =IF(F33="x",Tabelle1[[#This Row],[Datum 2026]],"") | D33: =DATEVALUE("01.11."&$O$1) -> 46327 | E33: =IF(F33="x",A33,"") | G33: Allerheiligen | H33: DE / AT / CH | I33: Ja | K33: =IF(B33=MONTH(TODAY()),G33,"")
A34: =DATE($P$1,12,25)-WEEKDAY(DATE($P$1,12,25),2)-32 -> 46708 | B34: =IF(F34="x",A34,"") | C34: =IF(F34="x",Tabelle1[[#This Row],[Datum 2026]],"") | D34: =DATE($O$1,12,25)-WEEKDAY(DATE($O$1,12,25),2)-32 -> 46344 | E34: =IF(F34="x",A34,"") | G34: Buß- und Bettag | H34: DE | I34: Ja | K34: =IF(B34=MONTH(TODAY()),G34,"")
A35: =DATE($P$1,12,25)-WEEKDAY(DATE($P$1,12,25),2)-21 -> 46719 | B35: =IF(F35="x",A35,"") | C35: =IF(F35="x",Tabelle1[[#This Row],[Datum 2026]],"") | D35: =DATE($O$1,12,25)-WEEKDAY(DATE($O$1,12,25),2)-21 -> 46355 | E35: =IF(F35="x",A35,"") | G35: 1. Advent | H35: DE / AT / CH | I35: Nein | K35: =IF(B35=MONTH(TODAY()),G35,"")
A36: =DATEVALUE("06.12."&$P$1) -> 46727 | B36: =IF(F36="x",A36,"") | C36: =IF(F36="x",Tabelle1[[#This Row],[Datum 2026]],"") | D36: =DATEVALUE("06.12."&$O$1) -> 46362 | E36: =IF(F36="x",A36,"") | G36: Nikolaus | H36: DE / AT / CH | I36: Nein | K36: =IF(B36=MONTH(TODAY()),G36,"")
A37: =DATE($P$1,12,25)-WEEKDAY(DATE($P$1,12,25),2)-14 -> 46726 | B37: =IF(F37="x",A37,"") | C37: =IF(F37="x",Tabelle1[[#This Row],[Datum 2026]],"") | D37: =DATE($O$1,12,25)-WEEKDAY(DATE($O$1,12,25),2)-14 -> 46362 | E37: =IF(F37="x",A37,"") | G37: 2. Advent | H37: DE / AT / CH | I37: Nein | K37: =IF(B37=MONTH(TODAY()),G37,"")
A38: =DATEVALUE("08.12."&$P$1) -> 46729 | B38: =IF(F38="x",A38,"") | C38: =IF(F38="x",Tabelle1[[#This Row],[Datum 2026]],"") | D38: =DATEVALUE("08.12."&$O$1) -> 46364 | E38: =IF(F38="x",A38,"") | G38: Mariä Empfängnis | H38: CH / AT | I38: Ja | K38: =IF(B38=MONTH(TODAY()),G38,"")
A39: =DATE($P$1,12,25)-WEEKDAY(DATE($P$1,12,25),2)-7 -> 46733 | B39: =IF(F39="x",A39,"") | C39: =IF(F39="x",Tabelle1[[#This Row],[Datum 2026]],"") | D39: =DATE($O$1,12,25)-WEEKDAY(DATE($O$1,12,25),2)-7 -> 46369 | E39: =IF(F39="x",A39,"") | G39: 3. Advent | H39: DE / AT / CH | I39: Nein | K39: =IF(B39=MONTH(TODAY()),G39,"")
A40: =DATE($P$1,12,25)-WEEKDAY(DATE($P$1,12,25),2) -> 46740 | B40: =IF(F40="x",A40,"") | C40: =IF(F40="x",Tabelle1[[#This Row],[Datum 2026]],"") | D40: =DATE($O$1,12,25)-WEEKDAY(DATE($O$1,12,25),2) -> 46376 | E40: =IF(F40="x",A40,"") | G40: 4. Advent | H40: DE / AT / CH | I40: Nein | K40: =IF(B40=MONTH(TODAY()),G40,"")
A41: =DATEVALUE("24.12."&$P$1) -> 46745 | B41: =IF(F41="x",A41,"") | C41: =IF(F41="x",Tabelle1[[#This Row],[Datum 2026]],"") | D41: =DATEVALUE("24.12."&$O$1) -> 46380 | E41: =IF(F41="x",A41,"") | G41: Heiligabend | H41: DE / AT / CH | I41: Nein | K41: =IF(B41=MONTH(TODAY()),G41,"")
A42: =DATEVALUE("25.12."&$P$1) -> 46746 | B42: =IF(F42="x",A42,"") -> 46746 | C42: =IF(F42="x",Tabelle1[[#This Row],[Datum 2026]],"") -> 46381 | D42: =DATEVALUE("25.12."&$O$1) -> 46381 | E42: =IF(F42="x",A42,"") -> 46746 | F42: x | G42: 1. Weihnachtstag | H42: DE / AT / CH | I42: Ja | K42: =IF(B42=MONTH(TODAY()),G42,"")
A43: =DATEVALUE("26.12."&$P$1) -> 46747 | B43: =IF(F43="x",A43,"") -> 46747 | C43: =IF(F43="x",Tabelle1[[#This Row],[Datum 2026]],"") -> 46382 | D43: =DATEVALUE("26.12."&$O$1) -> 46382 | E43: =IF(F43="x",A43,"") -> 46747 | F43: x | G43: 2. Weihnachtstag | H43: DE / AT / CH | I43: Ja | K43: =IF(B43=MONTH(TODAY()),G43,"")
A44: =DATEVALUE("31.12."&$P$1) -> 46752 | B44: =IF(F44="x",A44,"") | C44: =IF(F44="x",Tabelle1[[#This Row],[Datum 2026]],"") | D44: =DATEVALUE("31.12."&$O$1) -> 46387 | E44: =IF(F44="x",A44,"") | G44: Silvester | H44: DE / AT / CH | I44: Nein | K44: =IF(B44=MONTH(TODAY()),G44,"")
B45: =IF(F45="x",A45,"") | C45: =IF(F45="x",Tabelle1[[#This Row],[Datum 2026]],"") | E45: =IF(F45="x",A45,"")
B46: =IF(F46="x",A46,"") | C46: =IF(F46="x",Tabelle1[[#This Row],[Datum 2026]],"") | E46: =IF(F46="x",A46,"")
B47: =IF(F47="x",A47,"") | C47: =IF(F47="x",Tabelle1[[#This Row],[Datum 2026]],"") | E47: =IF(F47="x",A47,"")
B48: =IF(F48="x",A48,"") | C48: =IF(F48="x",Tabelle1[[#This Row],[Datum 2026]],"") | E48: =IF(F48="x",A48,"")
B49: =IF(F49="x",A49,"") | C49: =IF(F49="x",Tabelle1[[#This Row],[Datum 2026]],"") | E49: =IF(F49="x",A49,"")
B50: =IF(F50="x",A50,"") | C50: =IF(F50="x",Tabelle1[[#This Row],[Datum 2026]],"") | E50: =IF(F50="x",A50,"")
B51: =IF(F51="x",A51,"") | C51: =IF(F51="x",Tabelle1[[#This Row],[Datum 2026]],"") | E51: =IF(F51="x",A51,"")

Sheet Info
A5: office-lernen.com
A7: Testversion Anwesenheitsliste Grundschule 2026/2027 Diese kostenlose Testversion enthält die Monate August bis Oktober 2026 und ist mit Blattschutz versehen. Die Vollversion (alle Monate, ohne Blattschutz, 19,90 €) erhalten Sie auf office-lernen.com: https://office-lernen.com/anwesenheitsliste-kostenlose-vorlagen-zum-download/
A11: Dem Lizenznehmer wird gestattet, diese Software im eigenen betrieblichen oder privaten Umfeld zu nutzen. Die unerlaubte weitergabe an Dritte ist nicht gestattet!
