Workbook

Sheet Vorgabe
D1: Feiertage
A2: Jahr | B2: 2017 | D2: 41274 | E2: *
A3: Arb.-Std./Tag | B3: 0.33333333 | D3: 41279 | E3: *
A4: Pausenlänge | B4: 0.03125 | D4: 41324
D5: 41325
D6: 41326
D7: 41369
D8: 41372
D9: 41434 | E9: *
D10: 41394 | E10: *
D11: 41421
D12: 41431 | E12: *
D13: 41500 | E13: *
D14: 41549 | E14: *
D15: 41631 | E15: *
D16: 41632 | E16: *
D17: 41633

Sheet Januar
A1: Arbeitszeitverwaltung | D1: =DATE(E1,F1,1) -> 41274 | E1: =Vorgabe!B2 -> 2017 | F1: 1 | G1: Gearbeitete Std. (Monat) | I1: =SUM(G6:G36) -> 0
G2: Überstd./Fehlstd. (Monat) | I2: =SUM(I6:I36) -> 0
B3: Übertrag | C3: 0.5 | G3: Überstd./Fehlstd. (gesamt) | I3: =C3+SUM(I6:I36) -> 0.5
A5: Tag | B5: Datum | C5: Status | D5: Anfang | E5: Pause | F5: Ende | G5: Gearbeitet | H5: Tagessoll | I5: Differenz
A6: =TEXT(B6,"TTT") -> So | B6: =DATE($E$1,$F$1,ROW()-5) -> 41274 | C6: {=IF(OR(EXACT(B6,Vorgabe!$D$2:'Vorgabe'!$D$30)),"Feiertag",IF(A6="Sa","Wochenende",IF(A6="So","Wochenende","")))} -> Feiertag | E6: 0 | G6: =IF(D6="",0,IF(F6>D6,F6-D6-E6,1+F6-D6-E6)) -> 0 | H6: =IF(C6="Fehlzeit",Vorgabe!$B$3,IF(C6="",Vorgabe!$B$3,)) -> 0 | I6: =IF(C6="Fehlzeit",G6-H6,IF(D6="",0,IF(G6<>0,G6-H6,))) -> 0
A7: =TEXT(B7,"TTT") -> Mo | B7: =DATE($E$1,$F$1,ROW()-5) -> 41275 | C7: {=IF(OR(EXACT(B7,Vorgabe!$D$2:'Vorgabe'!$D$30)),"Feiertag",IF(A7="Sa","Wochenende",IF(A7="So","Wochenende","")))} | E7: =IF(D7="",0,Vorgabe!$B$4) -> 0 | G7: =IF(D7="",0,IF(F7>D7,F7-D7-E7,1+F7-D7-E7)) -> 0 | H7: =IF(C7="Fehlzeit",Vorgabe!$B$3,IF(C7="",Vorgabe!$B$3,)) -> 0.33333333 | I7: =IF(C7="Fehlzeit",G7-H7,IF(D7="",0,IF(G7<>0,G7-H7,))) -> 0
A8: =TEXT(B8,"TTT") -> Di | B8: =DATE($E$1,$F$1,ROW()-5) -> 41276 | C8: {=IF(OR(EXACT(B8,Vorgabe!$D$2:'Vorgabe'!$D$30)),"Feiertag",IF(A8="Sa","Wochenende",IF(A8="So","Wochenende","")))} | E8: =IF(D8="",0,Vorgabe!$B$4) -> 0 | G8: =IF(D8="",0,IF(F8>D8,F8-D8-E8,1+F8-D8-E8)) -> 0 | H8: =IF(C8="Fehlzeit",Vorgabe!$B$3,IF(C8="",Vorgabe!$B$3,)) -> 0.33333333 | I8: =IF(C8="Fehlzeit",G8-H8,IF(D8="",0,IF(G8<>0,G8-H8,))) -> 0
A9: =TEXT(B9,"TTT") -> Mi | B9: =DATE($E$1,$F$1,ROW()-5) -> 41277 | C9: {=IF(OR(EXACT(B9,Vorgabe!$D$2:'Vorgabe'!$D$30)),"Feiertag",IF(A9="Sa","Wochenende",IF(A9="So","Wochenende","")))} | E9: =IF(D9="",0,Vorgabe!$B$4) -> 0 | G9: =IF(D9="",0,IF(F9>D9,F9-D9-E9,1+F9-D9-E9)) -> 0 | H9: =IF(C9="Fehlzeit",Vorgabe!$B$3,IF(C9="",Vorgabe!$B$3,)) -> 0.33333333 | I9: =IF(C9="Fehlzeit",G9-H9,IF(D9="",0,IF(G9<>0,G9-H9,))) -> 0
A10: =TEXT(B10,"TTT") -> Do | B10: =DATE($E$1,$F$1,ROW()-5) -> 41278 | C10: {=IF(OR(EXACT(B10,Vorgabe!$D$2:'Vorgabe'!$D$30)),"Feiertag",IF(A10="Sa","Wochenende",IF(A10="So","Wochenende","")))} | E10: =IF(D10="",0,Vorgabe!$B$4) -> 0 | G10: =IF(D10="",0,IF(F10>D10,F10-D10-E10,1+F10-D10-E10)) -> 0 | H10: =IF(C10="Fehlzeit",Vorgabe!$B$3,IF(C10="",Vorgabe!$B$3,)) -> 0.33333333 | I10: =IF(C10="Fehlzeit",G10-H10,IF(D10="",0,IF(G10<>0,G10-H10,))) -> 0
A11: =TEXT(B11,"TTT") -> Fr | B11: =DATE($E$1,$F$1,ROW()-5) -> 41279 | C11: {=IF(OR(EXACT(B11,Vorgabe!$D$2:'Vorgabe'!$D$30)),"Feiertag",IF(A11="Sa","Wochenende",IF(A11="So","Wochenende","")))} -> Feiertag | E11: =IF(D11="",0,Vorgabe!$B$4) -> 0 | G11: =IF(D11="",0,IF(F11>D11,F11-D11-E11,1+F11-D11-E11)) -> 0 | H11: =IF(C11="Fehlzeit",Vorgabe!$B$3,IF(C11="",Vorgabe!$B$3,)) -> 0 | I11: =IF(C11="Fehlzeit",G11-H11,IF(D11="",0,IF(G11<>0,G11-H11,))) -> 0
A12: =TEXT(B12,"TTT") -> Sa | B12: =DATE($E$1,$F$1,ROW()-5) -> 41280 | C12: {=IF(OR(EXACT(B12,Vorgabe!$D$2:'Vorgabe'!$D$30)),"Feiertag",IF(A12="Sa","Wochenende",IF(A12="So","Wochenende","")))} -> Wochenende | E12: =IF(D12="",0,Vorgabe!$B$4) -> 0 | G12: =IF(D12="",0,IF(F12>D12,F12-D12-E12,1+F12-D12-E12)) -> 0 | H12: =IF(C12="Fehlzeit",Vorgabe!$B$3,IF(C12="",Vorgabe!$B$3,)) -> 0 | I12: =IF(C12="Fehlzeit",G12-H12,IF(D12="",0,IF(G12<>0,G12-H12,))) -> 0
A13: =TEXT(B13,"TTT") -> So | B13: =DATE($E$1,$F$1,ROW()-5) -> 41281 | C13: {=IF(OR(EXACT(B13,Vorgabe!$D$2:'Vorgabe'!$D$30)),"Feiertag",IF(A13="Sa","Wochenende",IF(A13="So","Wochenende","")))} -> Wochenende | E13: =IF(D13="",0,Vorgabe!$B$4) -> 0 | G13: =IF(D13="",0,IF(F13>D13,F13-D13-E13,1+F13-D13-E13)) -> 0 | H13: =IF(C13="Fehlzeit",Vorgabe!$B$3,IF(C13="",Vorgabe!$B$3,)) -> 0 | I13: =IF(C13="Fehlzeit",G13-H13,IF(D13="",0,IF(G13<>0,G13-H13,))) -> 0
A14: =TEXT(B14,"TTT") -> Mo | B14: =DATE($E$1,$F$1,ROW()-5) -> 41282 | C14: {=IF(OR(EXACT(B14,Vorgabe!$D$2:'Vorgabe'!$D$30)),"Feiertag",IF(A14="Sa","Wochenende",IF(A14="So","Wochenende","")))} | E14: =IF(D14="",0,Vorgabe!$B$4) -> 0 | G14: =IF(D14="",0,IF(F14>D14,F14-D14-E14,1+F14-D14-E14)) -> 0 | H14: =IF(C14="Fehlzeit",Vorgabe!$B$3,IF(C14="",Vorgabe!$B$3,)) -> 0.33333333 | I14: =IF(C14="Fehlzeit",G14-H14,IF(D14="",0,IF(G14<>0,G14-H14,))) -> 0
A15: =TEXT(B15,"TTT") -> Di | B15: =DATE($E$1,$F$1,ROW()-5) -> 41283 | C15: {=IF(OR(EXACT(B15,Vorgabe!$D$2:'Vorgabe'!$D$30)),"Feiertag",IF(A15="Sa","Wochenende",IF(A15="So","Wochenende","")))} | E15: =IF(D15="",0,Vorgabe!$B$4) -> 0 | G15: =IF(D15="",0,IF(F15>D15,F15-D15-E15,1+F15-D15-E15)) -> 0 | H15: =IF(C15="Fehlzeit",Vorgabe!$B$3,IF(C15="",Vorgabe!$B$3,)) -> 0.33333333 | I15: =IF(C15="Fehlzeit",G15-H15,IF(D15="",0,IF(G15<>0,G15-H15,))) -> 0
A16: =TEXT(B16,"TTT") -> Mi | B16: =DATE($E$1,$F$1,ROW()-5) -> 41284 | C16: {=IF(OR(EXACT(B16,Vorgabe!$D$2:'Vorgabe'!$D$30)),"Feiertag",IF(A16="Sa","Wochenende",IF(A16="So","Wochenende","")))} | E16: =IF(D16="",0,Vorgabe!$B$4) -> 0 | G16: =IF(D16="",0,IF(F16>D16,F16-D16-E16,1+F16-D16-E16)) -> 0 | H16: =IF(C16="Fehlzeit",Vorgabe!$B$3,IF(C16="",Vorgabe!$B$3,)) -> 0.33333333 | I16: =IF(C16="Fehlzeit",G16-H16,IF(D16="",0,IF(G16<>0,G16-H16,))) -> 0
A17: =TEXT(B17,"TTT") -> Do | B17: =DATE($E$1,$F$1,ROW()-5) -> 41285 | C17: {=IF(OR(EXACT(B17,Vorgabe!$D$2:'Vorgabe'!$D$30)),"Feiertag",IF(A17="Sa","Wochenende",IF(A17="So","Wochenende","")))} | E17: =IF(D17="",0,Vorgabe!$B$4) -> 0 | G17: =IF(D17="",0,IF(F17>D17,F17-D17-E17,1+F17-D17-E17)) -> 0 | H17: =IF(C17="Fehlzeit",Vorgabe!$B$3,IF(C17="",Vorgabe!$B$3,)) -> 0.33333333 | I17: =IF(C17="Fehlzeit",G17-H17,IF(D17="",0,IF(G17<>0,G17-H17,))) -> 0
A18: =TEXT(B18,"TTT") -> Fr | B18: =DATE($E$1,$F$1,ROW()-5) -> 41286 | C18: {=IF(OR(EXACT(B18,Vorgabe!$D$2:'Vorgabe'!$D$30)),"Feiertag",IF(A18="Sa","Wochenende",IF(A18="So","Wochenende","")))} | E18: =IF(D18="",0,Vorgabe!$B$4) -> 0 | G18: =IF(D18="",0,IF(F18>D18,F18-D18-E18,1+F18-D18-E18)) -> 0 | H18: =IF(C18="Fehlzeit",Vorgabe!$B$3,IF(C18="",Vorgabe!$B$3,)) -> 0.33333333 | I18: =IF(C18="Fehlzeit",G18-H18,IF(D18="",0,IF(G18<>0,G18-H18,))) -> 0
... A36: =TEXT(B36,"TTT") -> Di | B36: =DATE($E$1,$F$1,ROW()-5) -> 41304 | C36: {=IF(OR(EXACT(B36,Vorgabe!$D$2:'Vorgabe'!$D$30)),"Feiertag",IF(A36="Sa","Wochenende",IF(A36="So","Wochenende","")))} | E36: =IF(D36="",0,Vorgabe!$B$4) -> 0 | G36: =IF(D36="",0,IF(F36>D36,F36-D36-E36,1+F36-D36-E36)) -> 0 | H36: =IF(C36="Fehlzeit",Vorgabe!$B$3,IF(C36="",Vorgabe!$B$3,)) -> 0.33333333 | I36: =IF(C36="Fehlzeit",G36-H36,IF(D36="",0,IF(G36<>0,G36-H36,))) -> 0

Sheet Februar
A1: Arbeitszeitverwaltung | D1: =DATE(E1,F1,1) -> 41305 | E1: =Vorgabe!B2 -> 2017 | F1: 2 | G1: Gearbeitete Std. (Monat) | I1: =SUM(G6:G36) -> 0
G2: Überstd./Fehlstd. (Monat) | I2: =SUM(I6:I36) -> 0
B3: Übertrag | C3: =INDIRECT(TEXT(D1-1,"MMMM")&"!I3") -> 0.5 | G3: Überstd./Fehlstd. (gesamt) | I3: =C3+SUM(I6:I36) -> 0.5
A5: Tag | B5: Datum | C5: Status | D5: Anfang | E5: Pause | F5: Ende | G5: Gearbeitet | H5: Tagessoll | I5: Differenz
A6: =TEXT(B6,"TTT") -> Mi | B6: =DATE($E$1,$F$1,ROW()-5) -> 41305 | C6: {=IF(OR(EXACT(B6,Vorgabe!$D$2:'Vorgabe'!$D$30)),"Feiertag",IF(A6="Sa","Wochenende",IF(A6="So","Wochenende","")))} | E6: =IF(D6="",0,Vorgabe!$B$4) -> 0 | G6: =IF(D6="",0,IF(F6>D6,F6-D6-E6,1+F6-D6-E6)) -> 0 | H6: =IF(C6="Fehlzeit",Vorgabe!$B$3,IF(C6="",Vorgabe!$B$3,)) -> 0.33333333 | I6: =IF(C6="Fehlzeit",G6-H6,IF(D6="",0,IF(G6<>0,G6-H6,))) -> 0
A7: =TEXT(B7,"TTT") -> Do | B7: =DATE($E$1,$F$1,ROW()-5) -> 41306 | C7: {=IF(OR(EXACT(B7,Vorgabe!$D$2:'Vorgabe'!$D$30)),"Feiertag",IF(A7="Sa","Wochenende",IF(A7="So","Wochenende","")))} | E7: =IF(D7="",0,Vorgabe!$B$4) -> 0 | G7: =IF(D7="",0,IF(F7>D7,F7-D7-E7,1+F7-D7-E7)) -> 0 | H7: =IF(C7="Fehlzeit",Vorgabe!$B$3,IF(C7="",Vorgabe!$B$3,)) -> 0.33333333 | I7: =IF(C7="Fehlzeit",G7-H7,IF(D7="",0,IF(G7<>0,G7-H7,))) -> 0
A8: =TEXT(B8,"TTT") -> Fr | B8: =DATE($E$1,$F$1,ROW()-5) -> 41307 | C8: {=IF(OR(EXACT(B8,Vorgabe!$D$2:'Vorgabe'!$D$30)),"Feiertag",IF(A8="Sa","Wochenende",IF(A8="So","Wochenende","")))} | E8: =IF(D8="",0,Vorgabe!$B$4) -> 0 | G8: =IF(D8="",0,IF(F8>D8,F8-D8-E8,1+F8-D8-E8)) -> 0 | H8: =IF(C8="Fehlzeit",Vorgabe!$B$3,IF(C8="",Vorgabe!$B$3,)) -> 0.33333333 | I8: =IF(C8="Fehlzeit",G8-H8,IF(D8="",0,IF(G8<>0,G8-H8,))) -> 0
A9: =TEXT(B9,"TTT") -> Sa | B9: =DATE($E$1,$F$1,ROW()-5) -> 41308 | C9: {=IF(OR(EXACT(B9,Vorgabe!$D$2:'Vorgabe'!$D$30)),"Feiertag",IF(A9="Sa","Wochenende",IF(A9="So","Wochenende","")))} -> Wochenende | E9: =IF(D9="",0,Vorgabe!$B$4) -> 0 | G9: =IF(D9="",0,IF(F9>D9,F9-D9-E9,1+F9-D9-E9)) -> 0 | H9: =IF(C9="Fehlzeit",Vorgabe!$B$3,IF(C9="",Vorgabe!$B$3,)) -> 0 | I9: =IF(C9="Fehlzeit",G9-H9,IF(D9="",0,IF(G9<>0,G9-H9,))) -> 0
A10: =TEXT(B10,"TTT") -> So | B10: =DATE($E$1,$F$1,ROW()-5) -> 41309 | C10: {=IF(OR(EXACT(B10,Vorgabe!$D$2:'Vorgabe'!$D$30)),"Feiertag",IF(A10="Sa","Wochenende",IF(A10="So","Wochenende","")))} -> Wochenende | E10: =IF(D10="",0,Vorgabe!$B$4) -> 0 | G10: =IF(D10="",0,IF(F10>D10,F10-D10-E10,1+F10-D10-E10)) -> 0 | H10: =IF(C10="Fehlzeit",Vorgabe!$B$3,IF(C10="",Vorgabe!$B$3,)) -> 0 | I10: =IF(C10="Fehlzeit",G10-H10,IF(D10="",0,IF(G10<>0,G10-H10,))) -> 0
A11: =TEXT(B11,"TTT") -> Mo | B11: =DATE($E$1,$F$1,ROW()-5) -> 41310 | C11: {=IF(OR(EXACT(B11,Vorgabe!$D$2:'Vorgabe'!$D$30)),"Feiertag",IF(A11="Sa","Wochenende",IF(A11="So","Wochenende","")))} | E11: =IF(D11="",0,Vorgabe!$B$4) -> 0 | G11: =IF(D11="",0,IF(F11>D11,F11-D11-E11,1+F11-D11-E11)) -> 0 | H11: =IF(C11="Fehlzeit",Vorgabe!$B$3,IF(C11="",Vorgabe!$B$3,)) -> 0.33333333 | I11: =IF(C11="Fehlzeit",G11-H11,IF(D11="",0,IF(G11<>0,G11-H11,))) -> 0
A12: =TEXT(B12,"TTT") -> Di | B12: =DATE($E$1,$F$1,ROW()-5) -> 41311 | C12: {=IF(OR(EXACT(B12,Vorgabe!$D$2:'Vorgabe'!$D$30)),"Feiertag",IF(A12="Sa","Wochenende",IF(A12="So","Wochenende","")))} | E12: =IF(D12="",0,Vorgabe!$B$4) -> 0 | G12: =IF(D12="",0,IF(F12>D12,F12-D12-E12,1+F12-D12-E12)) -> 0 | H12: =IF(C12="Fehlzeit",Vorgabe!$B$3,IF(C12="",Vorgabe!$B$3,)) -> 0.33333333 | I12: =IF(C12="Fehlzeit",G12-H12,IF(D12="",0,IF(G12<>0,G12-H12,))) -> 0
A13: =TEXT(B13,"TTT") -> Mi | B13: =DATE($E$1,$F$1,ROW()-5) -> 41312 | C13: {=IF(OR(EXACT(B13,Vorgabe!$D$2:'Vorgabe'!$D$30)),"Feiertag",IF(A13="Sa","Wochenende",IF(A13="So","Wochenende","")))} | E13: =IF(D13="",0,Vorgabe!$B$4) -> 0 | G13: =IF(D13="",0,IF(F13>D13,F13-D13-E13,1+F13-D13-E13)) -> 0 | H13: =IF(C13="Fehlzeit",Vorgabe!$B$3,IF(C13="",Vorgabe!$B$3,)) -> 0.33333333 | I13: =IF(C13="Fehlzeit",G13-H13,IF(D13="",0,IF(G13<>0,G13-H13,))) -> 0
A14: =TEXT(B14,"TTT") -> Do | B14: =DATE($E$1,$F$1,ROW()-5) -> 41313 | C14: {=IF(OR(EXACT(B14,Vorgabe!$D$2:'Vorgabe'!$D$30)),"Feiertag",IF(A14="Sa","Wochenende",IF(A14="So","Wochenende","")))} | E14: =IF(D14="",0,Vorgabe!$B$4) -> 0 | G14: =IF(D14="",0,IF(F14>D14,F14-D14-E14,1+F14-D14-E14)) -> 0 | H14: =IF(C14="Fehlzeit",Vorgabe!$B$3,IF(C14="",Vorgabe!$B$3,)) -> 0.33333333 | I14: =IF(C14="Fehlzeit",G14-H14,IF(D14="",0,IF(G14<>0,G14-H14,))) -> 0
A15: =TEXT(B15,"TTT") -> Fr | B15: =DATE($E$1,$F$1,ROW()-5) -> 41314 | C15: {=IF(OR(EXACT(B15,Vorgabe!$D$2:'Vorgabe'!$D$30)),"Feiertag",IF(A15="Sa","Wochenende",IF(A15="So","Wochenende","")))} | E15: =IF(D15="",0,Vorgabe!$B$4) -> 0 | G15: =IF(D15="",0,IF(F15>D15,F15-D15-E15,1+F15-D15-E15)) -> 0 | H15: =IF(C15="Fehlzeit",Vorgabe!$B$3,IF(C15="",Vorgabe!$B$3,)) -> 0.33333333 | I15: =IF(C15="Fehlzeit",G15-H15,IF(D15="",0,IF(G15<>0,G15-H15,))) -> 0
A16: =TEXT(B16,"TTT") -> Sa | B16: =DATE($E$1,$F$1,ROW()-5) -> 41315 | C16: {=IF(OR(EXACT(B16,Vorgabe!$D$2:'Vorgabe'!$D$30)),"Feiertag",IF(A16="Sa","Wochenende",IF(A16="So","Wochenende","")))} -> Wochenende | E16: =IF(D16="",0,Vorgabe!$B$4) -> 0 | G16: =IF(D16="",0,IF(F16>D16,F16-D16-E16,1+F16-D16-E16)) -> 0 | H16: =IF(C16="Fehlzeit",Vorgabe!$B$3,IF(C16="",Vorgabe!$B$3,)) -> 0 | I16: =IF(C16="Fehlzeit",G16-H16,IF(D16="",0,IF(G16<>0,G16-H16,))) -> 0
A17: =TEXT(B17,"TTT") -> So | B17: =DATE($E$1,$F$1,ROW()-5) -> 41316 | C17: {=IF(OR(EXACT(B17,Vorgabe!$D$2:'Vorgabe'!$D$30)),"Feiertag",IF(A17="Sa","Wochenende",IF(A17="So","Wochenende","")))} -> Wochenende | E17: =IF(D17="",0,Vorgabe!$B$4) -> 0 | G17: =IF(D17="",0,IF(F17>D17,F17-D17-E17,1+F17-D17-E17)) -> 0 | H17: =IF(C17="Fehlzeit",Vorgabe!$B$3,IF(C17="",Vorgabe!$B$3,)) -> 0 | I17: =IF(C17="Fehlzeit",G17-H17,IF(D17="",0,IF(G17<>0,G17-H17,))) -> 0
... A34: =TEXT(B34,"TTT") -> Mi | B34: =DATE($E$1,$F$1,ROW()-5) -> 41333 | C34: {=IF(OR(EXACT(B34,Vorgabe!$D$2:'Vorgabe'!$D$30)),"Feiertag",IF(A34="Sa","Wochenende",IF(A34="So","Wochenende","")))} | E34: =IF(D34="",0,Vorgabe!$B$4) -> 0 | G34: =IF(D34="",0,IF(F34>D34,F34-D34-E34,1+F34-D34-E34)) -> 0 | H34: =IF(C34="Fehlzeit",Vorgabe!$B$3,IF(C34="",Vorgabe!$B$3,)) -> 0.33333333 | I34: =IF(C34="Fehlzeit",G34-H34,IF(D34="",0,IF(G34<>0,G34-H34,))) -> 0

Sheet März
A1: Arbeitszeitverwaltung | D1: =DATE(E1,F1,1) -> 41333 | E1: =Vorgabe!B2 -> 2017 | F1: 3 | G1: Gearbeitete Std. (Monat) | I1: =SUM(G6:G36) -> 0
G2: Überstd./Fehlstd. (Monat) | I2: =SUM(I6:I36) -> 0
B3: Übertrag | C3: =INDIRECT(TEXT(D1-1,"MMMM")&"!I3") -> 0.5 | G3: Überstd./Fehlstd. (gesamt) | I3: =C3+SUM(I6:I36) -> 0.5
A5: Tag | B5: Datum | C5: Status | D5: Anfang | E5: Pause | F5: Ende | G5: Gearbeitet | H5: Tagessoll | I5: Differenz
A6: =TEXT(B6,"TTT") -> Mi | B6: =DATE($E$1,$F$1,ROW()-5) -> 41333 | C6: {=IF(OR(EXACT(B6,Vorgabe!$D$2:'Vorgabe'!$D$30)),"Feiertag",IF(A6="Sa","Wochenende",IF(A6="So","Wochenende","")))} | E6: =IF(D6="",0,Vorgabe!$B$4) -> 0 | G6: =IF(D6="",0,IF(F6>D6,F6-D6-E6,1+F6-D6-E6)) -> 0 | H6: =IF(C6="Fehlzeit",Vorgabe!$B$3,IF(C6="",Vorgabe!$B$3,)) -> 0.33333333 | I6: =IF(C6="Fehlzeit",G6-H6,IF(D6="",0,IF(G6<>0,G6-H6,))) -> 0
A7: =TEXT(B7,"TTT") -> Do | B7: =DATE($E$1,$F$1,ROW()-5) -> 41334 | C7: {=IF(OR(EXACT(B7,Vorgabe!$D$2:'Vorgabe'!$D$30)),"Feiertag",IF(A7="Sa","Wochenende",IF(A7="So","Wochenende","")))} | E7: =IF(D7="",0,Vorgabe!$B$4) -> 0 | G7: =IF(D7="",0,IF(F7>D7,F7-D7-E7,1+F7-D7-E7)) -> 0 | H7: =IF(C7="Fehlzeit",Vorgabe!$B$3,IF(C7="",Vorgabe!$B$3,)) -> 0.33333333 | I7: =IF(C7="Fehlzeit",G7-H7,IF(D7="",0,IF(G7<>0,G7-H7,))) -> 0
A8: =TEXT(B8,"TTT") -> Fr | B8: =DATE($E$1,$F$1,ROW()-5) -> 41335 | C8: {=IF(OR(EXACT(B8,Vorgabe!$D$2:'Vorgabe'!$D$30)),"Feiertag",IF(A8="Sa","Wochenende",IF(A8="So","Wochenende","")))} | E8: =IF(D8="",0,Vorgabe!$B$4) -> 0 | G8: =IF(D8="",0,IF(F8>D8,F8-D8-E8,1+F8-D8-E8)) -> 0 | H8: =IF(C8="Fehlzeit",Vorgabe!$B$3,IF(C8="",Vorgabe!$B$3,)) -> 0.33333333 | I8: =IF(C8="Fehlzeit",G8-H8,IF(D8="",0,IF(G8<>0,G8-H8,))) -> 0
A9: =TEXT(B9,"TTT") -> Sa | B9: =DATE($E$1,$F$1,ROW()-5) -> 41336 | C9: {=IF(OR(EXACT(B9,Vorgabe!$D$2:'Vorgabe'!$D$30)),"Feiertag",IF(A9="Sa","Wochenende",IF(A9="So","Wochenende","")))} -> Wochenende | E9: =IF(D9="",0,Vorgabe!$B$4) -> 0 | G9: =IF(D9="",0,IF(F9>D9,F9-D9-E9,1+F9-D9-E9)) -> 0 | H9: =IF(C9="Fehlzeit",Vorgabe!$B$3,IF(C9="",Vorgabe!$B$3,)) -> 0 | I9: =IF(C9="Fehlzeit",G9-H9,IF(D9="",0,IF(G9<>0,G9-H9,))) -> 0
A10: =TEXT(B10,"TTT") -> So | B10: =DATE($E$1,$F$1,ROW()-5) -> 41337 | C10: {=IF(OR(EXACT(B10,Vorgabe!$D$2:'Vorgabe'!$D$30)),"Feiertag",IF(A10="Sa","Wochenende",IF(A10="So","Wochenende","")))} -> Wochenende | E10: =IF(D10="",0,Vorgabe!$B$4) -> 0 | G10: =IF(D10="",0,IF(F10>D10,F10-D10-E10,1+F10-D10-E10)) -> 0 | H10: =IF(C10="Fehlzeit",Vorgabe!$B$3,IF(C10="",Vorgabe!$B$3,)) -> 0 | I10: =IF(C10="Fehlzeit",G10-H10,IF(D10="",0,IF(G10<>0,G10-H10,))) -> 0
A11: =TEXT(B11,"TTT") -> Mo | B11: =DATE($E$1,$F$1,ROW()-5) -> 41338 | C11: {=IF(OR(EXACT(B11,Vorgabe!$D$2:'Vorgabe'!$D$30)),"Feiertag",IF(A11="Sa","Wochenende",IF(A11="So","Wochenende","")))} | E11: =IF(D11="",0,Vorgabe!$B$4) -> 0 | G11: =IF(D11="",0,IF(F11>D11,F11-D11-E11,1+F11-D11-E11)) -> 0 | H11: =IF(C11="Fehlzeit",Vorgabe!$B$3,IF(C11="",Vorgabe!$B$3,)) -> 0.33333333 | I11: =IF(C11="Fehlzeit",G11-H11,IF(D11="",0,IF(G11<>0,G11-H11,))) -> 0
A12: =TEXT(B12,"TTT") -> Di | B12: =DATE($E$1,$F$1,ROW()-5) -> 41339 | C12: {=IF(OR(EXACT(B12,Vorgabe!$D$2:'Vorgabe'!$D$30)),"Feiertag",IF(A12="Sa","Wochenende",IF(A12="So","Wochenende","")))} | E12: =IF(D12="",0,Vorgabe!$B$4) -> 0 | G12: =IF(D12="",0,IF(F12>D12,F12-D12-E12,1+F12-D12-E12)) -> 0 | H12: =IF(C12="Fehlzeit",Vorgabe!$B$3,IF(C12="",Vorgabe!$B$3,)) -> 0.33333333 | I12: =IF(C12="Fehlzeit",G12-H12,IF(D12="",0,IF(G12<>0,G12-H12,))) -> 0
A13: =TEXT(B13,"TTT") -> Mi | B13: =DATE($E$1,$F$1,ROW()-5) -> 41340 | C13: {=IF(OR(EXACT(B13,Vorgabe!$D$2:'Vorgabe'!$D$30)),"Feiertag",IF(A13="Sa","Wochenende",IF(A13="So","Wochenende","")))} | E13: =IF(D13="",0,Vorgabe!$B$4) -> 0 | G13: =IF(D13="",0,IF(F13>D13,F13-D13-E13,1+F13-D13-E13)) -> 0 | H13: =IF(C13="Fehlzeit",Vorgabe!$B$3,IF(C13="",Vorgabe!$B$3,)) -> 0.33333333 | I13: =IF(C13="Fehlzeit",G13-H13,IF(D13="",0,IF(G13<>0,G13-H13,))) -> 0
A14: =TEXT(B14,"TTT") -> Do | B14: =DATE($E$1,$F$1,ROW()-5) -> 41341 | C14: {=IF(OR(EXACT(B14,Vorgabe!$D$2:'Vorgabe'!$D$30)),"Feiertag",IF(A14="Sa","Wochenende",IF(A14="So","Wochenende","")))} | E14: =IF(D14="",0,Vorgabe!$B$4) -> 0 | G14: =IF(D14="",0,IF(F14>D14,F14-D14-E14,1+F14-D14-E14)) -> 0 | H14: =IF(C14="Fehlzeit",Vorgabe!$B$3,IF(C14="",Vorgabe!$B$3,)) -> 0.33333333 | I14: =IF(C14="Fehlzeit",G14-H14,IF(D14="",0,IF(G14<>0,G14-H14,))) -> 0
A15: =TEXT(B15,"TTT") -> Fr | B15: =DATE($E$1,$F$1,ROW()-5) -> 41342 | C15: {=IF(OR(EXACT(B15,Vorgabe!$D$2:'Vorgabe'!$D$30)),"Feiertag",IF(A15="Sa","Wochenende",IF(A15="So","Wochenende","")))} | E15: =IF(D15="",0,Vorgabe!$B$4) -> 0 | G15: =IF(D15="",0,IF(F15>D15,F15-D15-E15,1+F15-D15-E15)) -> 0 | H15: =IF(C15="Fehlzeit",Vorgabe!$B$3,IF(C15="",Vorgabe!$B$3,)) -> 0.33333333 | I15: =IF(C15="Fehlzeit",G15-H15,IF(D15="",0,IF(G15<>0,G15-H15,))) -> 0
A16: =TEXT(B16,"TTT") -> Sa | B16: =DATE($E$1,$F$1,ROW()-5) -> 41343 | C16: {=IF(OR(EXACT(B16,Vorgabe!$D$2:'Vorgabe'!$D$30)),"Feiertag",IF(A16="Sa","Wochenende",IF(A16="So","Wochenende","")))} -> Wochenende | E16: =IF(D16="",0,Vorgabe!$B$4) -> 0 | G16: =IF(D16="",0,IF(F16>D16,F16-D16-E16,1+F16-D16-E16)) -> 0 | H16: =IF(C16="Fehlzeit",Vorgabe!$B$3,IF(C16="",Vorgabe!$B$3,)) -> 0 | I16: =IF(C16="Fehlzeit",G16-H16,IF(D16="",0,IF(G16<>0,G16-H16,))) -> 0
A17: =TEXT(B17,"TTT") -> So | B17: =DATE($E$1,$F$1,ROW()-5) -> 41344 | C17: {=IF(OR(EXACT(B17,Vorgabe!$D$2:'Vorgabe'!$D$30)),"Feiertag",IF(A17="Sa","Wochenende",IF(A17="So","Wochenende","")))} -> Wochenende | E17: =IF(D17="",0,Vorgabe!$B$4) -> 0 | G17: =IF(D17="",0,IF(F17>D17,F17-D17-E17,1+F17-D17-E17)) -> 0 | H17: =IF(C17="Fehlzeit",Vorgabe!$B$3,IF(C17="",Vorgabe!$B$3,)) -> 0 | I17: =IF(C17="Fehlzeit",G17-H17,IF(D17="",0,IF(G17<>0,G17-H17,))) -> 0
... A36: =TEXT(B36,"TTT") -> Fr | B36: =DATE($E$1,$F$1,ROW()-5) -> 41363 | C36: {=IF(OR(EXACT(B36,Vorgabe!$D$2:'Vorgabe'!$D$30)),"Feiertag",IF(A36="Sa","Wochenende",IF(A36="So","Wochenende","")))} | E36: =IF(D36="",0,Vorgabe!$B$4) -> 0 | G36: =IF(D36="",0,IF(F36>D36,F36-D36-E36,1+F36-D36-E36)) -> 0 | H36: =IF(C36="Fehlzeit",Vorgabe!$B$3,IF(C36="",Vorgabe!$B$3,)) -> 0.33333333 | I36: =IF(C36="Fehlzeit",G36-H36,IF(D36="",0,IF(G36<>0,G36-H36,))) -> 0

Sheet April
A1: Arbeitszeitverwaltung | D1: =DATE(E1,F1,1) -> 41364 | E1: =Vorgabe!B2 -> 2017 | F1: 4 | G1: Gearbeitete Std. (Monat) | I1: =SUM(G6:G35) -> 0
G2: Überstd./Fehlstd. (Monat) | I2: =SUM(I6:I35) -> 0
B3: Übertrag | C3: =INDIRECT(TEXT(D1-1,"MMMM")&"!I3") -> 0.5 | G3: Überstd./Fehlstd. (gesamt) | I3: =C3+SUM(I6:I35) -> 0.5
A5: Tag | B5: Datum | C5: Status | D5: Anfang | E5: Pause | F5: Ende | G5: Gearbeitet | H5: Tagessoll | I5: Differenz
A6: =TEXT(B6,"TTT") -> Sa | B6: =DATE($E$1,$F$1,ROW()-5) -> 41364 | C6: {=IF(OR(EXACT(B6,Vorgabe!$D$2:'Vorgabe'!$D$30)),"Feiertag",IF(A6="Sa","Wochenende",IF(A6="So","Wochenende","")))} -> Wochenende | E6: =IF(D6="",0,Vorgabe!$B$4) -> 0 | G6: =IF(D6="",0,IF(F6>D6,F6-D6-E6,1+F6-D6-E6)) -> 0 | H6: =IF(C6="Fehlzeit",Vorgabe!$B$3,IF(C6="",Vorgabe!$B$3,)) -> 0 | I6: =IF(C6="Fehlzeit",G6-H6,IF(D6="",0,IF(G6<>0,G6-H6,))) -> 0
A7: =TEXT(B7,"TTT") -> So | B7: =DATE($E$1,$F$1,ROW()-5) -> 41365 | C7: {=IF(OR(EXACT(B7,Vorgabe!$D$2:'Vorgabe'!$D$30)),"Feiertag",IF(A7="Sa","Wochenende",IF(A7="So","Wochenende","")))} -> Wochenende | E7: =IF(D7="",0,Vorgabe!$B$4) -> 0 | G7: =IF(D7="",0,IF(F7>D7,F7-D7-E7,1+F7-D7-E7)) -> 0 | H7: =IF(C7="Fehlzeit",Vorgabe!$B$3,IF(C7="",Vorgabe!$B$3,)) -> 0 | I7: =IF(C7="Fehlzeit",G7-H7,IF(D7="",0,IF(G7<>0,G7-H7,))) -> 0
A8: =TEXT(B8,"TTT") -> Mo | B8: =DATE($E$1,$F$1,ROW()-5) -> 41366 | C8: {=IF(OR(EXACT(B8,Vorgabe!$D$2:'Vorgabe'!$D$30)),"Feiertag",IF(A8="Sa","Wochenende",IF(A8="So","Wochenende","")))} | E8: =IF(D8="",0,Vorgabe!$B$4) -> 0 | G8: =IF(D8="",0,IF(F8>D8,F8-D8-E8,1+F8-D8-E8)) -> 0 | H8: =IF(C8="Fehlzeit",Vorgabe!$B$3,IF(C8="",Vorgabe!$B$3,)) -> 0.33333333 | I8: =IF(C8="Fehlzeit",G8-H8,IF(D8="",0,IF(G8<>0,G8-H8,))) -> 0
A9: =TEXT(B9,"TTT") -> Di | B9: =DATE($E$1,$F$1,ROW()-5) -> 41367 | C9: {=IF(OR(EXACT(B9,Vorgabe!$D$2:'Vorgabe'!$D$30)),"Feiertag",IF(A9="Sa","Wochenende",IF(A9="So","Wochenende","")))} | E9: =IF(D9="",0,Vorgabe!$B$4) -> 0 | G9: =IF(D9="",0,IF(F9>D9,F9-D9-E9,1+F9-D9-E9)) -> 0 | H9: =IF(C9="Fehlzeit",Vorgabe!$B$3,IF(C9="",Vorgabe!$B$3,)) -> 0.33333333 | I9: =IF(C9="Fehlzeit",G9-H9,IF(D9="",0,IF(G9<>0,G9-H9,))) -> 0
A10: =TEXT(B10,"TTT") -> Mi | B10: =DATE($E$1,$F$1,ROW()-5) -> 41368 | C10: {=IF(OR(EXACT(B10,Vorgabe!$D$2:'Vorgabe'!$D$30)),"Feiertag",IF(A10="Sa","Wochenende",IF(A10="So","Wochenende","")))} | E10: =IF(D10="",0,Vorgabe!$B$4) -> 0 | G10: =IF(D10="",0,IF(F10>D10,F10-D10-E10,1+F10-D10-E10)) -> 0 | H10: =IF(C10="Fehlzeit",Vorgabe!$B$3,IF(C10="",Vorgabe!$B$3,)) -> 0.33333333 | I10: =IF(C10="Fehlzeit",G10-H10,IF(D10="",0,IF(G10<>0,G10-H10,))) -> 0
A11: =TEXT(B11,"TTT") -> Do | B11: =DATE($E$1,$F$1,ROW()-5) -> 41369 | C11: {=IF(OR(EXACT(B11,Vorgabe!$D$2:'Vorgabe'!$D$30)),"Feiertag",IF(A11="Sa","Wochenende",IF(A11="So","Wochenende","")))} -> Feiertag | E11: =IF(D11="",0,Vorgabe!$B$4) -> 0 | G11: =IF(D11="",0,IF(F11>D11,F11-D11-E11,1+F11-D11-E11)) -> 0 | H11: =IF(C11="Fehlzeit",Vorgabe!$B$3,IF(C11="",Vorgabe!$B$3,)) -> 0 | I11: =IF(C11="Fehlzeit",G11-H11,IF(D11="",0,IF(G11<>0,G11-H11,))) -> 0
A12: =TEXT(B12,"TTT") -> Fr | B12: =DATE($E$1,$F$1,ROW()-5) -> 41370 | C12: {=IF(OR(EXACT(B12,Vorgabe!$D$2:'Vorgabe'!$D$30)),"Feiertag",IF(A12="Sa","Wochenende",IF(A12="So","Wochenende","")))} | E12: =IF(D12="",0,Vorgabe!$B$4) -> 0 | G12: =IF(D12="",0,IF(F12>D12,F12-D12-E12,1+F12-D12-E12)) -> 0 | H12: =IF(C12="Fehlzeit",Vorgabe!$B$3,IF(C12="",Vorgabe!$B$3,)) -> 0.33333333 | I12: =IF(C12="Fehlzeit",G12-H12,IF(D12="",0,IF(G12<>0,G12-H12,))) -> 0
A13: =TEXT(B13,"TTT") -> Sa | B13: =DATE($E$1,$F$1,ROW()-5) -> 41371 | C13: {=IF(OR(EXACT(B13,Vorgabe!$D$2:'Vorgabe'!$D$30)),"Feiertag",IF(A13="Sa","Wochenende",IF(A13="So","Wochenende","")))} -> Wochenende | E13: =IF(D13="",0,Vorgabe!$B$4) -> 0 | G13: =IF(D13="",0,IF(F13>D13,F13-D13-E13,1+F13-D13-E13)) -> 0 | H13: =IF(C13="Fehlzeit",Vorgabe!$B$3,IF(C13="",Vorgabe!$B$3,)) -> 0 | I13: =IF(C13="Fehlzeit",G13-H13,IF(D13="",0,IF(G13<>0,G13-H13,))) -> 0
A14: =TEXT(B14,"TTT") -> So | B14: =DATE($E$1,$F$1,ROW()-5) -> 41372 | C14: {=IF(OR(EXACT(B14,Vorgabe!$D$2:'Vorgabe'!$D$30)),"Feiertag",IF(A14="Sa","Wochenende",IF(A14="So","Wochenende","")))} -> Feiertag | E14: =IF(D14="",0,Vorgabe!$B$4) -> 0 | G14: =IF(D14="",0,IF(F14>D14,F14-D14-E14,1+F14-D14-E14)) -> 0 | H14: =IF(C14="Fehlzeit",Vorgabe!$B$3,IF(C14="",Vorgabe!$B$3,)) -> 0 | I14: =IF(C14="Fehlzeit",G14-H14,IF(D14="",0,IF(G14<>0,G14-H14,))) -> 0
A15: =TEXT(B15,"TTT") -> Mo | B15: =DATE($E$1,$F$1,ROW()-5) -> 41373 | C15: {=IF(OR(EXACT(B15,Vorgabe!$D$2:'Vorgabe'!$D$30)),"Feiertag",IF(A15="Sa","Wochenende",IF(A15="So","Wochenende","")))} | E15: =IF(D15="",0,Vorgabe!$B$4) -> 0 | G15: =IF(D15="",0,IF(F15>D15,F15-D15-E15,1+F15-D15-E15)) -> 0 | H15: =IF(C15="Fehlzeit",Vorgabe!$B$3,IF(C15="",Vorgabe!$B$3,)) -> 0.33333333 | I15: =IF(C15="Fehlzeit",G15-H15,IF(D15="",0,IF(G15<>0,G15-H15,))) -> 0
A16: =TEXT(B16,"TTT") -> Di | B16: =DATE($E$1,$F$1,ROW()-5) -> 41374 | C16: {=IF(OR(EXACT(B16,Vorgabe!$D$2:'Vorgabe'!$D$30)),"Feiertag",IF(A16="Sa","Wochenende",IF(A16="So","Wochenende","")))} | E16: =IF(D16="",0,Vorgabe!$B$4) -> 0 | G16: =IF(D16="",0,IF(F16>D16,F16-D16-E16,1+F16-D16-E16)) -> 0 | H16: =IF(C16="Fehlzeit",Vorgabe!$B$3,IF(C16="",Vorgabe!$B$3,)) -> 0.33333333 | I16: =IF(C16="Fehlzeit",G16-H16,IF(D16="",0,IF(G16<>0,G16-H16,))) -> 0
A17: =TEXT(B17,"TTT") -> Mi | B17: =DATE($E$1,$F$1,ROW()-5) -> 41375 | C17: {=IF(OR(EXACT(B17,Vorgabe!$D$2:'Vorgabe'!$D$30)),"Feiertag",IF(A17="Sa","Wochenende",IF(A17="So","Wochenende","")))} | E17: =IF(D17="",0,Vorgabe!$B$4) -> 0 | G17: =IF(D17="",0,IF(F17>D17,F17-D17-E17,1+F17-D17-E17)) -> 0 | H17: =IF(C17="Fehlzeit",Vorgabe!$B$3,IF(C17="",Vorgabe!$B$3,)) -> 0.33333333 | I17: =IF(C17="Fehlzeit",G17-H17,IF(D17="",0,IF(G17<>0,G17-H17,))) -> 0
... A35: =TEXT(B35,"TTT") -> So | B35: =DATE($E$1,$F$1,ROW()-5) -> 41393 | C35: {=IF(OR(EXACT(B35,Vorgabe!$D$2:'Vorgabe'!$D$30)),"Feiertag",IF(A35="Sa","Wochenende",IF(A35="So","Wochenende","")))} -> Wochenende | E35: =IF(D35="",0,Vorgabe!$B$4) -> 0 | G35: =IF(D35="",0,IF(F35>D35,F35-D35-E35,1+F35-D35-E35)) -> 0 | H35: =IF(C35="Fehlzeit",Vorgabe!$B$3,IF(C35="",Vorgabe!$B$3,)) -> 0 | I35: =IF(C35="Fehlzeit",G35-H35,IF(D35="",0,IF(G35<>0,G35-H35,))) -> 0

Sheet Mai
A1: Arbeitszeitverwaltung | D1: =DATE(E1,F1,1) -> 41394 | E1: =Vorgabe!B2 -> 2017 | F1: 5 | G1: Gearbeitete Std. (Monat) | I1: =SUM(G6:G36) -> 0
G2: Überstd./Fehlstd. (Monat) | I2: =SUM(I6:I36) -> 0
B3: Übertrag | C3: =INDIRECT(TEXT(D1-1,"MMMM")&"!I3") -> 0.5 | G3: Überstd./Fehlstd. (gesamt) | I3: =C3+SUM(I6:I36) -> 0.5
A5: Tag | B5: Datum | C5: Status | D5: Anfang | E5: Pause | F5: Ende | G5: Gearbeitet | H5: Tagessoll | I5: Differenz
A6: =TEXT(B6,"TTT") -> Mo | B6: =DATE($E$1,$F$1,ROW()-5) -> 41394 | C6: {=IF(OR(EXACT(B6,Vorgabe!$D$2:'Vorgabe'!$D$30)),"Feiertag",IF(A6="Sa","Wochenende",IF(A6="So","Wochenende","")))} -> Feiertag | E6: =IF(D6="",0,Vorgabe!$B$4) -> 0 | G6: =IF(D6="",0,IF(F6>D6,F6-D6-E6,1+F6-D6-E6)) -> 0 | H6: =IF(C6="Fehlzeit",Vorgabe!$B$3,IF(C6="",Vorgabe!$B$3,)) -> 0 | I6: =IF(C6="Fehlzeit",G6-H6,IF(D6="",0,IF(G6<>0,G6-H6,))) -> 0
A7: =TEXT(B7,"TTT") -> Di | B7: =DATE($E$1,$F$1,ROW()-5) -> 41395 | C7: {=IF(OR(EXACT(B7,Vorgabe!$D$2:'Vorgabe'!$D$30)),"Feiertag",IF(A7="Sa","Wochenende",IF(A7="So","Wochenende","")))} | E7: =IF(D7="",0,Vorgabe!$B$4) -> 0 | G7: =IF(D7="",0,IF(F7>D7,F7-D7-E7,1+F7-D7-E7)) -> 0 | H7: =IF(C7="Fehlzeit",Vorgabe!$B$3,IF(C7="",Vorgabe!$B$3,)) -> 0.33333333 | I7: =IF(C7="Fehlzeit",G7-H7,IF(D7="",0,IF(G7<>0,G7-H7,))) -> 0
A8: =TEXT(B8,"TTT") -> Mi | B8: =DATE($E$1,$F$1,ROW()-5) -> 41396 | C8: {=IF(OR(EXACT(B8,Vorgabe!$D$2:'Vorgabe'!$D$30)),"Feiertag",IF(A8="Sa","Wochenende",IF(A8="So","Wochenende","")))} | E8: =IF(D8="",0,Vorgabe!$B$4) -> 0 | G8: =IF(D8="",0,IF(F8>D8,F8-D8-E8,1+F8-D8-E8)) -> 0 | H8: =IF(C8="Fehlzeit",Vorgabe!$B$3,IF(C8="",Vorgabe!$B$3,)) -> 0.33333333 | I8: =IF(C8="Fehlzeit",G8-H8,IF(D8="",0,IF(G8<>0,G8-H8,))) -> 0
A9: =TEXT(B9,"TTT") -> Do | B9: =DATE($E$1,$F$1,ROW()-5) -> 41397 | C9: {=IF(OR(EXACT(B9,Vorgabe!$D$2:'Vorgabe'!$D$30)),"Feiertag",IF(A9="Sa","Wochenende",IF(A9="So","Wochenende","")))} | E9: =IF(D9="",0,Vorgabe!$B$4) -> 0 | G9: =IF(D9="",0,IF(F9>D9,F9-D9-E9,1+F9-D9-E9)) -> 0 | H9: =IF(C9="Fehlzeit",Vorgabe!$B$3,IF(C9="",Vorgabe!$B$3,)) -> 0.33333333 | I9: =IF(C9="Fehlzeit",G9-H9,IF(D9="",0,IF(G9<>0,G9-H9,))) -> 0
A10: =TEXT(B10,"TTT") -> Fr | B10: =DATE($E$1,$F$1,ROW()-5) -> 41398 | C10: {=IF(OR(EXACT(B10,Vorgabe!$D$2:'Vorgabe'!$D$30)),"Feiertag",IF(A10="Sa","Wochenende",IF(A10="So","Wochenende","")))} | E10: =IF(D10="",0,Vorgabe!$B$4) -> 0 | G10: =IF(D10="",0,IF(F10>D10,F10-D10-E10,1+F10-D10-E10)) -> 0 | H10: =IF(C10="Fehlzeit",Vorgabe!$B$3,IF(C10="",Vorgabe!$B$3,)) -> 0.33333333 | I10: =IF(C10="Fehlzeit",G10-H10,IF(D10="",0,IF(G10<>0,G10-H10,))) -> 0
A11: =TEXT(B11,"TTT") -> Sa | B11: =DATE($E$1,$F$1,ROW()-5) -> 41399 | C11: {=IF(OR(EXACT(B11,Vorgabe!$D$2:'Vorgabe'!$D$30)),"Feiertag",IF(A11="Sa","Wochenende",IF(A11="So","Wochenende","")))} -> Wochenende | E11: =IF(D11="",0,Vorgabe!$B$4) -> 0 | G11: =IF(D11="",0,IF(F11>D11,F11-D11-E11,1+F11-D11-E11)) -> 0 | H11: =IF(C11="Fehlzeit",Vorgabe!$B$3,IF(C11="",Vorgabe!$B$3,)) -> 0 | I11: =IF(C11="Fehlzeit",G11-H11,IF(D11="",0,IF(G11<>0,G11-H11,))) -> 0
A12: =TEXT(B12,"TTT") -> So | B12: =DATE($E$1,$F$1,ROW()-5) -> 41400 | C12: {=IF(OR(EXACT(B12,Vorgabe!$D$2:'Vorgabe'!$D$30)),"Feiertag",IF(A12="Sa","Wochenende",IF(A12="So","Wochenende","")))} -> Wochenende | E12: =IF(D12="",0,Vorgabe!$B$4) -> 0 | G12: =IF(D12="",0,IF(F12>D12,F12-D12-E12,1+F12-D12-E12)) -> 0 | H12: =IF(C12="Fehlzeit",Vorgabe!$B$3,IF(C12="",Vorgabe!$B$3,)) -> 0 | I12: =IF(C12="Fehlzeit",G12-H12,IF(D12="",0,IF(G12<>0,G12-H12,))) -> 0
A13: =TEXT(B13,"TTT") -> Mo | B13: =DATE($E$1,$F$1,ROW()-5) -> 41401 | C13: {=IF(OR(EXACT(B13,Vorgabe!$D$2:'Vorgabe'!$D$30)),"Feiertag",IF(A13="Sa","Wochenende",IF(A13="So","Wochenende","")))} | E13: =IF(D13="",0,Vorgabe!$B$4) -> 0 | G13: =IF(D13="",0,IF(F13>D13,F13-D13-E13,1+F13-D13-E13)) -> 0 | H13: =IF(C13="Fehlzeit",Vorgabe!$B$3,IF(C13="",Vorgabe!$B$3,)) -> 0.33333333 | I13: =IF(C13="Fehlzeit",G13-H13,IF(D13="",0,IF(G13<>0,G13-H13,))) -> 0
A14: =TEXT(B14,"TTT") -> Di | B14: =DATE($E$1,$F$1,ROW()-5) -> 41402 | C14: {=IF(OR(EXACT(B14,Vorgabe!$D$2:'Vorgabe'!$D$30)),"Feiertag",IF(A14="Sa","Wochenende",IF(A14="So","Wochenende","")))} | E14: =IF(D14="",0,Vorgabe!$B$4) -> 0 | G14: =IF(D14="",0,IF(F14>D14,F14-D14-E14,1+F14-D14-E14)) -> 0 | H14: =IF(C14="Fehlzeit",Vorgabe!$B$3,IF(C14="",Vorgabe!$B$3,)) -> 0.33333333 | I14: =IF(C14="Fehlzeit",G14-H14,IF(D14="",0,IF(G14<>0,G14-H14,))) -> 0
A15: =TEXT(B15,"TTT") -> Mi | B15: =DATE($E$1,$F$1,ROW()-5) -> 41403 | C15: {=IF(OR(EXACT(B15,Vorgabe!$D$2:'Vorgabe'!$D$30)),"Feiertag",IF(A15="Sa","Wochenende",IF(A15="So","Wochenende","")))} | E15: =IF(D15="",0,Vorgabe!$B$4) -> 0 | G15: =IF(D15="",0,IF(F15>D15,F15-D15-E15,1+F15-D15-E15)) -> 0 | H15: =IF(C15="Fehlzeit",Vorgabe!$B$3,IF(C15="",Vorgabe!$B$3,)) -> 0.33333333 | I15: =IF(C15="Fehlzeit",G15-H15,IF(D15="",0,IF(G15<>0,G15-H15,))) -> 0
A16: =TEXT(B16,"TTT") -> Do | B16: =DATE($E$1,$F$1,ROW()-5) -> 41404 | C16: {=IF(OR(EXACT(B16,Vorgabe!$D$2:'Vorgabe'!$D$30)),"Feiertag",IF(A16="Sa","Wochenende",IF(A16="So","Wochenende","")))} | E16: =IF(D16="",0,Vorgabe!$B$4) -> 0 | G16: =IF(D16="",0,IF(F16>D16,F16-D16-E16,1+F16-D16-E16)) -> 0 | H16: =IF(C16="Fehlzeit",Vorgabe!$B$3,IF(C16="",Vorgabe!$B$3,)) -> 0.33333333 | I16: =IF(C16="Fehlzeit",G16-H16,IF(D16="",0,IF(G16<>0,G16-H16,))) -> 0
A17: =TEXT(B17,"TTT") -> Fr | B17: =DATE($E$1,$F$1,ROW()-5) -> 41405 | C17: {=IF(OR(EXACT(B17,Vorgabe!$D$2:'Vorgabe'!$D$30)),"Feiertag",IF(A17="Sa","Wochenende",IF(A17="So","Wochenende","")))} | E17: =IF(D17="",0,Vorgabe!$B$4) -> 0 | G17: =IF(D17="",0,IF(F17>D17,F17-D17-E17,1+F17-D17-E17)) -> 0 | H17: =IF(C17="Fehlzeit",Vorgabe!$B$3,IF(C17="",Vorgabe!$B$3,)) -> 0.33333333 | I17: =IF(C17="Fehlzeit",G17-H17,IF(D17="",0,IF(G17<>0,G17-H17,))) -> 0
... A36: =TEXT(B36,"TTT") -> Mi | B36: =DATE($E$1,$F$1,ROW()-5) -> 41424 | C36: {=IF(OR(EXACT(B36,Vorgabe!$D$2:'Vorgabe'!$D$30)),"Feiertag",IF(A36="Sa","Wochenende",IF(A36="So","Wochenende","")))} | E36: =IF(D36="",0,Vorgabe!$B$4) -> 0 | G36: =IF(D36="",0,IF(F36>D36,F36-D36-E36,1+F36-D36-E36)) -> 0 | H36: =IF(C36="Fehlzeit",Vorgabe!$B$3,IF(C36="",Vorgabe!$B$3,)) -> 0.33333333 | I36: =IF(C36="Fehlzeit",G36-H36,IF(D36="",0,IF(G36<>0,G36-H36,))) -> 0

Sheet Juni
A1: Arbeitszeitverwaltung | D1: =DATE(E1,F1,1) -> 41425 | E1: =Vorgabe!B2 -> 2017 | F1: 6 | G1: Gearbeitete Std. (Monat) | I1: =SUM(G6:G35) -> 0
G2: Überstd./Fehlstd. (Monat) | I2: =SUM(I6:I35) -> 0
B3: Übertrag | C3: =INDIRECT(TEXT(D1-1,"MMMM")&"!I3") -> 0.5 | G3: Überstd./Fehlstd. (gesamt) | I3: =C3+SUM(I6:I35) -> 0.5
A5: Tag | B5: Datum | C5: Status | D5: Anfang | E5: Pause | F5: Ende | G5: Gearbeitet | H5: Tagessoll | I5: Differenz
A6: =TEXT(B6,"TTT") -> Do | B6: =DATE($E$1,$F$1,ROW()-5) -> 41425 | C6: {=IF(OR(EXACT(B6,Vorgabe!$D$2:'Vorgabe'!$D$30)),"Feiertag",IF(A6="Sa","Wochenende",IF(A6="So","Wochenende","")))} | E6: =IF(D6="",0,Vorgabe!$B$4) -> 0 | G6: =IF(D6="",0,IF(F6>D6,F6-D6-E6,1+F6-D6-E6)) -> 0 | H6: =IF(C6="Fehlzeit",Vorgabe!$B$3,IF(C6="",Vorgabe!$B$3,)) -> 0.33333333 | I6: =IF(C6="Fehlzeit",G6-H6,IF(D6="",0,IF(G6<>0,G6-H6,))) -> 0
A7: =TEXT(B7,"TTT") -> Fr | B7: =DATE($E$1,$F$1,ROW()-5) -> 41426 | C7: {=IF(OR(EXACT(B7,Vorgabe!$D$2:'Vorgabe'!$D$30)),"Feiertag",IF(A7="Sa","Wochenende",IF(A7="So","Wochenende","")))} | E7: =IF(D7="",0,Vorgabe!$B$4) -> 0 | G7: =IF(D7="",0,IF(F7>D7,F7-D7-E7,1+F7-D7-E7)) -> 0 | H7: =IF(C7="Fehlzeit",Vorgabe!$B$3,IF(C7="",Vorgabe!$B$3,)) -> 0.33333333 | I7: =IF(C7="Fehlzeit",G7-H7,IF(D7="",0,IF(G7<>0,G7-H7,))) -> 0
A8: =TEXT(B8,"TTT") -> Sa | B8: =DATE($E$1,$F$1,ROW()-5) -> 41427 | C8: {=IF(OR(EXACT(B8,Vorgabe!$D$2:'Vorgabe'!$D$30)),"Feiertag",IF(A8="Sa","Wochenende",IF(A8="So","Wochenende","")))} -> Wochenende | E8: =IF(D8="",0,Vorgabe!$B$4) -> 0 | G8: =IF(D8="",0,IF(F8>D8,F8-D8-E8,1+F8-D8-E8)) -> 0 | H8: =IF(C8="Fehlzeit",Vorgabe!$B$3,IF(C8="",Vorgabe!$B$3,)) -> 0 | I8: =IF(C8="Fehlzeit",G8-H8,IF(D8="",0,IF(G8<>0,G8-H8,))) -> 0
A9: =TEXT(B9,"TTT") -> So | B9: =DATE($E$1,$F$1,ROW()-5) -> 41428 | C9: {=IF(OR(EXACT(B9,Vorgabe!$D$2:'Vorgabe'!$D$30)),"Feiertag",IF(A9="Sa","Wochenende",IF(A9="So","Wochenende","")))} -> Wochenende | E9: =IF(D9="",0,Vorgabe!$B$4) -> 0 | G9: =IF(D9="",0,IF(F9>D9,F9-D9-E9,1+F9-D9-E9)) -> 0 | H9: =IF(C9="Fehlzeit",Vorgabe!$B$3,IF(C9="",Vorgabe!$B$3,)) -> 0 | I9: =IF(C9="Fehlzeit",G9-H9,IF(D9="",0,IF(G9<>0,G9-H9,))) -> 0
A10: =TEXT(B10,"TTT") -> Mo | B10: =DATE($E$1,$F$1,ROW()-5) -> 41429 | C10: {=IF(OR(EXACT(B10,Vorgabe!$D$2:'Vorgabe'!$D$30)),"Feiertag",IF(A10="Sa","Wochenende",IF(A10="So","Wochenende","")))} | E10: =IF(D10="",0,Vorgabe!$B$4) -> 0 | G10: =IF(D10="",0,IF(F10>D10,F10-D10-E10,1+F10-D10-E10)) -> 0 | H10: =IF(C10="Fehlzeit",Vorgabe!$B$3,IF(C10="",Vorgabe!$B$3,)) -> 0.33333333 | I10: =IF(C10="Fehlzeit",G10-H10,IF(D10="",0,IF(G10<>0,G10-H10,))) -> 0
A11: =TEXT(B11,"TTT") -> Di | B11: =DATE($E$1,$F$1,ROW()-5) -> 41430 | C11: {=IF(OR(EXACT(B11,Vorgabe!$D$2:'Vorgabe'!$D$30)),"Feiertag",IF(A11="Sa","Wochenende",IF(A11="So","Wochenende","")))} | E11: =IF(D11="",0,Vorgabe!$B$4) -> 0 | G11: =IF(D11="",0,IF(F11>D11,F11-D11-E11,1+F11-D11-E11)) -> 0 | H11: =IF(C11="Fehlzeit",Vorgabe!$B$3,IF(C11="",Vorgabe!$B$3,)) -> 0.33333333 | I11: =IF(C11="Fehlzeit",G11-H11,IF(D11="",0,IF(G11<>0,G11-H11,))) -> 0
A12: =TEXT(B12,"TTT") -> Mi | B12: =DATE($E$1,$F$1,ROW()-5) -> 41431 | C12: {=IF(OR(EXACT(B12,Vorgabe!$D$2:'Vorgabe'!$D$30)),"Feiertag",IF(A12="Sa","Wochenende",IF(A12="So","Wochenende","")))} -> Feiertag | E12: =IF(D12="",0,Vorgabe!$B$4) -> 0 | G12: =IF(D12="",0,IF(F12>D12,F12-D12-E12,1+F12-D12-E12)) -> 0 | H12: =IF(C12="Fehlzeit",Vorgabe!$B$3,IF(C12="",Vorgabe!$B$3,)) -> 0 | I12: =IF(C12="Fehlzeit",G12-H12,IF(D12="",0,IF(G12<>0,G12-H12,))) -> 0
A13: =TEXT(B13,"TTT") -> Do | B13: =DATE($E$1,$F$1,ROW()-5) -> 41432 | C13: {=IF(OR(EXACT(B13,Vorgabe!$D$2:'Vorgabe'!$D$30)),"Feiertag",IF(A13="Sa","Wochenende",IF(A13="So","Wochenende","")))} | E13: =IF(D13="",0,Vorgabe!$B$4) -> 0 | G13: =IF(D13="",0,IF(F13>D13,F13-D13-E13,1+F13-D13-E13)) -> 0 | H13: =IF(C13="Fehlzeit",Vorgabe!$B$3,IF(C13="",Vorgabe!$B$3,)) -> 0.33333333 | I13: =IF(C13="Fehlzeit",G13-H13,IF(D13="",0,IF(G13<>0,G13-H13,))) -> 0
A14: =TEXT(B14,"TTT") -> Fr | B14: =DATE($E$1,$F$1,ROW()-5) -> 41433 | C14: {=IF(OR(EXACT(B14,Vorgabe!$D$2:'Vorgabe'!$D$30)),"Feiertag",IF(A14="Sa","Wochenende",IF(A14="So","Wochenende","")))} | E14: =IF(D14="",0,Vorgabe!$B$4) -> 0 | G14: =IF(D14="",0,IF(F14>D14,F14-D14-E14,1+F14-D14-E14)) -> 0 | H14: =IF(C14="Fehlzeit",Vorgabe!$B$3,IF(C14="",Vorgabe!$B$3,)) -> 0.33333333 | I14: =IF(C14="Fehlzeit",G14-H14,IF(D14="",0,IF(G14<>0,G14-H14,))) -> 0
A15: =TEXT(B15,"TTT") -> Sa | B15: =DATE($E$1,$F$1,ROW()-5) -> 41434 | C15: {=IF(OR(EXACT(B15,Vorgabe!$D$2:'Vorgabe'!$D$30)),"Feiertag",IF(A15="Sa","Wochenende",IF(A15="So","Wochenende","")))} -> Feiertag | E15: =IF(D15="",0,Vorgabe!$B$4) -> 0 | G15: =IF(D15="",0,IF(F15>D15,F15-D15-E15,1+F15-D15-E15)) -> 0 | H15: =IF(C15="Fehlzeit",Vorgabe!$B$3,IF(C15="",Vorgabe!$B$3,)) -> 0 | I15: =IF(C15="Fehlzeit",G15-H15,IF(D15="",0,IF(G15<>0,G15-H15,))) -> 0
A16: =TEXT(B16,"TTT") -> So | B16: =DATE($E$1,$F$1,ROW()-5) -> 41435 | C16: {=IF(OR(EXACT(B16,Vorgabe!$D$2:'Vorgabe'!$D$30)),"Feiertag",IF(A16="Sa","Wochenende",IF(A16="So","Wochenende","")))} -> Wochenende | E16: =IF(D16="",0,Vorgabe!$B$4) -> 0 | G16: =IF(D16="",0,IF(F16>D16,F16-D16-E16,1+F16-D16-E16)) -> 0 | H16: =IF(C16="Fehlzeit",Vorgabe!$B$3,IF(C16="",Vorgabe!$B$3,)) -> 0 | I16: =IF(C16="Fehlzeit",G16-H16,IF(D16="",0,IF(G16<>0,G16-H16,))) -> 0
A17: =TEXT(B17,"TTT") -> Mo | B17: =DATE($E$1,$F$1,ROW()-5) -> 41436 | C17: {=IF(OR(EXACT(B17,Vorgabe!$D$2:'Vorgabe'!$D$30)),"Feiertag",IF(A17="Sa","Wochenende",IF(A17="So","Wochenende","")))} | E17: =IF(D17="",0,Vorgabe!$B$4) -> 0 | G17: =IF(D17="",0,IF(F17>D17,F17-D17-E17,1+F17-D17-E17)) -> 0 | H17: =IF(C17="Fehlzeit",Vorgabe!$B$3,IF(C17="",Vorgabe!$B$3,)) -> 0.33333333 | I17: =IF(C17="Fehlzeit",G17-H17,IF(D17="",0,IF(G17<>0,G17-H17,))) -> 0
... A35: =TEXT(B35,"TTT") -> Fr | B35: =DATE($E$1,$F$1,ROW()-5) -> 41454 | C35: {=IF(OR(EXACT(B35,Vorgabe!$D$2:'Vorgabe'!$D$30)),"Feiertag",IF(A35="Sa","Wochenende",IF(A35="So","Wochenende","")))} | E35: =IF(D35="",0,Vorgabe!$B$4) -> 0 | G35: =IF(D35="",0,IF(F35>D35,F35-D35-E35,1+F35-D35-E35)) -> 0 | H35: =IF(C35="Fehlzeit",Vorgabe!$B$3,IF(C35="",Vorgabe!$B$3,)) -> 0.33333333 | I35: =IF(C35="Fehlzeit",G35-H35,IF(D35="",0,IF(G35<>0,G35-H35,))) -> 0

Sheet Juli
A1: Arbeitszeitverwaltung | D1: =DATE(E1,F1,1) -> 41455 | E1: =Vorgabe!B2 -> 2017 | F1: 7 | G1: Gearbeitete Std. (Monat) | I1: =SUM(G6:G36) -> 0
G2: Überstd./Fehlstd. (Monat) | I2: =SUM(I6:I36) -> 0
B3: Übertrag | C3: =INDIRECT(TEXT(D1-1,"MMMM")&"!I3") -> 0.5 | G3: Überstd./Fehlstd. (gesamt) | I3: =C3+SUM(I6:I36) -> 0.5
A5: Tag | B5: Datum | C5: Status | D5: Anfang | E5: Pause | F5: Ende | G5: Gearbeitet | H5: Tagessoll | I5: Differenz
A6: =TEXT(B6,"TTT") -> Sa | B6: =DATE($E$1,$F$1,ROW()-5) -> 41455 | C6: {=IF(OR(EXACT(B6,Vorgabe!$D$2:'Vorgabe'!$D$30)),"Feiertag",IF(A6="Sa","Wochenende",IF(A6="So","Wochenende","")))} -> Wochenende | E6: =IF(D6="",0,Vorgabe!$B$4) -> 0 | G6: =IF(D6="",0,IF(F6>D6,F6-D6-E6,1+F6-D6-E6)) -> 0 | H6: =IF(C6="Fehlzeit",Vorgabe!$B$3,IF(C6="",Vorgabe!$B$3,)) -> 0 | I6: =IF(C6="Fehlzeit",G6-H6,IF(D6="",0,IF(G6<>0,G6-H6,))) -> 0
A7: =TEXT(B7,"TTT") -> So | B7: =DATE($E$1,$F$1,ROW()-5) -> 41456 | C7: {=IF(OR(EXACT(B7,Vorgabe!$D$2:'Vorgabe'!$D$30)),"Feiertag",IF(A7="Sa","Wochenende",IF(A7="So","Wochenende","")))} -> Wochenende | E7: =IF(D7="",0,Vorgabe!$B$4) -> 0 | G7: =IF(D7="",0,IF(F7>D7,F7-D7-E7,1+F7-D7-E7)) -> 0 | H7: =IF(C7="Fehlzeit",Vorgabe!$B$3,IF(C7="",Vorgabe!$B$3,)) -> 0 | I7: =IF(C7="Fehlzeit",G7-H7,IF(D7="",0,IF(G7<>0,G7-H7,))) -> 0
A8: =TEXT(B8,"TTT") -> Mo | B8: =DATE($E$1,$F$1,ROW()-5) -> 41457 | C8: {=IF(OR(EXACT(B8,Vorgabe!$D$2:'Vorgabe'!$D$30)),"Feiertag",IF(A8="Sa","Wochenende",IF(A8="So","Wochenende","")))} | E8: =IF(D8="",0,Vorgabe!$B$4) -> 0 | G8: =IF(D8="",0,IF(F8>D8,F8-D8-E8,1+F8-D8-E8)) -> 0 | H8: =IF(C8="Fehlzeit",Vorgabe!$B$3,IF(C8="",Vorgabe!$B$3,)) -> 0.33333333 | I8: =IF(C8="Fehlzeit",G8-H8,IF(D8="",0,IF(G8<>0,G8-H8,))) -> 0
A9: =TEXT(B9,"TTT") -> Di | B9: =DATE($E$1,$F$1,ROW()-5) -> 41458 | C9: {=IF(OR(EXACT(B9,Vorgabe!$D$2:'Vorgabe'!$D$30)),"Feiertag",IF(A9="Sa","Wochenende",IF(A9="So","Wochenende","")))} | E9: =IF(D9="",0,Vorgabe!$B$4) -> 0 | G9: =IF(D9="",0,IF(F9>D9,F9-D9-E9,1+F9-D9-E9)) -> 0 | H9: =IF(C9="Fehlzeit",Vorgabe!$B$3,IF(C9="",Vorgabe!$B$3,)) -> 0.33333333 | I9: =IF(C9="Fehlzeit",G9-H9,IF(D9="",0,IF(G9<>0,G9-H9,))) -> 0
A10: =TEXT(B10,"TTT") -> Mi | B10: =DATE($E$1,$F$1,ROW()-5) -> 41459 | C10: {=IF(OR(EXACT(B10,Vorgabe!$D$2:'Vorgabe'!$D$30)),"Feiertag",IF(A10="Sa","Wochenende",IF(A10="So","Wochenende","")))} | E10: =IF(D10="",0,Vorgabe!$B$4) -> 0 | G10: =IF(D10="",0,IF(F10>D10,F10-D10-E10,1+F10-D10-E10)) -> 0 | H10: =IF(C10="Fehlzeit",Vorgabe!$B$3,IF(C10="",Vorgabe!$B$3,)) -> 0.33333333 | I10: =IF(C10="Fehlzeit",G10-H10,IF(D10="",0,IF(G10<>0,G10-H10,))) -> 0
A11: =TEXT(B11,"TTT") -> Do | B11: =DATE($E$1,$F$1,ROW()-5) -> 41460 | C11: {=IF(OR(EXACT(B11,Vorgabe!$D$2:'Vorgabe'!$D$30)),"Feiertag",IF(A11="Sa","Wochenende",IF(A11="So","Wochenende","")))} | E11: =IF(D11="",0,Vorgabe!$B$4) -> 0 | G11: =IF(D11="",0,IF(F11>D11,F11-D11-E11,1+F11-D11-E11)) -> 0 | H11: =IF(C11="Fehlzeit",Vorgabe!$B$3,IF(C11="",Vorgabe!$B$3,)) -> 0.33333333 | I11: =IF(C11="Fehlzeit",G11-H11,IF(D11="",0,IF(G11<>0,G11-H11,))) -> 0
A12: =TEXT(B12,"TTT") -> Fr | B12: =DATE($E$1,$F$1,ROW()-5) -> 41461 | C12: {=IF(OR(EXACT(B12,Vorgabe!$D$2:'Vorgabe'!$D$30)),"Feiertag",IF(A12="Sa","Wochenende",IF(A12="So","Wochenende","")))} | E12: =IF(D12="",0,Vorgabe!$B$4) -> 0 | G12: =IF(D12="",0,IF(F12>D12,F12-D12-E12,1+F12-D12-E12)) -> 0 | H12: =IF(C12="Fehlzeit",Vorgabe!$B$3,IF(C12="",Vorgabe!$B$3,)) -> 0.33333333 | I12: =IF(C12="Fehlzeit",G12-H12,IF(D12="",0,IF(G12<>0,G12-H12,))) -> 0
A13: =TEXT(B13,"TTT") -> Sa | B13: =DATE($E$1,$F$1,ROW()-5) -> 41462 | C13: {=IF(OR(EXACT(B13,Vorgabe!$D$2:'Vorgabe'!$D$30)),"Feiertag",IF(A13="Sa","Wochenende",IF(A13="So","Wochenende","")))} -> Wochenende | E13: =IF(D13="",0,Vorgabe!$B$4) -> 0 | G13: =IF(D13="",0,IF(F13>D13,F13-D13-E13,1+F13-D13-E13)) -> 0 | H13: =IF(C13="Fehlzeit",Vorgabe!$B$3,IF(C13="",Vorgabe!$B$3,)) -> 0 | I13: =IF(C13="Fehlzeit",G13-H13,IF(D13="",0,IF(G13<>0,G13-H13,))) -> 0
A14: =TEXT(B14,"TTT") -> So | B14: =DATE($E$1,$F$1,ROW()-5) -> 41463 | C14: {=IF(OR(EXACT(B14,Vorgabe!$D$2:'Vorgabe'!$D$30)),"Feiertag",IF(A14="Sa","Wochenende",IF(A14="So","Wochenende","")))} -> Wochenende | E14: =IF(D14="",0,Vorgabe!$B$4) -> 0 | G14: =IF(D14="",0,IF(F14>D14,F14-D14-E14,1+F14-D14-E14)) -> 0 | H14: =IF(C14="Fehlzeit",Vorgabe!$B$3,IF(C14="",Vorgabe!$B$3,)) -> 0 | I14: =IF(C14="Fehlzeit",G14-H14,IF(D14="",0,IF(G14<>0,G14-H14,))) -> 0
A15: =TEXT(B15,"TTT") -> Mo | B15: =DATE($E$1,$F$1,ROW()-5) -> 41464 | C15: {=IF(OR(EXACT(B15,Vorgabe!$D$2:'Vorgabe'!$D$30)),"Feiertag",IF(A15="Sa","Wochenende",IF(A15="So","Wochenende","")))} | E15: =IF(D15="",0,Vorgabe!$B$4) -> 0 | G15: =IF(D15="",0,IF(F15>D15,F15-D15-E15,1+F15-D15-E15)) -> 0 | H15: =IF(C15="Fehlzeit",Vorgabe!$B$3,IF(C15="",Vorgabe!$B$3,)) -> 0.33333333 | I15: =IF(C15="Fehlzeit",G15-H15,IF(D15="",0,IF(G15<>0,G15-H15,))) -> 0
A16: =TEXT(B16,"TTT") -> Di | B16: =DATE($E$1,$F$1,ROW()-5) -> 41465 | C16: {=IF(OR(EXACT(B16,Vorgabe!$D$2:'Vorgabe'!$D$30)),"Feiertag",IF(A16="Sa","Wochenende",IF(A16="So","Wochenende","")))} | E16: =IF(D16="",0,Vorgabe!$B$4) -> 0 | G16: =IF(D16="",0,IF(F16>D16,F16-D16-E16,1+F16-D16-E16)) -> 0 | H16: =IF(C16="Fehlzeit",Vorgabe!$B$3,IF(C16="",Vorgabe!$B$3,)) -> 0.33333333 | I16: =IF(C16="Fehlzeit",G16-H16,IF(D16="",0,IF(G16<>0,G16-H16,))) -> 0
A17: =TEXT(B17,"TTT") -> Mi | B17: =DATE($E$1,$F$1,ROW()-5) -> 41466 | C17: {=IF(OR(EXACT(B17,Vorgabe!$D$2:'Vorgabe'!$D$30)),"Feiertag",IF(A17="Sa","Wochenende",IF(A17="So","Wochenende","")))} | E17: =IF(D17="",0,Vorgabe!$B$4) -> 0 | G17: =IF(D17="",0,IF(F17>D17,F17-D17-E17,1+F17-D17-E17)) -> 0 | H17: =IF(C17="Fehlzeit",Vorgabe!$B$3,IF(C17="",Vorgabe!$B$3,)) -> 0.33333333 | I17: =IF(C17="Fehlzeit",G17-H17,IF(D17="",0,IF(G17<>0,G17-H17,))) -> 0
... A36: =TEXT(B36,"TTT") -> Mo | B36: =DATE($E$1,$F$1,ROW()-5) -> 41485 | C36: {=IF(OR(EXACT(B36,Vorgabe!$D$2:'Vorgabe'!$D$30)),"Feiertag",IF(A36="Sa","Wochenende",IF(A36="So","Wochenende","")))} | E36: =IF(D36="",0,Vorgabe!$B$4) -> 0 | G36: =IF(D36="",0,IF(F36>D36,F36-D36-E36,1+F36-D36-E36)) -> 0 | H36: =IF(C36="Fehlzeit",Vorgabe!$B$3,IF(C36="",Vorgabe!$B$3,)) -> 0.33333333 | I36: =IF(C36="Fehlzeit",G36-H36,IF(D36="",0,IF(G36<>0,G36-H36,))) -> 0

Sheet August
A1: Arbeitszeitverwaltung | D1: =DATE(E1,F1,1) -> 41486 | E1: =Vorgabe!B2 -> 2017 | F1: 8 | G1: Gearbeitete Std. (Monat) | I1: =SUM(G6:G36) -> 0
G2: Überstd./Fehlstd. (Monat) | I2: =SUM(I6:I36) -> 0
B3: Übertrag | C3: =INDIRECT(TEXT(D1-1,"MMMM")&"!I3") -> 0.5 | G3: Überstd./Fehlstd. (gesamt) | I3: =C3+SUM(I6:I36) -> 0.5
A5: Tag | B5: Datum | C5: Status | D5: Anfang | E5: Pause | F5: Ende | G5: Gearbeitet | H5: Tagessoll | I5: Differenz
A6: =TEXT(B6,"TTT") -> Di | B6: =DATE($E$1,$F$1,ROW()-5) -> 41486 | C6: {=IF(OR(EXACT(B6,Vorgabe!$D$2:'Vorgabe'!$D$30)),"Feiertag",IF(A6="Sa","Wochenende",IF(A6="So","Wochenende","")))} | E6: =IF(D6="",0,Vorgabe!$B$4) -> 0 | G6: =IF(D6="",0,IF(F6>D6,F6-D6-E6,1+F6-D6-E6)) -> 0 | H6: =IF(C6="Fehlzeit",Vorgabe!$B$3,IF(C6="",Vorgabe!$B$3,)) -> 0.33333333 | I6: =IF(C6="Fehlzeit",G6-H6,IF(D6="",0,IF(G6<>0,G6-H6,))) -> 0
A7: =TEXT(B7,"TTT") -> Mi | B7: =DATE($E$1,$F$1,ROW()-5) -> 41487 | C7: {=IF(OR(EXACT(B7,Vorgabe!$D$2:'Vorgabe'!$D$30)),"Feiertag",IF(A7="Sa","Wochenende",IF(A7="So","Wochenende","")))} | E7: =IF(D7="",0,Vorgabe!$B$4) -> 0 | G7: =IF(D7="",0,IF(F7>D7,F7-D7-E7,1+F7-D7-E7)) -> 0 | H7: =IF(C7="Fehlzeit",Vorgabe!$B$3,IF(C7="",Vorgabe!$B$3,)) -> 0.33333333 | I7: =IF(C7="Fehlzeit",G7-H7,IF(D7="",0,IF(G7<>0,G7-H7,))) -> 0
A8: =TEXT(B8,"TTT") -> Do | B8: =DATE($E$1,$F$1,ROW()-5) -> 41488 | C8: {=IF(OR(EXACT(B8,Vorgabe!$D$2:'Vorgabe'!$D$30)),"Feiertag",IF(A8="Sa","Wochenende",IF(A8="So","Wochenende","")))} | E8: =IF(D8="",0,Vorgabe!$B$4) -> 0 | G8: =IF(D8="",0,IF(F8>D8,F8-D8-E8,1+F8-D8-E8)) -> 0 | H8: =IF(C8="Fehlzeit",Vorgabe!$B$3,IF(C8="",Vorgabe!$B$3,)) -> 0.33333333 | I8: =IF(C8="Fehlzeit",G8-H8,IF(D8="",0,IF(G8<>0,G8-H8,))) -> 0
A9: =TEXT(B9,"TTT") -> Fr | B9: =DATE($E$1,$F$1,ROW()-5) -> 41489 | C9: {=IF(OR(EXACT(B9,Vorgabe!$D$2:'Vorgabe'!$D$30)),"Feiertag",IF(A9="Sa","Wochenende",IF(A9="So","Wochenende","")))} | E9: =IF(D9="",0,Vorgabe!$B$4) -> 0 | G9: =IF(D9="",0,IF(F9>D9,F9-D9-E9,1+F9-D9-E9)) -> 0 | H9: =IF(C9="Fehlzeit",Vorgabe!$B$3,IF(C9="",Vorgabe!$B$3,)) -> 0.33333333 | I9: =IF(C9="Fehlzeit",G9-H9,IF(D9="",0,IF(G9<>0,G9-H9,))) -> 0
A10: =TEXT(B10,"TTT") -> Sa | B10: =DATE($E$1,$F$1,ROW()-5) -> 41490 | C10: {=IF(OR(EXACT(B10,Vorgabe!$D$2:'Vorgabe'!$D$30)),"Feiertag",IF(A10="Sa","Wochenende",IF(A10="So","Wochenende","")))} -> Wochenende | E10: =IF(D10="",0,Vorgabe!$B$4) -> 0 | G10: =IF(D10="",0,IF(F10>D10,F10-D10-E10,1+F10-D10-E10)) -> 0 | H10: =IF(C10="Fehlzeit",Vorgabe!$B$3,IF(C10="",Vorgabe!$B$3,)) -> 0 | I10: =IF(C10="Fehlzeit",G10-H10,IF(D10="",0,IF(G10<>0,G10-H10,))) -> 0
A11: =TEXT(B11,"TTT") -> So | B11: =DATE($E$1,$F$1,ROW()-5) -> 41491 | C11: {=IF(OR(EXACT(B11,Vorgabe!$D$2:'Vorgabe'!$D$30)),"Feiertag",IF(A11="Sa","Wochenende",IF(A11="So","Wochenende","")))} -> Wochenende | E11: =IF(D11="",0,Vorgabe!$B$4) -> 0 | G11: =IF(D11="",0,IF(F11>D11,F11-D11-E11,1+F11-D11-E11)) -> 0 | H11: =IF(C11="Fehlzeit",Vorgabe!$B$3,IF(C11="",Vorgabe!$B$3,)) -> 0 | I11: =IF(C11="Fehlzeit",G11-H11,IF(D11="",0,IF(G11<>0,G11-H11,))) -> 0
A12: =TEXT(B12,"TTT") -> Mo | B12: =DATE($E$1,$F$1,ROW()-5) -> 41492 | C12: {=IF(OR(EXACT(B12,Vorgabe!$D$2:'Vorgabe'!$D$30)),"Feiertag",IF(A12="Sa","Wochenende",IF(A12="So","Wochenende","")))} | E12: =IF(D12="",0,Vorgabe!$B$4) -> 0 | G12: =IF(D12="",0,IF(F12>D12,F12-D12-E12,1+F12-D12-E12)) -> 0 | H12: =IF(C12="Fehlzeit",Vorgabe!$B$3,IF(C12="",Vorgabe!$B$3,)) -> 0.33333333 | I12: =IF(C12="Fehlzeit",G12-H12,IF(D12="",0,IF(G12<>0,G12-H12,))) -> 0
A13: =TEXT(B13,"TTT") -> Di | B13: =DATE($E$1,$F$1,ROW()-5) -> 41493 | C13: {=IF(OR(EXACT(B13,Vorgabe!$D$2:'Vorgabe'!$D$30)),"Feiertag",IF(A13="Sa","Wochenende",IF(A13="So","Wochenende","")))} | E13: =IF(D13="",0,Vorgabe!$B$4) -> 0 | G13: =IF(D13="",0,IF(F13>D13,F13-D13-E13,1+F13-D13-E13)) -> 0 | H13: =IF(C13="Fehlzeit",Vorgabe!$B$3,IF(C13="",Vorgabe!$B$3,)) -> 0.33333333 | I13: =IF(C13="Fehlzeit",G13-H13,IF(D13="",0,IF(G13<>0,G13-H13,))) -> 0
A14: =TEXT(B14,"TTT") -> Mi | B14: =DATE($E$1,$F$1,ROW()-5) -> 41494 | C14: {=IF(OR(EXACT(B14,Vorgabe!$D$2:'Vorgabe'!$D$30)),"Feiertag",IF(A14="Sa","Wochenende",IF(A14="So","Wochenende","")))} | E14: =IF(D14="",0,Vorgabe!$B$4) -> 0 | G14: =IF(D14="",0,IF(F14>D14,F14-D14-E14,1+F14-D14-E14)) -> 0 | H14: =IF(C14="Fehlzeit",Vorgabe!$B$3,IF(C14="",Vorgabe!$B$3,)) -> 0.33333333 | I14: =IF(C14="Fehlzeit",G14-H14,IF(D14="",0,IF(G14<>0,G14-H14,))) -> 0
A15: =TEXT(B15,"TTT") -> Do | B15: =DATE($E$1,$F$1,ROW()-5) -> 41495 | C15: {=IF(OR(EXACT(B15,Vorgabe!$D$2:'Vorgabe'!$D$30)),"Feiertag",IF(A15="Sa","Wochenende",IF(A15="So","Wochenende","")))} | E15: =IF(D15="",0,Vorgabe!$B$4) -> 0 | G15: =IF(D15="",0,IF(F15>D15,F15-D15-E15,1+F15-D15-E15)) -> 0 | H15: =IF(C15="Fehlzeit",Vorgabe!$B$3,IF(C15="",Vorgabe!$B$3,)) -> 0.33333333 | I15: =IF(C15="Fehlzeit",G15-H15,IF(D15="",0,IF(G15<>0,G15-H15,))) -> 0
A16: =TEXT(B16,"TTT") -> Fr | B16: =DATE($E$1,$F$1,ROW()-5) -> 41496 | C16: {=IF(OR(EXACT(B16,Vorgabe!$D$2:'Vorgabe'!$D$30)),"Feiertag",IF(A16="Sa","Wochenende",IF(A16="So","Wochenende","")))} | E16: =IF(D16="",0,Vorgabe!$B$4) -> 0 | G16: =IF(D16="",0,IF(F16>D16,F16-D16-E16,1+F16-D16-E16)) -> 0 | H16: =IF(C16="Fehlzeit",Vorgabe!$B$3,IF(C16="",Vorgabe!$B$3,)) -> 0.33333333 | I16: =IF(C16="Fehlzeit",G16-H16,IF(D16="",0,IF(G16<>0,G16-H16,))) -> 0
A17: =TEXT(B17,"TTT") -> Sa | B17: =DATE($E$1,$F$1,ROW()-5) -> 41497 | C17: {=IF(OR(EXACT(B17,Vorgabe!$D$2:'Vorgabe'!$D$30)),"Feiertag",IF(A17="Sa","Wochenende",IF(A17="So","Wochenende","")))} -> Wochenende | E17: =IF(D17="",0,Vorgabe!$B$4) -> 0 | G17: =IF(D17="",0,IF(F17>D17,F17-D17-E17,1+F17-D17-E17)) -> 0 | H17: =IF(C17="Fehlzeit",Vorgabe!$B$3,IF(C17="",Vorgabe!$B$3,)) -> 0 | I17: =IF(C17="Fehlzeit",G17-H17,IF(D17="",0,IF(G17<>0,G17-H17,))) -> 0
... A36: =TEXT(B36,"TTT") -> Do | B36: =DATE($E$1,$F$1,ROW()-5) -> 41516 | C36: {=IF(OR(EXACT(B36,Vorgabe!$D$2:'Vorgabe'!$D$30)),"Feiertag",IF(A36="Sa","Wochenende",IF(A36="So","Wochenende","")))} | E36: =IF(D36="",0,Vorgabe!$B$4) -> 0 | G36: =IF(D36="",0,IF(F36>D36,F36-D36-E36,1+F36-D36-E36)) -> 0 | H36: =IF(C36="Fehlzeit",Vorgabe!$B$3,IF(C36="",Vorgabe!$B$3,)) -> 0.33333333 | I36: =IF(C36="Fehlzeit",G36-H36,IF(D36="",0,IF(G36<>0,G36-H36,))) -> 0

Sheet September
A1: Arbeitszeitverwaltung | D1: =DATE(E1,F1,1) -> 41517 | E1: =Vorgabe!B2 -> 2017 | F1: 9 | G1: Gearbeitete Std. (Monat) | I1: =SUM(G6:G35) -> 0
G2: Überstd./Fehlstd. (Monat) | I2: =SUM(I6:I35) -> 0
B3: Übertrag | C3: =INDIRECT(TEXT(D1-1,"MMMM")&"!I3") -> 0.5 | G3: Überstd./Fehlstd. (gesamt) | I3: =C3+SUM(I6:I35) -> 0.5
A5: Tag | B5: Datum | C5: Status | D5: Anfang | E5: Pause | F5: Ende | G5: Gearbeitet | H5: Tagessoll | I5: Differenz
A6: =TEXT(B6,"TTT") -> Fr | B6: =DATE($E$1,$F$1,ROW()-5) -> 41517 | C6: {=IF(OR(EXACT(B6,Vorgabe!$D$2:'Vorgabe'!$D$30)),"Feiertag",IF(A6="Sa","Wochenende",IF(A6="So","Wochenende","")))} | E6: =IF(D6="",0,Vorgabe!$B$4) -> 0 | G6: =IF(D6="",0,IF(F6>D6,F6-D6-E6,1+F6-D6-E6)) -> 0 | H6: =IF(C6="Fehlzeit",Vorgabe!$B$3,IF(C6="",Vorgabe!$B$3,)) -> 0.33333333 | I6: =IF(C6="Fehlzeit",G6-H6,IF(D6="",0,IF(G6<>0,G6-H6,))) -> 0
A7: =TEXT(B7,"TTT") -> Sa | B7: =DATE($E$1,$F$1,ROW()-5) -> 41518 | C7: {=IF(OR(EXACT(B7,Vorgabe!$D$2:'Vorgabe'!$D$30)),"Feiertag",IF(A7="Sa","Wochenende",IF(A7="So","Wochenende","")))} -> Wochenende | E7: =IF(D7="",0,Vorgabe!$B$4) -> 0 | G7: =IF(D7="",0,IF(F7>D7,F7-D7-E7,1+F7-D7-E7)) -> 0 | H7: =IF(C7="Fehlzeit",Vorgabe!$B$3,IF(C7="",Vorgabe!$B$3,)) -> 0 | I7: =IF(C7="Fehlzeit",G7-H7,IF(D7="",0,IF(G7<>0,G7-H7,))) -> 0
A8: =TEXT(B8,"TTT") -> So | B8: =DATE($E$1,$F$1,ROW()-5) -> 41519 | C8: {=IF(OR(EXACT(B8,Vorgabe!$D$2:'Vorgabe'!$D$30)),"Feiertag",IF(A8="Sa","Wochenende",IF(A8="So","Wochenende","")))} -> Wochenende | E8: =IF(D8="",0,Vorgabe!$B$4) -> 0 | G8: =IF(D8="",0,IF(F8>D8,F8-D8-E8,1+F8-D8-E8)) -> 0 | H8: =IF(C8="Fehlzeit",Vorgabe!$B$3,IF(C8="",Vorgabe!$B$3,)) -> 0 | I8: =IF(C8="Fehlzeit",G8-H8,IF(D8="",0,IF(G8<>0,G8-H8,))) -> 0
A9: =TEXT(B9,"TTT") -> Mo | B9: =DATE($E$1,$F$1,ROW()-5) -> 41520 | C9: {=IF(OR(EXACT(B9,Vorgabe!$D$2:'Vorgabe'!$D$30)),"Feiertag",IF(A9="Sa","Wochenende",IF(A9="So","Wochenende","")))} | E9: =IF(D9="",0,Vorgabe!$B$4) -> 0 | G9: =IF(D9="",0,IF(F9>D9,F9-D9-E9,1+F9-D9-E9)) -> 0 | H9: =IF(C9="Fehlzeit",Vorgabe!$B$3,IF(C9="",Vorgabe!$B$3,)) -> 0.33333333 | I9: =IF(C9="Fehlzeit",G9-H9,IF(D9="",0,IF(G9<>0,G9-H9,))) -> 0
A10: =TEXT(B10,"TTT") -> Di | B10: =DATE($E$1,$F$1,ROW()-5) -> 41521 | C10: {=IF(OR(EXACT(B10,Vorgabe!$D$2:'Vorgabe'!$D$30)),"Feiertag",IF(A10="Sa","Wochenende",IF(A10="So","Wochenende","")))} | E10: =IF(D10="",0,Vorgabe!$B$4) -> 0 | G10: =IF(D10="",0,IF(F10>D10,F10-D10-E10,1+F10-D10-E10)) -> 0 | H10: =IF(C10="Fehlzeit",Vorgabe!$B$3,IF(C10="",Vorgabe!$B$3,)) -> 0.33333333 | I10: =IF(C10="Fehlzeit",G10-H10,IF(D10="",0,IF(G10<>0,G10-H10,))) -> 0
A11: =TEXT(B11,"TTT") -> Mi | B11: =DATE($E$1,$F$1,ROW()-5) -> 41522 | C11: {=IF(OR(EXACT(B11,Vorgabe!$D$2:'Vorgabe'!$D$30)),"Feiertag",IF(A11="Sa","Wochenende",IF(A11="So","Wochenende","")))} | E11: =IF(D11="",0,Vorgabe!$B$4) -> 0 | G11: =IF(D11="",0,IF(F11>D11,F11-D11-E11,1+F11-D11-E11)) -> 0 | H11: =IF(C11="Fehlzeit",Vorgabe!$B$3,IF(C11="",Vorgabe!$B$3,)) -> 0.33333333 | I11: =IF(C11="Fehlzeit",G11-H11,IF(D11="",0,IF(G11<>0,G11-H11,))) -> 0
A12: =TEXT(B12,"TTT") -> Do | B12: =DATE($E$1,$F$1,ROW()-5) -> 41523 | C12: {=IF(OR(EXACT(B12,Vorgabe!$D$2:'Vorgabe'!$D$30)),"Feiertag",IF(A12="Sa","Wochenende",IF(A12="So","Wochenende","")))} | E12: =IF(D12="",0,Vorgabe!$B$4) -> 0 | G12: =IF(D12="",0,IF(F12>D12,F12-D12-E12,1+F12-D12-E12)) -> 0 | H12: =IF(C12="Fehlzeit",Vorgabe!$B$3,IF(C12="",Vorgabe!$B$3,)) -> 0.33333333 | I12: =IF(C12="Fehlzeit",G12-H12,IF(D12="",0,IF(G12<>0,G12-H12,))) -> 0
A13: =TEXT(B13,"TTT") -> Fr | B13: =DATE($E$1,$F$1,ROW()-5) -> 41524 | C13: {=IF(OR(EXACT(B13,Vorgabe!$D$2:'Vorgabe'!$D$30)),"Feiertag",IF(A13="Sa","Wochenende",IF(A13="So","Wochenende","")))} | E13: =IF(D13="",0,Vorgabe!$B$4) -> 0 | G13: =IF(D13="",0,IF(F13>D13,F13-D13-E13,1+F13-D13-E13)) -> 0 | H13: =IF(C13="Fehlzeit",Vorgabe!$B$3,IF(C13="",Vorgabe!$B$3,)) -> 0.33333333 | I13: =IF(C13="Fehlzeit",G13-H13,IF(D13="",0,IF(G13<>0,G13-H13,))) -> 0
A14: =TEXT(B14,"TTT") -> Sa | B14: =DATE($E$1,$F$1,ROW()-5) -> 41525 | C14: {=IF(OR(EXACT(B14,Vorgabe!$D$2:'Vorgabe'!$D$30)),"Feiertag",IF(A14="Sa","Wochenende",IF(A14="So","Wochenende","")))} -> Wochenende | E14: =IF(D14="",0,Vorgabe!$B$4) -> 0 | G14: =IF(D14="",0,IF(F14>D14,F14-D14-E14,1+F14-D14-E14)) -> 0 | H14: =IF(C14="Fehlzeit",Vorgabe!$B$3,IF(C14="",Vorgabe!$B$3,)) -> 0 | I14: =IF(C14="Fehlzeit",G14-H14,IF(D14="",0,IF(G14<>0,G14-H14,))) -> 0
A15: =TEXT(B15,"TTT") -> So | B15: =DATE($E$1,$F$1,ROW()-5) -> 41526 | C15: {=IF(OR(EXACT(B15,Vorgabe!$D$2:'Vorgabe'!$D$30)),"Feiertag",IF(A15="Sa","Wochenende",IF(A15="So","Wochenende","")))} -> Wochenende | E15: =IF(D15="",0,Vorgabe!$B$4) -> 0 | G15: =IF(D15="",0,IF(F15>D15,F15-D15-E15,1+F15-D15-E15)) -> 0 | H15: =IF(C15="Fehlzeit",Vorgabe!$B$3,IF(C15="",Vorgabe!$B$3,)) -> 0 | I15: =IF(C15="Fehlzeit",G15-H15,IF(D15="",0,IF(G15<>0,G15-H15,))) -> 0
A16: =TEXT(B16,"TTT") -> Mo | B16: =DATE($E$1,$F$1,ROW()-5) -> 41527 | C16: {=IF(OR(EXACT(B16,Vorgabe!$D$2:'Vorgabe'!$D$30)),"Feiertag",IF(A16="Sa","Wochenende",IF(A16="So","Wochenende","")))} | E16: =IF(D16="",0,Vorgabe!$B$4) -> 0 | G16: =IF(D16="",0,IF(F16>D16,F16-D16-E16,1+F16-D16-E16)) -> 0 | H16: =IF(C16="Fehlzeit",Vorgabe!$B$3,IF(C16="",Vorgabe!$B$3,)) -> 0.33333333 | I16: =IF(C16="Fehlzeit",G16-H16,IF(D16="",0,IF(G16<>0,G16-H16,))) -> 0
A17: =TEXT(B17,"TTT") -> Di | B17: =DATE($E$1,$F$1,ROW()-5) -> 41528 | C17: {=IF(OR(EXACT(B17,Vorgabe!$D$2:'Vorgabe'!$D$30)),"Feiertag",IF(A17="Sa","Wochenende",IF(A17="So","Wochenende","")))} | E17: =IF(D17="",0,Vorgabe!$B$4) -> 0 | G17: =IF(D17="",0,IF(F17>D17,F17-D17-E17,1+F17-D17-E17)) -> 0 | H17: =IF(C17="Fehlzeit",Vorgabe!$B$3,IF(C17="",Vorgabe!$B$3,)) -> 0.33333333 | I17: =IF(C17="Fehlzeit",G17-H17,IF(D17="",0,IF(G17<>0,G17-H17,))) -> 0
... A35: =TEXT(B35,"TTT") -> Sa | B35: =DATE($E$1,$F$1,ROW()-5) -> 41546 | C35: {=IF(OR(EXACT(B35,Vorgabe!$D$2:'Vorgabe'!$D$30)),"Feiertag",IF(A35="Sa","Wochenende",IF(A35="So","Wochenende","")))} -> Wochenende | E35: =IF(D35="",0,Vorgabe!$B$4) -> 0 | G35: =IF(D35="",0,IF(F35>D35,F35-D35-E35,1+F35-D35-E35)) -> 0 | H35: =IF(C35="Fehlzeit",Vorgabe!$B$3,IF(C35="",Vorgabe!$B$3,)) -> 0 | I35: =IF(C35="Fehlzeit",G35-H35,IF(D35="",0,IF(G35<>0,G35-H35,))) -> 0

Sheet Oktober
A1: Arbeitszeitverwaltung | D1: =DATE(E1,F1,1) -> 41547 | E1: =Vorgabe!B2 -> 2017 | F1: 10 | G1: Gearbeitete Std. (Monat) | I1: =SUM(G6:G36) -> 0
G2: Überstd./Fehlstd. (Monat) | I2: =SUM(I6:I36) -> 0
B3: Übertrag | C3: =INDIRECT(TEXT(D1-1,"MMMM")&"!I3") -> 0.5 | G3: Überstd./Fehlstd. (gesamt) | I3: =C3+SUM(I6:I36) -> 0.5
A5: Tag | B5: Datum | C5: Status | D5: Anfang | E5: Pause | F5: Ende | G5: Gearbeitet | H5: Tagessoll | I5: Differenz
A6: =TEXT(B6,"TTT") -> So | B6: =DATE($E$1,$F$1,ROW()-5) -> 41547 | C6: {=IF(OR(EXACT(B6,Vorgabe!$D$2:'Vorgabe'!$D$30)),"Feiertag",IF(A6="Sa","Wochenende",IF(A6="So","Wochenende","")))} -> Wochenende | E6: =IF(D6="",0,Vorgabe!$B$4) -> 0 | G6: =IF(D6="",0,IF(F6>D6,F6-D6-E6,1+F6-D6-E6)) -> 0 | H6: =IF(C6="Fehlzeit",Vorgabe!$B$3,IF(C6="",Vorgabe!$B$3,)) -> 0 | I6: =IF(C6="Fehlzeit",G6-H6,IF(D6="",0,IF(G6<>0,G6-H6,))) -> 0
A7: =TEXT(B7,"TTT") -> Mo | B7: =DATE($E$1,$F$1,ROW()-5) -> 41548 | C7: {=IF(OR(EXACT(B7,Vorgabe!$D$2:'Vorgabe'!$D$30)),"Feiertag",IF(A7="Sa","Wochenende",IF(A7="So","Wochenende","")))} | E7: =IF(D7="",0,Vorgabe!$B$4) -> 0 | G7: =IF(D7="",0,IF(F7>D7,F7-D7-E7,1+F7-D7-E7)) -> 0 | H7: =IF(C7="Fehlzeit",Vorgabe!$B$3,IF(C7="",Vorgabe!$B$3,)) -> 0.33333333 | I7: =IF(C7="Fehlzeit",G7-H7,IF(D7="",0,IF(G7<>0,G7-H7,))) -> 0
A8: =TEXT(B8,"TTT") -> Di | B8: =DATE($E$1,$F$1,ROW()-5) -> 41549 | C8: {=IF(OR(EXACT(B8,Vorgabe!$D$2:'Vorgabe'!$D$30)),"Feiertag",IF(A8="Sa","Wochenende",IF(A8="So","Wochenende","")))} -> Feiertag | E8: =IF(D8="",0,Vorgabe!$B$4) -> 0 | G8: =IF(D8="",0,IF(F8>D8,F8-D8-E8,1+F8-D8-E8)) -> 0 | H8: =IF(C8="Fehlzeit",Vorgabe!$B$3,IF(C8="",Vorgabe!$B$3,)) -> 0 | I8: =IF(C8="Fehlzeit",G8-H8,IF(D8="",0,IF(G8<>0,G8-H8,))) -> 0
A9: =TEXT(B9,"TTT") -> Mi | B9: =DATE($E$1,$F$1,ROW()-5) -> 41550 | C9: {=IF(OR(EXACT(B9,Vorgabe!$D$2:'Vorgabe'!$D$30)),"Feiertag",IF(A9="Sa","Wochenende",IF(A9="So","Wochenende","")))} | E9: =IF(D9="",0,Vorgabe!$B$4) -> 0 | G9: =IF(D9="",0,IF(F9>D9,F9-D9-E9,1+F9-D9-E9)) -> 0 | H9: =IF(C9="Fehlzeit",Vorgabe!$B$3,IF(C9="",Vorgabe!$B$3,)) -> 0.33333333 | I9: =IF(C9="Fehlzeit",G9-H9,IF(D9="",0,IF(G9<>0,G9-H9,))) -> 0
A10: =TEXT(B10,"TTT") -> Do | B10: =DATE($E$1,$F$1,ROW()-5) -> 41551 | C10: {=IF(OR(EXACT(B10,Vorgabe!$D$2:'Vorgabe'!$D$30)),"Feiertag",IF(A10="Sa","Wochenende",IF(A10="So","Wochenende","")))} | E10: =IF(D10="",0,Vorgabe!$B$4) -> 0 | G10: =IF(D10="",0,IF(F10>D10,F10-D10-E10,1+F10-D10-E10)) -> 0 | H10: =IF(C10="Fehlzeit",Vorgabe!$B$3,IF(C10="",Vorgabe!$B$3,)) -> 0.33333333 | I10: =IF(C10="Fehlzeit",G10-H10,IF(D10="",0,IF(G10<>0,G10-H10,))) -> 0
A11: =TEXT(B11,"TTT") -> Fr | B11: =DATE($E$1,$F$1,ROW()-5) -> 41552 | C11: {=IF(OR(EXACT(B11,Vorgabe!$D$2:'Vorgabe'!$D$30)),"Feiertag",IF(A11="Sa","Wochenende",IF(A11="So","Wochenende","")))} | E11: =IF(D11="",0,Vorgabe!$B$4) -> 0 | G11: =IF(D11="",0,IF(F11>D11,F11-D11-E11,1+F11-D11-E11)) -> 0 | H11: =IF(C11="Fehlzeit",Vorgabe!$B$3,IF(C11="",Vorgabe!$B$3,)) -> 0.33333333 | I11: =IF(C11="Fehlzeit",G11-H11,IF(D11="",0,IF(G11<>0,G11-H11,))) -> 0
A12: =TEXT(B12,"TTT") -> Sa | B12: =DATE($E$1,$F$1,ROW()-5) -> 41553 | C12: {=IF(OR(EXACT(B12,Vorgabe!$D$2:'Vorgabe'!$D$30)),"Feiertag",IF(A12="Sa","Wochenende",IF(A12="So","Wochenende","")))} -> Wochenende | E12: =IF(D12="",0,Vorgabe!$B$4) -> 0 | G12: =IF(D12="",0,IF(F12>D12,F12-D12-E12,1+F12-D12-E12)) -> 0 | H12: =IF(C12="Fehlzeit",Vorgabe!$B$3,IF(C12="",Vorgabe!$B$3,)) -> 0 | I12: =IF(C12="Fehlzeit",G12-H12,IF(D12="",0,IF(G12<>0,G12-H12,))) -> 0
A13: =TEXT(B13,"TTT") -> So | B13: =DATE($E$1,$F$1,ROW()-5) -> 41554 | C13: {=IF(OR(EXACT(B13,Vorgabe!$D$2:'Vorgabe'!$D$30)),"Feiertag",IF(A13="Sa","Wochenende",IF(A13="So","Wochenende","")))} -> Wochenende | E13: =IF(D13="",0,Vorgabe!$B$4) -> 0 | G13: =IF(D13="",0,IF(F13>D13,F13-D13-E13,1+F13-D13-E13)) -> 0 | H13: =IF(C13="Fehlzeit",Vorgabe!$B$3,IF(C13="",Vorgabe!$B$3,)) -> 0 | I13: =IF(C13="Fehlzeit",G13-H13,IF(D13="",0,IF(G13<>0,G13-H13,))) -> 0
A14: =TEXT(B14,"TTT") -> Mo | B14: =DATE($E$1,$F$1,ROW()-5) -> 41555 | C14: {=IF(OR(EXACT(B14,Vorgabe!$D$2:'Vorgabe'!$D$30)),"Feiertag",IF(A14="Sa","Wochenende",IF(A14="So","Wochenende","")))} | E14: =IF(D14="",0,Vorgabe!$B$4) -> 0 | G14: =IF(D14="",0,IF(F14>D14,F14-D14-E14,1+F14-D14-E14)) -> 0 | H14: =IF(C14="Fehlzeit",Vorgabe!$B$3,IF(C14="",Vorgabe!$B$3,)) -> 0.33333333 | I14: =IF(C14="Fehlzeit",G14-H14,IF(D14="",0,IF(G14<>0,G14-H14,))) -> 0
A15: =TEXT(B15,"TTT") -> Di | B15: =DATE($E$1,$F$1,ROW()-5) -> 41556 | C15: {=IF(OR(EXACT(B15,Vorgabe!$D$2:'Vorgabe'!$D$30)),"Feiertag",IF(A15="Sa","Wochenende",IF(A15="So","Wochenende","")))} | E15: =IF(D15="",0,Vorgabe!$B$4) -> 0 | G15: =IF(D15="",0,IF(F15>D15,F15-D15-E15,1+F15-D15-E15)) -> 0 | H15: =IF(C15="Fehlzeit",Vorgabe!$B$3,IF(C15="",Vorgabe!$B$3,)) -> 0.33333333 | I15: =IF(C15="Fehlzeit",G15-H15,IF(D15="",0,IF(G15<>0,G15-H15,))) -> 0
A16: =TEXT(B16,"TTT") -> Mi | B16: =DATE($E$1,$F$1,ROW()-5) -> 41557 | C16: {=IF(OR(EXACT(B16,Vorgabe!$D$2:'Vorgabe'!$D$30)),"Feiertag",IF(A16="Sa","Wochenende",IF(A16="So","Wochenende","")))} | E16: =IF(D16="",0,Vorgabe!$B$4) -> 0 | G16: =IF(D16="",0,IF(F16>D16,F16-D16-E16,1+F16-D16-E16)) -> 0 | H16: =IF(C16="Fehlzeit",Vorgabe!$B$3,IF(C16="",Vorgabe!$B$3,)) -> 0.33333333 | I16: =IF(C16="Fehlzeit",G16-H16,IF(D16="",0,IF(G16<>0,G16-H16,))) -> 0
A17: =TEXT(B17,"TTT") -> Do | B17: =DATE($E$1,$F$1,ROW()-5) -> 41558 | C17: {=IF(OR(EXACT(B17,Vorgabe!$D$2:'Vorgabe'!$D$30)),"Feiertag",IF(A17="Sa","Wochenende",IF(A17="So","Wochenende","")))} | E17: =IF(D17="",0,Vorgabe!$B$4) -> 0 | G17: =IF(D17="",0,IF(F17>D17,F17-D17-E17,1+F17-D17-E17)) -> 0 | H17: =IF(C17="Fehlzeit",Vorgabe!$B$3,IF(C17="",Vorgabe!$B$3,)) -> 0.33333333 | I17: =IF(C17="Fehlzeit",G17-H17,IF(D17="",0,IF(G17<>0,G17-H17,))) -> 0
... A36: =TEXT(B36,"TTT") -> Di | B36: =DATE($E$1,$F$1,ROW()-5) -> 41577 | C36: {=IF(OR(EXACT(B36,Vorgabe!$D$2:'Vorgabe'!$D$30)),"Feiertag",IF(A36="Sa","Wochenende",IF(A36="So","Wochenende","")))} | E36: =IF(D36="",0,Vorgabe!$B$4) -> 0 | G36: =IF(D36="",0,IF(F36>D36,F36-D36-E36,1+F36-D36-E36)) -> 0 | H36: =IF(C36="Fehlzeit",Vorgabe!$B$3,IF(C36="",Vorgabe!$B$3,)) -> 0.33333333 | I36: =IF(C36="Fehlzeit",G36-H36,IF(D36="",0,IF(G36<>0,G36-H36,))) -> 0

Sheet November
A1: Arbeitszeitverwaltung | D1: =DATE(E1,F1,1) -> 41578 | E1: =Vorgabe!B2 -> 2017 | F1: 11 | G1: Gearbeitete Std. (Monat) | I1: =SUM(G6:G35) -> 0
G2: Überstd./Fehlstd. (Monat) | I2: =SUM(I6:I35) -> 0
B3: Übertrag | C3: =INDIRECT(TEXT(D1-1,"MMMM")&"!I3") -> 0.5 | G3: Überstd./Fehlstd. (gesamt) | I3: =C3+SUM(I6:I35) -> 0.5
A5: Tag | B5: Datum | C5: Status | D5: Anfang | E5: Pause | F5: Ende | G5: Gearbeitet | H5: Tagessoll | I5: Differenz
A6: =TEXT(B6,"TTT") -> Mi | B6: =DATE($E$1,$F$1,ROW()-5) -> 41578 | C6: {=IF(OR(EXACT(B6,Vorgabe!$D$2:'Vorgabe'!$D$30)),"Feiertag",IF(A6="Sa","Wochenende",IF(A6="So","Wochenende","")))} | E6: =IF(D6="",0,Vorgabe!$B$4) -> 0 | G6: =IF(D6="",0,IF(F6>D6,F6-D6-E6,1+F6-D6-E6)) -> 0 | H6: =IF(C6="Fehlzeit",Vorgabe!$B$3,IF(C6="",Vorgabe!$B$3,)) -> 0.33333333 | I6: =IF(C6="Fehlzeit",G6-H6,IF(D6="",0,IF(G6<>0,G6-H6,))) -> 0
A7: =TEXT(B7,"TTT") -> Do | B7: =DATE($E$1,$F$1,ROW()-5) -> 41579 | C7: {=IF(OR(EXACT(B7,Vorgabe!$D$2:'Vorgabe'!$D$30)),"Feiertag",IF(A7="Sa","Wochenende",IF(A7="So","Wochenende","")))} | E7: =IF(D7="",0,Vorgabe!$B$4) -> 0 | G7: =IF(D7="",0,IF(F7>D7,F7-D7-E7,1+F7-D7-E7)) -> 0 | H7: =IF(C7="Fehlzeit",Vorgabe!$B$3,IF(C7="",Vorgabe!$B$3,)) -> 0.33333333 | I7: =IF(C7="Fehlzeit",G7-H7,IF(D7="",0,IF(G7<>0,G7-H7,))) -> 0
A8: =TEXT(B8,"TTT") -> Fr | B8: =DATE($E$1,$F$1,ROW()-5) -> 41580 | C8: {=IF(OR(EXACT(B8,Vorgabe!$D$2:'Vorgabe'!$D$30)),"Feiertag",IF(A8="Sa","Wochenende",IF(A8="So","Wochenende","")))} | E8: =IF(D8="",0,Vorgabe!$B$4) -> 0 | G8: =IF(D8="",0,IF(F8>D8,F8-D8-E8,1+F8-D8-E8)) -> 0 | H8: =IF(C8="Fehlzeit",Vorgabe!$B$3,IF(C8="",Vorgabe!$B$3,)) -> 0.33333333 | I8: =IF(C8="Fehlzeit",G8-H8,IF(D8="",0,IF(G8<>0,G8-H8,))) -> 0
A9: =TEXT(B9,"TTT") -> Sa | B9: =DATE($E$1,$F$1,ROW()-5) -> 41581 | C9: {=IF(OR(EXACT(B9,Vorgabe!$D$2:'Vorgabe'!$D$30)),"Feiertag",IF(A9="Sa","Wochenende",IF(A9="So","Wochenende","")))} -> Wochenende | E9: =IF(D9="",0,Vorgabe!$B$4) -> 0 | G9: =IF(D9="",0,IF(F9>D9,F9-D9-E9,1+F9-D9-E9)) -> 0 | H9: =IF(C9="Fehlzeit",Vorgabe!$B$3,IF(C9="",Vorgabe!$B$3,)) -> 0 | I9: =IF(C9="Fehlzeit",G9-H9,IF(D9="",0,IF(G9<>0,G9-H9,))) -> 0
A10: =TEXT(B10,"TTT") -> So | B10: =DATE($E$1,$F$1,ROW()-5) -> 41582 | C10: {=IF(OR(EXACT(B10,Vorgabe!$D$2:'Vorgabe'!$D$30)),"Feiertag",IF(A10="Sa","Wochenende",IF(A10="So","Wochenende","")))} -> Wochenende | E10: =IF(D10="",0,Vorgabe!$B$4) -> 0 | G10: =IF(D10="",0,IF(F10>D10,F10-D10-E10,1+F10-D10-E10)) -> 0 | H10: =IF(C10="Fehlzeit",Vorgabe!$B$3,IF(C10="",Vorgabe!$B$3,)) -> 0 | I10: =IF(C10="Fehlzeit",G10-H10,IF(D10="",0,IF(G10<>0,G10-H10,))) -> 0
A11: =TEXT(B11,"TTT") -> Mo | B11: =DATE($E$1,$F$1,ROW()-5) -> 41583 | C11: {=IF(OR(EXACT(B11,Vorgabe!$D$2:'Vorgabe'!$D$30)),"Feiertag",IF(A11="Sa","Wochenende",IF(A11="So","Wochenende","")))} | E11: =IF(D11="",0,Vorgabe!$B$4) -> 0 | G11: =IF(D11="",0,IF(F11>D11,F11-D11-E11,1+F11-D11-E11)) -> 0 | H11: =IF(C11="Fehlzeit",Vorgabe!$B$3,IF(C11="",Vorgabe!$B$3,)) -> 0.33333333 | I11: =IF(C11="Fehlzeit",G11-H11,IF(D11="",0,IF(G11<>0,G11-H11,))) -> 0
A12: =TEXT(B12,"TTT") -> Di | B12: =DATE($E$1,$F$1,ROW()-5) -> 41584 | C12: {=IF(OR(EXACT(B12,Vorgabe!$D$2:'Vorgabe'!$D$30)),"Feiertag",IF(A12="Sa","Wochenende",IF(A12="So","Wochenende","")))} | E12: =IF(D12="",0,Vorgabe!$B$4) -> 0 | G12: =IF(D12="",0,IF(F12>D12,F12-D12-E12,1+F12-D12-E12)) -> 0 | H12: =IF(C12="Fehlzeit",Vorgabe!$B$3,IF(C12="",Vorgabe!$B$3,)) -> 0.33333333 | I12: =IF(C12="Fehlzeit",G12-H12,IF(D12="",0,IF(G12<>0,G12-H12,))) -> 0
A13: =TEXT(B13,"TTT") -> Mi | B13: =DATE($E$1,$F$1,ROW()-5) -> 41585 | C13: {=IF(OR(EXACT(B13,Vorgabe!$D$2:'Vorgabe'!$D$30)),"Feiertag",IF(A13="Sa","Wochenende",IF(A13="So","Wochenende","")))} | E13: =IF(D13="",0,Vorgabe!$B$4) -> 0 | G13: =IF(D13="",0,IF(F13>D13,F13-D13-E13,1+F13-D13-E13)) -> 0 | H13: =IF(C13="Fehlzeit",Vorgabe!$B$3,IF(C13="",Vorgabe!$B$3,)) -> 0.33333333 | I13: =IF(C13="Fehlzeit",G13-H13,IF(D13="",0,IF(G13<>0,G13-H13,))) -> 0
A14: =TEXT(B14,"TTT") -> Do | B14: =DATE($E$1,$F$1,ROW()-5) -> 41586 | C14: {=IF(OR(EXACT(B14,Vorgabe!$D$2:'Vorgabe'!$D$30)),"Feiertag",IF(A14="Sa","Wochenende",IF(A14="So","Wochenende","")))} | E14: =IF(D14="",0,Vorgabe!$B$4) -> 0 | G14: =IF(D14="",0,IF(F14>D14,F14-D14-E14,1+F14-D14-E14)) -> 0 | H14: =IF(C14="Fehlzeit",Vorgabe!$B$3,IF(C14="",Vorgabe!$B$3,)) -> 0.33333333 | I14: =IF(C14="Fehlzeit",G14-H14,IF(D14="",0,IF(G14<>0,G14-H14,))) -> 0
A15: =TEXT(B15,"TTT") -> Fr | B15: =DATE($E$1,$F$1,ROW()-5) -> 41587 | C15: {=IF(OR(EXACT(B15,Vorgabe!$D$2:'Vorgabe'!$D$30)),"Feiertag",IF(A15="Sa","Wochenende",IF(A15="So","Wochenende","")))} | E15: =IF(D15="",0,Vorgabe!$B$4) -> 0 | G15: =IF(D15="",0,IF(F15>D15,F15-D15-E15,1+F15-D15-E15)) -> 0 | H15: =IF(C15="Fehlzeit",Vorgabe!$B$3,IF(C15="",Vorgabe!$B$3,)) -> 0.33333333 | I15: =IF(C15="Fehlzeit",G15-H15,IF(D15="",0,IF(G15<>0,G15-H15,))) -> 0
A16: =TEXT(B16,"TTT") -> Sa | B16: =DATE($E$1,$F$1,ROW()-5) -> 41588 | C16: {=IF(OR(EXACT(B16,Vorgabe!$D$2:'Vorgabe'!$D$30)),"Feiertag",IF(A16="Sa","Wochenende",IF(A16="So","Wochenende","")))} -> Wochenende | E16: =IF(D16="",0,Vorgabe!$B$4) -> 0 | G16: =IF(D16="",0,IF(F16>D16,F16-D16-E16,1+F16-D16-E16)) -> 0 | H16: =IF(C16="Fehlzeit",Vorgabe!$B$3,IF(C16="",Vorgabe!$B$3,)) -> 0 | I16: =IF(C16="Fehlzeit",G16-H16,IF(D16="",0,IF(G16<>0,G16-H16,))) -> 0
A17: =TEXT(B17,"TTT") -> So | B17: =DATE($E$1,$F$1,ROW()-5) -> 41589 | C17: {=IF(OR(EXACT(B17,Vorgabe!$D$2:'Vorgabe'!$D$30)),"Feiertag",IF(A17="Sa","Wochenende",IF(A17="So","Wochenende","")))} -> Wochenende | E17: =IF(D17="",0,Vorgabe!$B$4) -> 0 | G17: =IF(D17="",0,IF(F17>D17,F17-D17-E17,1+F17-D17-E17)) -> 0 | H17: =IF(C17="Fehlzeit",Vorgabe!$B$3,IF(C17="",Vorgabe!$B$3,)) -> 0 | I17: =IF(C17="Fehlzeit",G17-H17,IF(D17="",0,IF(G17<>0,G17-H17,))) -> 0
... A35: =TEXT(B35,"TTT") -> Do | B35: =DATE($E$1,$F$1,ROW()-5) -> 41607 | C35: {=IF(OR(EXACT(B35,Vorgabe!$D$2:'Vorgabe'!$D$30)),"Feiertag",IF(A35="Sa","Wochenende",IF(A35="So","Wochenende","")))} | E35: =IF(D35="",0,Vorgabe!$B$4) -> 0 | G35: =IF(D35="",0,IF(F35>D35,F35-D35-E35,1+F35-D35-E35)) -> 0 | H35: =IF(C35="Fehlzeit",Vorgabe!$B$3,IF(C35="",Vorgabe!$B$3,)) -> 0.33333333 | I35: =IF(C35="Fehlzeit",G35-H35,IF(D35="",0,IF(G35<>0,G35-H35,))) -> 0

Sheet Dezember
A1: Arbeitszeitverwaltung | D1: =DATE(E1,F1,1) -> 41608 | E1: =Vorgabe!B2 -> 2017 | F1: 12 | G1: Gearbeitete Std. (Monat) | I1: =SUM(G6:G36) -> 0
G2: Überstd./Fehlstd. (Monat) | I2: =SUM(I6:I36) -> 0
B3: Übertrag | C3: =INDIRECT(TEXT(D1-1,"MMMM")&"!I3") -> 0.5 | G3: Überstd./Fehlstd. (gesamt) | I3: =C3+SUM(I6:I36) -> 0.5
A5: Tag | B5: Datum | C5: Status | D5: Anfang | E5: Pause | F5: Ende | G5: Gearbeitet | H5: Tagessoll | I5: Differenz
A6: =TEXT(B6,"TTT") -> Fr | B6: =DATE($E$1,$F$1,ROW()-5) -> 41608 | C6: {=IF(OR(EXACT(B6,Vorgabe!$D$2:'Vorgabe'!$D$30)),"Feiertag",IF(A6="Sa","Wochenende",IF(A6="So","Wochenende","")))} | E6: =IF(D6="",0,Vorgabe!$B$4) -> 0 | G6: =IF(D6="",0,IF(F6>D6,F6-D6-E6,1+F6-D6-E6)) -> 0 | H6: =IF(C6="Fehlzeit",Vorgabe!$B$3,IF(C6="",Vorgabe!$B$3,)) -> 0.33333333 | I6: =IF(C6="Fehlzeit",G6-H6,IF(D6="",0,IF(G6<>0,G6-H6,))) -> 0
A7: =TEXT(B7,"TTT") -> Sa | B7: =DATE($E$1,$F$1,ROW()-5) -> 41609 | C7: {=IF(OR(EXACT(B7,Vorgabe!$D$2:'Vorgabe'!$D$30)),"Feiertag",IF(A7="Sa","Wochenende",IF(A7="So","Wochenende","")))} -> Wochenende | E7: =IF(D7="",0,Vorgabe!$B$4) -> 0 | G7: =IF(D7="",0,IF(F7>D7,F7-D7-E7,1+F7-D7-E7)) -> 0 | H7: =IF(C7="Fehlzeit",Vorgabe!$B$3,IF(C7="",Vorgabe!$B$3,)) -> 0 | I7: =IF(C7="Fehlzeit",G7-H7,IF(D7="",0,IF(G7<>0,G7-H7,))) -> 0
A8: =TEXT(B8,"TTT") -> So | B8: =DATE($E$1,$F$1,ROW()-5) -> 41610 | C8: {=IF(OR(EXACT(B8,Vorgabe!$D$2:'Vorgabe'!$D$30)),"Feiertag",IF(A8="Sa","Wochenende",IF(A8="So","Wochenende","")))} -> Wochenende | E8: =IF(D8="",0,Vorgabe!$B$4) -> 0 | G8: =IF(D8="",0,IF(F8>D8,F8-D8-E8,1+F8-D8-E8)) -> 0 | H8: =IF(C8="Fehlzeit",Vorgabe!$B$3,IF(C8="",Vorgabe!$B$3,)) -> 0 | I8: =IF(C8="Fehlzeit",G8-H8,IF(D8="",0,IF(G8<>0,G8-H8,))) -> 0
A9: =TEXT(B9,"TTT") -> Mo | B9: =DATE($E$1,$F$1,ROW()-5) -> 41611 | C9: {=IF(OR(EXACT(B9,Vorgabe!$D$2:'Vorgabe'!$D$30)),"Feiertag",IF(A9="Sa","Wochenende",IF(A9="So","Wochenende","")))} | E9: =IF(D9="",0,Vorgabe!$B$4) -> 0 | G9: =IF(D9="",0,IF(F9>D9,F9-D9-E9,1+F9-D9-E9)) -> 0 | H9: =IF(C9="Fehlzeit",Vorgabe!$B$3,IF(C9="",Vorgabe!$B$3,)) -> 0.33333333 | I9: =IF(C9="Fehlzeit",G9-H9,IF(D9="",0,IF(G9<>0,G9-H9,))) -> 0
A10: =TEXT(B10,"TTT") -> Di | B10: =DATE($E$1,$F$1,ROW()-5) -> 41612 | C10: {=IF(OR(EXACT(B10,Vorgabe!$D$2:'Vorgabe'!$D$30)),"Feiertag",IF(A10="Sa","Wochenende",IF(A10="So","Wochenende","")))} | E10: =IF(D10="",0,Vorgabe!$B$4) -> 0 | G10: =IF(D10="",0,IF(F10>D10,F10-D10-E10,1+F10-D10-E10)) -> 0 | H10: =IF(C10="Fehlzeit",Vorgabe!$B$3,IF(C10="",Vorgabe!$B$3,)) -> 0.33333333 | I10: =IF(C10="Fehlzeit",G10-H10,IF(D10="",0,IF(G10<>0,G10-H10,))) -> 0
A11: =TEXT(B11,"TTT") -> Mi | B11: =DATE($E$1,$F$1,ROW()-5) -> 41613 | C11: {=IF(OR(EXACT(B11,Vorgabe!$D$2:'Vorgabe'!$D$30)),"Feiertag",IF(A11="Sa","Wochenende",IF(A11="So","Wochenende","")))} | E11: =IF(D11="",0,Vorgabe!$B$4) -> 0 | G11: =IF(D11="",0,IF(F11>D11,F11-D11-E11,1+F11-D11-E11)) -> 0 | H11: =IF(C11="Fehlzeit",Vorgabe!$B$3,IF(C11="",Vorgabe!$B$3,)) -> 0.33333333 | I11: =IF(C11="Fehlzeit",G11-H11,IF(D11="",0,IF(G11<>0,G11-H11,))) -> 0
A12: =TEXT(B12,"TTT") -> Do | B12: =DATE($E$1,$F$1,ROW()-5) -> 41614 | C12: {=IF(OR(EXACT(B12,Vorgabe!$D$2:'Vorgabe'!$D$30)),"Feiertag",IF(A12="Sa","Wochenende",IF(A12="So","Wochenende","")))} | E12: =IF(D12="",0,Vorgabe!$B$4) -> 0 | G12: =IF(D12="",0,IF(F12>D12,F12-D12-E12,1+F12-D12-E12)) -> 0 | H12: =IF(C12="Fehlzeit",Vorgabe!$B$3,IF(C12="",Vorgabe!$B$3,)) -> 0.33333333 | I12: =IF(C12="Fehlzeit",G12-H12,IF(D12="",0,IF(G12<>0,G12-H12,))) -> 0
A13: =TEXT(B13,"TTT") -> Fr | B13: =DATE($E$1,$F$1,ROW()-5) -> 41615 | C13: {=IF(OR(EXACT(B13,Vorgabe!$D$2:'Vorgabe'!$D$30)),"Feiertag",IF(A13="Sa","Wochenende",IF(A13="So","Wochenende","")))} | E13: =IF(D13="",0,Vorgabe!$B$4) -> 0 | G13: =IF(D13="",0,IF(F13>D13,F13-D13-E13,1+F13-D13-E13)) -> 0 | H13: =IF(C13="Fehlzeit",Vorgabe!$B$3,IF(C13="",Vorgabe!$B$3,)) -> 0.33333333 | I13: =IF(C13="Fehlzeit",G13-H13,IF(D13="",0,IF(G13<>0,G13-H13,))) -> 0
A14: =TEXT(B14,"TTT") -> Sa | B14: =DATE($E$1,$F$1,ROW()-5) -> 41616 | C14: {=IF(OR(EXACT(B14,Vorgabe!$D$2:'Vorgabe'!$D$30)),"Feiertag",IF(A14="Sa","Wochenende",IF(A14="So","Wochenende","")))} -> Wochenende | E14: =IF(D14="",0,Vorgabe!$B$4) -> 0 | G14: =IF(D14="",0,IF(F14>D14,F14-D14-E14,1+F14-D14-E14)) -> 0 | H14: =IF(C14="Fehlzeit",Vorgabe!$B$3,IF(C14="",Vorgabe!$B$3,)) -> 0 | I14: =IF(C14="Fehlzeit",G14-H14,IF(D14="",0,IF(G14<>0,G14-H14,))) -> 0
A15: =TEXT(B15,"TTT") -> So | B15: =DATE($E$1,$F$1,ROW()-5) -> 41617 | C15: {=IF(OR(EXACT(B15,Vorgabe!$D$2:'Vorgabe'!$D$30)),"Feiertag",IF(A15="Sa","Wochenende",IF(A15="So","Wochenende","")))} -> Wochenende | E15: =IF(D15="",0,Vorgabe!$B$4) -> 0 | G15: =IF(D15="",0,IF(F15>D15,F15-D15-E15,1+F15-D15-E15)) -> 0 | H15: =IF(C15="Fehlzeit",Vorgabe!$B$3,IF(C15="",Vorgabe!$B$3,)) -> 0 | I15: =IF(C15="Fehlzeit",G15-H15,IF(D15="",0,IF(G15<>0,G15-H15,))) -> 0
A16: =TEXT(B16,"TTT") -> Mo | B16: =DATE($E$1,$F$1,ROW()-5) -> 41618 | C16: {=IF(OR(EXACT(B16,Vorgabe!$D$2:'Vorgabe'!$D$30)),"Feiertag",IF(A16="Sa","Wochenende",IF(A16="So","Wochenende","")))} | E16: =IF(D16="",0,Vorgabe!$B$4) -> 0 | G16: =IF(D16="",0,IF(F16>D16,F16-D16-E16,1+F16-D16-E16)) -> 0 | H16: =IF(C16="Fehlzeit",Vorgabe!$B$3,IF(C16="",Vorgabe!$B$3,)) -> 0.33333333 | I16: =IF(C16="Fehlzeit",G16-H16,IF(D16="",0,IF(G16<>0,G16-H16,))) -> 0
A17: =TEXT(B17,"TTT") -> Di | B17: =DATE($E$1,$F$1,ROW()-5) -> 41619 | C17: {=IF(OR(EXACT(B17,Vorgabe!$D$2:'Vorgabe'!$D$30)),"Feiertag",IF(A17="Sa","Wochenende",IF(A17="So","Wochenende","")))} | E17: =IF(D17="",0,Vorgabe!$B$4) -> 0 | G17: =IF(D17="",0,IF(F17>D17,F17-D17-E17,1+F17-D17-E17)) -> 0 | H17: =IF(C17="Fehlzeit",Vorgabe!$B$3,IF(C17="",Vorgabe!$B$3,)) -> 0.33333333 | I17: =IF(C17="Fehlzeit",G17-H17,IF(D17="",0,IF(G17<>0,G17-H17,))) -> 0
... A36: =TEXT(B36,"TTT") -> So | B36: =DATE($E$1,$F$1,ROW()-5) -> 41638 | C36: {=IF(OR(EXACT(B36,Vorgabe!$D$2:'Vorgabe'!$D$30)),"Feiertag",IF(A36="Sa","Wochenende",IF(A36="So","Wochenende","")))} -> Wochenende | E36: =IF(D36="",0,Vorgabe!$B$4) -> 0 | G36: =IF(D36="",0,IF(F36>D36,F36-D36-E36,1+F36-D36-E36)) -> 0 | H36: =IF(C36="Fehlzeit",Vorgabe!$B$3,IF(C36="",Vorgabe!$B$3,)) -> 0 | I36: =IF(C36="Fehlzeit",G36-H36,IF(D36="",0,IF(G36<>0,G36-H36,))) -> 0
