Workbook

Sheet Januar
A1: Haushaltsbuch
A7: 43101
B8: Kostenaufteilung
A10: Datum | B10: Lebensmittel | C10: Kleidung | D10: Kfz-Kosten | E10: Mietkosten | F10: Freizeit | G10: Sonstiges | H10: Gesamt
A11: =A7 -> 43101 | H11: =SUM(B11:G11) -> 0
A12: =A11+1 -> 43102 | H12: =SUM(B12:G12) -> 0
A13: =A12+1 -> 43103 | H13: =SUM(B13:G13) -> 0
A14: =A13+1 -> 43104 | H14: =SUM(B14:G14) -> 0
A15: =A14+1 -> 43105 | H15: =SUM(B15:G15) -> 0
A16: =A15+1 -> 43106 | H16: =SUM(B16:G16) -> 0
A17: =A16+1 -> 43107 | H17: =SUM(B17:G17) -> 0
A18: =A17+1 -> 43108 | H18: =SUM(B18:G18) -> 0
A19: =A18+1 -> 43109 | H19: =SUM(B19:G19) -> 0
A20: =A19+1 -> 43110 | H20: =SUM(B20:G20) -> 0
A21: =A20+1 -> 43111 | H21: =SUM(B21:G21) -> 0
A22: =A21+1 -> 43112 | H22: =SUM(B22:G22) -> 0
A23: =A22+1 -> 43113 | H23: =SUM(B23:G23) -> 0
... A41: =A40+1 -> 43131 | H41: =SUM(B41:G41) -> 0
B42: =SUM(B11:B41) -> 0 | C42: =SUM(C11:C41) -> 0 | D42: =SUM(D11:D41) -> 0 | E42: =SUM(E11:E41) -> 0 | F42: =SUM(F11:F41) -> 0 | G42: =SUM(G11:G41) -> 0 | H42: =SUM(H11:H41) -> 0

Sheet Februar
A1: Haushaltsbuch
A7: 43132
B8: Kostenaufteilung
A10: Datum | B10: Lebensmittel | C10: Kleidung | D10: Kfz-Kosten | E10: Mietkosten | F10: Freizeit | G10: Sonstiges | H10: Gesamt
A11: =A7 -> 43132 | H11: =SUM(B11:G11) -> 0
A12: =A11+1 -> 43133 | H12: =SUM(B12:G12) -> 0
A13: =A12+1 -> 43134 | H13: =SUM(B13:G13) -> 0
A14: =A13+1 -> 43135 | H14: =SUM(B14:G14) -> 0
A15: =A14+1 -> 43136 | H15: =SUM(B15:G15) -> 0
A16: =A15+1 -> 43137 | H16: =SUM(B16:G16) -> 0
A17: =A16+1 -> 43138 | H17: =SUM(B17:G17) -> 0
A18: =A17+1 -> 43139 | H18: =SUM(B18:G18) -> 0
A19: =A18+1 -> 43140 | H19: =SUM(B19:G19) -> 0
A20: =A19+1 -> 43141 | H20: =SUM(B20:G20) -> 0
A21: =A20+1 -> 43142 | H21: =SUM(B21:G21) -> 0
A22: =A21+1 -> 43143 | H22: =SUM(B22:G22) -> 0
A23: =A22+1 -> 43144 | H23: =SUM(B23:G23) -> 0
... A38: =A37+1 -> 43159 | H38: =SUM(B38:G38) -> 0
B39: =SUM(B11:B38) -> 0 | C39: =SUM(C11:C38) -> 0 | D39: =SUM(D11:D38) -> 0 | E39: =SUM(E11:E38) -> 0 | F39: =SUM(F11:F38) -> 0 | G39: =SUM(G11:G38) -> 0 | H39: =SUM(H11:H38) -> 0

Sheet März
A1: Haushaltsbuch
A7: 43160
B8: Kostenaufteilung
A10: Datum | B10: Lebensmittel | C10: Kleidung | D10: Kfz-Kosten | E10: Mietkosten | F10: Freizeit | G10: Sonstiges | H10: Gesamt
A11: =A7 -> 43160 | H11: =SUM(B11:G11) -> 0
A12: =A11+1 -> 43161 | H12: =SUM(B12:G12) -> 0
A13: =A12+1 -> 43162 | H13: =SUM(B13:G13) -> 0
A14: =A13+1 -> 43163 | H14: =SUM(B14:G14) -> 0
A15: =A14+1 -> 43164 | H15: =SUM(B15:G15) -> 0
A16: =A15+1 -> 43165 | H16: =SUM(B16:G16) -> 0
A17: =A16+1 -> 43166 | H17: =SUM(B17:G17) -> 0
A18: =A17+1 -> 43167 | H18: =SUM(B18:G18) -> 0
A19: =A18+1 -> 43168 | H19: =SUM(B19:G19) -> 0
A20: =A19+1 -> 43169 | H20: =SUM(B20:G20) -> 0
A21: =A20+1 -> 43170 | H21: =SUM(B21:G21) -> 0
A22: =A21+1 -> 43171 | H22: =SUM(B22:G22) -> 0
A23: =A22+1 -> 43172 | H23: =SUM(B23:G23) -> 0
... A41: =A40+1 -> 43190 | H41: =SUM(B41:G41) -> 0
B42: =SUM(B11:B41) -> 0 | C42: =SUM(C11:C41) -> 0 | D42: =SUM(D11:D41) -> 0 | E42: =SUM(E11:E41) -> 0 | F42: =SUM(F11:F41) -> 0 | G42: =SUM(G11:G41) -> 0 | H42: =SUM(H11:H41) -> 0

Sheet April
A1: Haushaltsbuch
A7: 43191
B8: Kostenaufteilung
A10: Datum | B10: Lebensmittel | C10: Kleidung | D10: Kfz-Kosten | E10: Mietkosten | F10: Freizeit | G10: Sonstiges | H10: Gesamt
A11: =A7 -> 43191 | H11: =SUM(B11:G11) -> 0
A12: =A11+1 -> 43192 | H12: =SUM(B12:G12) -> 0
A13: =A12+1 -> 43193 | H13: =SUM(B13:G13) -> 0
A14: =A13+1 -> 43194 | H14: =SUM(B14:G14) -> 0
A15: =A14+1 -> 43195 | H15: =SUM(B15:G15) -> 0
A16: =A15+1 -> 43196 | H16: =SUM(B16:G16) -> 0
A17: =A16+1 -> 43197 | H17: =SUM(B17:G17) -> 0
A18: =A17+1 -> 43198 | H18: =SUM(B18:G18) -> 0
A19: =A18+1 -> 43199 | H19: =SUM(B19:G19) -> 0
A20: =A19+1 -> 43200 | H20: =SUM(B20:G20) -> 0
A21: =A20+1 -> 43201 | H21: =SUM(B21:G21) -> 0
A22: =A21+1 -> 43202 | H22: =SUM(B22:G22) -> 0
A23: =A22+1 -> 43203 | H23: =SUM(B23:G23) -> 0
... A40: =A39+1 -> 43220 | H40: =SUM(B40:G40) -> 0
B41: =SUM(B11:B40) -> 0 | C41: =SUM(C11:C40) -> 0 | D41: =SUM(D11:D40) -> 0 | E41: =SUM(E11:E40) -> 0 | F41: =SUM(F11:F40) -> 0 | G41: =SUM(G11:G40) -> 0 | H41: =SUM(H11:H40) -> 0

Sheet Mai
A1: Haushaltsbuch
A7: 43221
B8: Kostenaufteilung
A10: Datum | B10: Lebensmittel | C10: Kleidung | D10: Kfz-Kosten | E10: Mietkosten | F10: Freizeit | G10: Sonstiges | H10: Gesamt
A11: =A7 -> 43221 | H11: =SUM(B11:G11) -> 0
A12: =A11+1 -> 43222 | H12: =SUM(B12:G12) -> 0
A13: =A12+1 -> 43223 | H13: =SUM(B13:G13) -> 0
A14: =A13+1 -> 43224 | H14: =SUM(B14:G14) -> 0
A15: =A14+1 -> 43225 | H15: =SUM(B15:G15) -> 0
A16: =A15+1 -> 43226 | H16: =SUM(B16:G16) -> 0
A17: =A16+1 -> 43227 | H17: =SUM(B17:G17) -> 0
A18: =A17+1 -> 43228 | H18: =SUM(B18:G18) -> 0
A19: =A18+1 -> 43229 | H19: =SUM(B19:G19) -> 0
A20: =A19+1 -> 43230 | H20: =SUM(B20:G20) -> 0
A21: =A20+1 -> 43231 | H21: =SUM(B21:G21) -> 0
A22: =A21+1 -> 43232 | H22: =SUM(B22:G22) -> 0
A23: =A22+1 -> 43233 | H23: =SUM(B23:G23) -> 0
... A41: =A40+1 -> 43251 | H41: =SUM(B41:G41) -> 0
B42: =SUM(B11:B41) -> 0 | C42: =SUM(C11:C41) -> 0 | D42: =SUM(D11:D41) -> 0 | E42: =SUM(E11:E41) -> 0 | F42: =SUM(F11:F41) -> 0 | G42: =SUM(G11:G41) -> 0 | H42: =SUM(H11:H41) -> 0

Sheet Juni
A1: Haushaltsbuch
A7: 43252
B8: Kostenaufteilung
A10: Datum | B10: Lebensmittel | C10: Kleidung | D10: Kfz-Kosten | E10: Mietkosten | F10: Freizeit | G10: Sonstiges | H10: Gesamt
A11: =A7 -> 43252 | H11: =SUM(B11:G11) -> 0
A12: =A11+1 -> 43253 | H12: =SUM(B12:G12) -> 0
A13: =A12+1 -> 43254 | H13: =SUM(B13:G13) -> 0
A14: =A13+1 -> 43255 | H14: =SUM(B14:G14) -> 0
A15: =A14+1 -> 43256 | H15: =SUM(B15:G15) -> 0
A16: =A15+1 -> 43257 | H16: =SUM(B16:G16) -> 0
A17: =A16+1 -> 43258 | H17: =SUM(B17:G17) -> 0
A18: =A17+1 -> 43259 | H18: =SUM(B18:G18) -> 0
A19: =A18+1 -> 43260 | H19: =SUM(B19:G19) -> 0
A20: =A19+1 -> 43261 | H20: =SUM(B20:G20) -> 0
A21: =A20+1 -> 43262 | H21: =SUM(B21:G21) -> 0
A22: =A21+1 -> 43263 | H22: =SUM(B22:G22) -> 0
A23: =A22+1 -> 43264 | H23: =SUM(B23:G23) -> 0
... A40: =A39+1 -> 43281 | H40: =SUM(B40:G40) -> 0
B41: =SUM(B11:B40) -> 0 | C41: =SUM(C11:C40) -> 0 | D41: =SUM(D11:D40) -> 0 | E41: =SUM(E11:E40) -> 0 | F41: =SUM(F11:F40) -> 0 | G41: =SUM(G11:G40) -> 0 | H41: =SUM(H11:H40) -> 0

Sheet Juli
A1: Haushaltsbuch
A7: 43282
B8: Kostenaufteilung
A10: Datum | B10: Lebensmittel | C10: Kleidung | D10: Kfz-Kosten | E10: Mietkosten | F10: Freizeit | G10: Sonstiges | H10: Gesamt
A11: =A7 -> 43282 | H11: =SUM(B11:G11) -> 0
A12: =A11+1 -> 43283 | H12: =SUM(B12:G12) -> 0
A13: =A12+1 -> 43284 | H13: =SUM(B13:G13) -> 0
A14: =A13+1 -> 43285 | H14: =SUM(B14:G14) -> 0
A15: =A14+1 -> 43286 | H15: =SUM(B15:G15) -> 0
A16: =A15+1 -> 43287 | H16: =SUM(B16:G16) -> 0
A17: =A16+1 -> 43288 | H17: =SUM(B17:G17) -> 0
A18: =A17+1 -> 43289 | H18: =SUM(B18:G18) -> 0
A19: =A18+1 -> 43290 | H19: =SUM(B19:G19) -> 0
A20: =A19+1 -> 43291 | H20: =SUM(B20:G20) -> 0
A21: =A20+1 -> 43292 | H21: =SUM(B21:G21) -> 0
A22: =A21+1 -> 43293 | H22: =SUM(B22:G22) -> 0
A23: =A22+1 -> 43294 | H23: =SUM(B23:G23) -> 0
... A41: =A40+1 -> 43312 | H41: =SUM(B41:G41) -> 0
B42: =SUM(B11:B41) -> 0 | C42: =SUM(C11:C41) -> 0 | D42: =SUM(D11:D41) -> 0 | E42: =SUM(E11:E41) -> 0 | F42: =SUM(F11:F41) -> 0 | G42: =SUM(G11:G41) -> 0 | H42: =SUM(H11:H41) -> 0

Sheet August
A1: Haushaltsbuch
A7: 43313
B8: Kostenaufteilung
A10: Datum | B10: Lebensmittel | C10: Kleidung | D10: Kfz-Kosten | E10: Mietkosten | F10: Freizeit | G10: Sonstiges | H10: Gesamt
A11: =A7 -> 43313 | H11: =SUM(B11:G11) -> 0
A12: =A11+1 -> 43314 | H12: =SUM(B12:G12) -> 0
A13: =A12+1 -> 43315 | H13: =SUM(B13:G13) -> 0
A14: =A13+1 -> 43316 | H14: =SUM(B14:G14) -> 0
A15: =A14+1 -> 43317 | H15: =SUM(B15:G15) -> 0
A16: =A15+1 -> 43318 | H16: =SUM(B16:G16) -> 0
A17: =A16+1 -> 43319 | H17: =SUM(B17:G17) -> 0
A18: =A17+1 -> 43320 | H18: =SUM(B18:G18) -> 0
A19: =A18+1 -> 43321 | H19: =SUM(B19:G19) -> 0
A20: =A19+1 -> 43322 | H20: =SUM(B20:G20) -> 0
A21: =A20+1 -> 43323 | H21: =SUM(B21:G21) -> 0
A22: =A21+1 -> 43324 | H22: =SUM(B22:G22) -> 0
A23: =A22+1 -> 43325 | H23: =SUM(B23:G23) -> 0
... A41: =A40+1 -> 43343 | H41: =SUM(B41:G41) -> 0
B42: =SUM(B11:B41) -> 0 | C42: =SUM(C11:C41) -> 0 | D42: =SUM(D11:D41) -> 0 | E42: =SUM(E11:E41) -> 0 | F42: =SUM(F11:F41) -> 0 | G42: =SUM(G11:G41) -> 0 | H42: =SUM(H11:H41) -> 0

Sheet September
A1: Haushaltsbuch
A7: 43344
B8: Kostenaufteilung
A10: Datum | B10: Lebensmittel | C10: Kleidung | D10: Kfz-Kosten | E10: Mietkosten | F10: Freizeit | G10: Sonstiges | H10: Gesamt
A11: =A7 -> 43344 | H11: =SUM(B11:G11) -> 0
A12: =A11+1 -> 43345
A13: =A12+1 -> 43346
A14: =A13+1 -> 43347
A15: =A14+1 -> 43348
A16: =A15+1 -> 43349
A17: =A16+1 -> 43350
A18: =A17+1 -> 43351
A19: =A18+1 -> 43352 | H19: =SUM(B19:G19) -> 0
A20: =A19+1 -> 43353 | H20: =SUM(B20:G20) -> 0
A21: =A20+1 -> 43354 | H21: =SUM(B21:G21) -> 0
A22: =A21+1 -> 43355 | H22: =SUM(B22:G22) -> 0
A23: =A22+1 -> 43356 | H23: =SUM(B23:G23) -> 0
A24: =A23+1 -> 43357 | H24: =SUM(B24:G24) -> 0
A25: =A24+1 -> 43358 | H25: =SUM(B25:G25) -> 0
A26: =A25+1 -> 43359 | H26: =SUM(B26:G26) -> 0
A27: =A26+1 -> 43360 | H27: =SUM(B27:G27) -> 0
A28: =A27+1 -> 43361 | H28: =SUM(B28:G28) -> 0
A29: =A28+1 -> 43362 | H29: =SUM(B29:G29) -> 0
A30: =A29+1 -> 43363 | H30: =SUM(B30:G30) -> 0
... A40: =A39+1 -> 43373 | H40: =SUM(B40:G40) -> 0
B41: =SUM(B11:B40) -> 0 | C41: =SUM(C11:C40) -> 0 | D41: =SUM(D11:D40) -> 0 | E41: =SUM(E11:E40) -> 0 | F41: =SUM(F11:F40) -> 0 | G41: =SUM(G11:G40) -> 0 | H41: =SUM(H11:H40) -> 0

Sheet Oktober
A1: Haushaltsbuch
A7: 43374
B8: Kostenaufteilung
A10: Datum | B10: Lebensmittel | C10: Kleidung | D10: Kfz-Kosten | E10: Mietkosten | F10: Freizeit | G10: Sonstiges | H10: Gesamt
A11: =A7 -> 43374 | H11: =SUM(B11:G11) -> 0
A12: =A11+1 -> 43375 | H12: =SUM(B12:G12) -> 0
A13: =A12+1 -> 43376 | H13: =SUM(B13:G13) -> 0
A14: =A13+1 -> 43377 | H14: =SUM(B14:G14) -> 0
A15: =A14+1 -> 43378 | H15: =SUM(B15:G15) -> 0
A16: =A15+1 -> 43379 | H16: =SUM(B16:G16) -> 0
A17: =A16+1 -> 43380 | H17: =SUM(B17:G17) -> 0
A18: =A17+1 -> 43381 | H18: =SUM(B18:G18) -> 0
A19: =A18+1 -> 43382 | H19: =SUM(B19:G19) -> 0
A20: =A19+1 -> 43383 | H20: =SUM(B20:G20) -> 0
A21: =A20+1 -> 43384 | H21: =SUM(B21:G21) -> 0
A22: =A21+1 -> 43385 | H22: =SUM(B22:G22) -> 0
A23: =A22+1 -> 43386 | H23: =SUM(B23:G23) -> 0
... A41: =A40+1 -> 43404 | H41: =SUM(B41:G41) -> 0
B42: =SUM(B11:B41) -> 0 | C42: =SUM(C11:C41) -> 0 | D42: =SUM(D11:D41) -> 0 | E42: =SUM(E11:E41) -> 0 | F42: =SUM(F11:F41) -> 0 | G42: =SUM(G11:G41) -> 0 | H42: =SUM(H11:H41) -> 0

Sheet November
A1: Haushaltsbuch
A7: 43405
B8: Kostenaufteilung
A10: Datum | B10: Lebensmittel | C10: Kleidung | D10: Kfz-Kosten | E10: Mietkosten | F10: Freizeit | G10: Sonstiges | H10: Gesamt
A11: =A7 -> 43405 | H11: =SUM(B11:G11) -> 0
A12: =A11+1 -> 43406 | H12: =SUM(B12:G12) -> 0
A13: =A12+1 -> 43407 | H13: =SUM(B13:G13) -> 0
A14: =A13+1 -> 43408 | H14: =SUM(B14:G14) -> 0
A15: =A14+1 -> 43409 | H15: =SUM(B15:G15) -> 0
A16: =A15+1 -> 43410 | H16: =SUM(B16:G16) -> 0
A17: =A16+1 -> 43411 | H17: =SUM(B17:G17) -> 0
A18: =A17+1 -> 43412 | H18: =SUM(B18:G18) -> 0
A19: =A18+1 -> 43413 | H19: =SUM(B19:G19) -> 0
A20: =A19+1 -> 43414 | H20: =SUM(B20:G20) -> 0
A21: =A20+1 -> 43415 | H21: =SUM(B21:G21) -> 0
A22: =A21+1 -> 43416 | H22: =SUM(B22:G22) -> 0
A23: =A22+1 -> 43417 | H23: =SUM(B23:G23) -> 0
... A40: =A39+1 -> 43434 | H40: =SUM(B40:G40) -> 0
B41: =SUM(B11:B40) -> 0 | C41: =SUM(C11:C40) -> 0 | D41: =SUM(D11:D40) -> 0 | E41: =SUM(E11:E40) -> 0 | F41: =SUM(F11:F40) -> 0 | G41: =SUM(G11:G40) -> 0 | H41: =SUM(H11:H40) -> 0

Sheet Dezember
A1: Haushaltsbuch
A7: 43435
B8: Kostenaufteilung
A10: Datum | B10: Lebensmittel | C10: Kleidung | D10: Kfz-Kosten | E10: Mietkosten | F10: Freizeit | G10: Sonstiges | H10: Gesamt
A11: =A7 -> 43435 | H11: =SUM(B11:G11) -> 0
A12: =A11+1 -> 43436 | H12: =SUM(B12:G12) -> 0
A13: =A12+1 -> 43437 | H13: =SUM(B13:G13) -> 0
A14: =A13+1 -> 43438 | H14: =SUM(B14:G14) -> 0
A15: =A14+1 -> 43439 | H15: =SUM(B15:G15) -> 0
A16: =A15+1 -> 43440 | H16: =SUM(B16:G16) -> 0
A17: =A16+1 -> 43441 | H17: =SUM(B17:G17) -> 0
A18: =A17+1 -> 43442 | H18: =SUM(B18:G18) -> 0
A19: =A18+1 -> 43443 | H19: =SUM(B19:G19) -> 0
A20: =A19+1 -> 43444 | H20: =SUM(B20:G20) -> 0
A21: =A20+1 -> 43445 | H21: =SUM(B21:G21) -> 0
A22: =A21+1 -> 43446 | H22: =SUM(B22:G22) -> 0
A23: =A22+1 -> 43447 | H23: =SUM(B23:G23) -> 0
... A41: =A40+1 -> 43465 | H41: =SUM(B41:G41) -> 0
B42: =SUM(B11:B41) -> 0 | C42: =SUM(C11:C41) -> 0 | D42: =SUM(D11:D41) -> 0 | E42: =SUM(E11:E41) -> 0 | F42: =SUM(F11:F41) -> 0 | G42: =SUM(G11:G41) -> 0 | H42: =SUM(H11:H41) -> 0

Sheet Jahresübersicht
B1: Jahresübersicht
B2: =Januar!A7 -> 43101
B4: Monat | C4: Lebensmittel | D4: Kleidung | E4: Kfz-Kosten | F4: Mietkosten | G4: Freizeit | H4: Sonstiges | I4: Gesamt
B5: Januar | C5: =Januar!B42 -> 0 | D5: =Januar!C42 -> 0 | E5: =Januar!D42 -> 0 | F5: =Januar!E42 -> 0 | G5: =Januar!F42 -> 0 | H5: =Januar!G42 -> 0 | I5: =SUM(C5:H5) -> 0
B6: Februar | C6: =Februar!B39 -> 0 | D6: =Februar!C39 -> 0 | E6: =Februar!D39 -> 0 | F6: =Februar!E39 -> 0 | G6: =Februar!F39 -> 0 | H6: =Februar!G39 -> 0 | I6: =SUM(C6:H6) -> 0
B7: März | C7: =März!B42 -> 0 | D7: =März!C42 -> 0 | E7: =März!D42 -> 0 | F7: =März!E42 -> 0 | G7: =März!F42 -> 0 | H7: =März!G42 -> 0 | I7: =SUM(C7:H7) -> 0
B8: April | C8: =April!B41 -> 0 | D8: =April!C41 -> 0 | E8: =April!D41 -> 0 | F8: =April!E41 -> 0 | G8: =April!F41 -> 0 | H8: =April!G41 -> 0 | I8: =SUM(C8:H8) -> 0
B9: Mai | C9: =Mai!B42 -> 0 | D9: =Mai!C42 -> 0 | E9: =Mai!D42 -> 0 | F9: =Mai!E42 -> 0 | G9: =Mai!F42 -> 0 | H9: =Mai!G42 -> 0 | I9: =SUM(C9:H9) -> 0
B10: Juni | C10: =Juni!B41 -> 0 | D10: =Juni!C41 -> 0 | E10: =Juni!D41 -> 0 | F10: =Juni!E41 -> 0 | G10: =Juni!F41 -> 0 | H10: =Juni!G41 -> 0 | I10: =SUM(C10:H10) -> 0
B11: Juli | C11: =Juli!B42 -> 0 | D11: =Juli!C42 -> 0 | E11: =Juli!D42 -> 0 | F11: =Juli!E42 -> 0 | G11: =Juli!F42 -> 0 | H11: =Juli!G42 -> 0 | I11: =SUM(C11:H11) -> 0
B12: August | C12: =August!B42 -> 0 | D12: =August!C42 -> 0 | E12: =August!D42 -> 0 | F12: =August!E42 -> 0 | G12: =August!F42 -> 0 | H12: =August!G42 -> 0 | I12: =SUM(C12:H12) -> 0
B13: September | C13: =September!B41 -> 0 | D13: =September!C41 -> 0 | E13: =September!D41 -> 0 | F13: =September!E41 -> 0 | G13: =September!F41 -> 0 | H13: =September!G41 -> 0 | I13: =SUM(C13:H13) -> 0
B14: Oktober | C14: =Oktober!B42 -> 0 | D14: =Oktober!C42 -> 0 | E14: =Oktober!D42 -> 0 | F14: =Oktober!E42 -> 0 | G14: =Oktober!F42 -> 0 | H14: =Oktober!G42 -> 0 | I14: =SUM(C14:H14) -> 0
B15: November | C15: =November!B41 -> 0 | D15: =November!C41 -> 0 | E15: =November!D41 -> 0 | F15: =November!E41 -> 0 | G15: =November!F41 -> 0 | H15: =November!G41 -> 0 | I15: =SUM(C15:H15) -> 0
B16: Dezember | C16: =Dezember!B42 -> 0 | D16: =Dezember!C42 -> 0 | E16: =Dezember!D42 -> 0 | F16: =Dezember!E42 -> 0 | G16: =Dezember!F42 -> 0 | H16: =Dezember!G42 -> 0 | I16: =SUM(C16:H16) -> 0
B17: Gesamt | C17: =SUM(C5:C16) -> 0 | D17: =SUM(D5:D16) -> 0 | E17: =SUM(E5:E16) -> 0 | F17: =SUM(F5:F16) -> 0 | G17: =SUM(G5:G16) -> 0 | H17: =SUM(H5:H16) -> 0 | I17: =SUM(I5:I16) -> 0
